BEGIN:VCALENDAR
VERSION:2.0
PRODID:-//Pickleball Is Great - ECPv6.15.18//NONSGML v1.0//EN
CALSCALE:GREGORIAN
METHOD:PUBLISH
X-WR-CALNAME:Pickleball Is Great
X-ORIGINAL-URL:https://pickleballisgreat.com
X-WR-CALDESC:Events for Pickleball Is Great
REFRESH-INTERVAL;VALUE=DURATION:PT1H
X-Robots-Tag:noindex
X-PUBLISHED-TTL:PT1H
BEGIN:VTIMEZONE
TZID:UTC
BEGIN:STANDARD
TZOFFSETFROM:+0000
TZOFFSETTO:+0000
TZNAME:UTC
DTSTART:20230101T000000
END:STANDARD
END:VTIMEZONE
BEGIN:VEVENT
DTSTART;VALUE=DATE:20240420
DTEND;VALUE=DATE:20240422
DTSTAMP:20260424T100949
CREATED:20240308T221331Z
LAST-MODIFIED:20240308T221821Z
UID:4022-1713571200-1713743999@pickleballisgreat.com
SUMMARY:2024 Blazing Paddles 24
DESCRIPTION:Description\nThis tournament is to beneift the Assistance League of Klamath Basin. https://www.klamathbasinassistanceleague.org/ This 501(c)3 nonprofit organization\, provides new clothing and other services to families throughout the Klamath Basin. Members are all volunteers and we fully fund our programs through donations\, fundraisers\, estate sales\, and grants. Please consider making an additional donation at registration. \nRegister: https://pickleballbrackets.com/ptd.aspx?eid=5861380c-7365-43dd-b17e-92bc77c55528 \nVery Fun Round Robin format WITH playoffs for Gold/Silver/Bronze for skills 3.0-4.5+. Age brackets will be determined following the close of registration\, but will strive to be close to under 50\, 50-59\, & 60+ events. \nPlayers will self rate and can not play lower than their USA Pickleball Tournament Player Rating (UTPR). Players may only play up in skill .5 from their profile rating. Tournament Director reserves the right to correct underrated players. \nUsing the X-40 ball \n\n\nAdditional Information\nPayment is required to register – $50 + $10/event\nDeadline – April 11th\nFree unisex t-shirt with registration \nSaturday – Women’s & Men’s Doubles\nSunday – Mixed Doubles \nFormat:\nALL Round Robin games/matches are win by 2.\nMost Round Robins are 1 to 15 but may change based on the number of players in the event. If an event has 7 or 8 teams\, round-robin matches will be 1 to 11 by 2.\nTop 4 teams go to the playoff (1st & 2nd seeds to play Gold Match. 3rd & 4th seeds to play Bronze Match. \nTD may combine brackets as needed to ensure quality play.\nTournament may close at any time if maximum daily numbers are met (even if some events appear to have openings) \nIndoor Skill/Age tournament on tennis surface\nDUPR scores are not reported \nPickleball Is Great reserves the right to refuse service at anytime. \n\n\nRefund Policy\nAll refunds will have an admin fee of $10 \nIf any event is cancelled due to weather or other unforeseen circumstances\, there will be up to a 50% refund \n\n\nVenue Information\n\nHarbor Isles Tennis & Fitness\n\nPickleball Is Great\n2805 Front St\nKlamath Falls\nOregon 97601\nUnited States\nSurface Type: Tennis Hardcourt Surface\nPlay Area Type: Indoor\nNet Type: Portable\nBall Used: Franklin X-40\nNumber of Courts: 12\nParking: No Fee\n\n\n\n\nDetails\n\n\n\nOfficiated Type→ None\n\n\n\n\nMax Events Per Registration→ 2\n\n\n\n\nCost Includes→ 0 Events\n\n\n\n\nGuaranteed Games Per Event→ 3\n\n\n\n\nAllow Pets→ No\n\n\n\n\nAllow Food→ No\n\n\n\n\nAllow Dish to Pass→ No\n\n\n\n\nAllow Grill→ No
URL:https://pickleballisgreat.com/tournament/2024-blazing-paddles-24/
ATTACH;FMTTYPE=image/jpeg:https://pickleballisgreat.com/wp-content/uploads/2024/03/Blazing-Paddles-24.jpg
END:VEVENT
END:VCALENDAR