BEGIN:VCALENDAR
VERSION:2.0
PRODID:-//Pickleball Is Great - ECPv6.15.18//NONSGML v1.0//EN
CALSCALE:GREGORIAN
METHOD:PUBLISH
X-WR-CALNAME:Pickleball Is Great
X-ORIGINAL-URL:https://pickleballisgreat.com
X-WR-CALDESC:Events for Pickleball Is Great
REFRESH-INTERVAL;VALUE=DURATION:PT1H
X-Robots-Tag:noindex
X-PUBLISHED-TTL:PT1H
BEGIN:VTIMEZONE
TZID:UTC
BEGIN:STANDARD
TZOFFSETFROM:+0000
TZOFFSETTO:+0000
TZNAME:UTC
DTSTART:20230101T000000
END:STANDARD
END:VTIMEZONE
BEGIN:VEVENT
DTSTART;VALUE=DATE:20241214
DTEND;VALUE=DATE:20241216
DTSTAMP:20260420T043028
CREATED:20241103T221519Z
LAST-MODIFIED:20241103T221519Z
UID:4531-1734134400-1734307199@pickleballisgreat.com
SUMMARY:2024 Four Seasons Winter Blast by PIG
DESCRIPTION:Description\n2024 Four Seasons Winter Blast by PIG. Indoor venue with 6 dedicated permanent courts. \nhttps://fourseasonstexoma.com/ \nRegister: https://pickleballbrackets.com/ptd.aspx?eid=821bb646-3d6d-4e66-b6ca-6c1ad1a78116 \nRound Robin format (skill/age) WITH playoffs for Gold/Silver/Bronze for skills 3.0-4.5+. Age brackets will be determined following the close of registration but will strive to be close to under 50 & 50+ events. \nPlayers will self-rate and cannot play lower than their Pickleball Brackets Tournament Player Rating (PBR). Players may only play up in skill 1.0 from their profile rating. Tournament Director reserves the right to correct underrated players. \nIndoor play on 6 permanent courts on a tennis surface. \nUsing the Diadem Premier Power Pickleball (Neon) \nPickleball Is Great reserves the right to refuse service at anytime \n\n\nAdditional Information\nPayment is required to register – Standard registration $40 + $10/event through Nov 30th. Late Registration Dec 1st – Close of Registration $50 + $10/event. \nPartner must register within 7 days or be moved to the waitlist.\n(Age breaks based on registration\, but will strive to be close to under 50 & 50+) \nSaturday – Men’s Doubles & Women’s Doubles\nSunday – Mixed Doubles \nFormat:\nALL Round Robin with playoffs for Gold/Silver/Bronze. All games/matches are win by 2\nMost Round Robins are 1 to 15 but may change based on the number of players in the event. If an event has 7 or 8 teams\, round-robin matches will be 1 to 11 by 2.\nTop 4 teams go to the playoff (Lead in matches are 1 to 15 with the Gold Match with the option of 2/3-11w/2 or 1 to 15. Bronze Match 1 to 15.\nTD may combine brackets as needed to ensure quality play. \n\n\nRefund Policy\n$10 Admin fee minimum for all withdrawals\nNo refunds after close of registration\nIf any event is cancelled due to unforeseen circumstances\, there will be up to a 50% refund \n\n\nVenue Information\n\n\n\nFour Season Racquet Club\n4801 N FM 1417 Rd\nSherman\nTexas 75092\nUnited States\nSurface Type: Pickleball Hardcourt Surface\nPlay Area Type: Indoor\nNet Type: Portable\nBall Used: Diadem Premier Power\nNumber of Courts: 6\nParking: No Fee\n\n\n\n\nDetails\n\n\n\nOfficiated Type→ None\n\n\n\n\nMax Events Per Registration→ 2\n\n\n\n\nCost Includes→ 0 Events\n\n\n\n\nGuaranteed Games Per Event→ 3\n\n\n\n\nAllow Pets→ No\n\n\n\n\nAllow Food→ No\n\n\n\n\nAllow Dish to Pass→ No\n\n\n\n\nAllow Grill→ No
URL:https://pickleballisgreat.com/tournament/2024-four-seasons-winter-blast-by-pig/
ATTACH;FMTTYPE=image/png:https://pickleballisgreat.com/wp-content/uploads/2024/11/821bb646-3d6d-4e66-b6ca-6c1ad1a78116_logo-1.png
END:VEVENT
END:VCALENDAR