BEGIN:VCALENDAR
VERSION:2.0
PRODID:-//Pickleball Is Great - ECPv6.15.18//NONSGML v1.0//EN
CALSCALE:GREGORIAN
METHOD:PUBLISH
X-WR-CALNAME:Pickleball Is Great
X-ORIGINAL-URL:https://pickleballisgreat.com
X-WR-CALDESC:Events for Pickleball Is Great
REFRESH-INTERVAL;VALUE=DURATION:PT1H
X-Robots-Tag:noindex
X-PUBLISHED-TTL:PT1H
BEGIN:VTIMEZONE
TZID:UTC
BEGIN:STANDARD
TZOFFSETFROM:+0000
TZOFFSETTO:+0000
TZNAME:UTC
DTSTART:20230101T000000
END:STANDARD
END:VTIMEZONE
BEGIN:VEVENT
DTSTART;VALUE=DATE:20240621
DTEND;VALUE=DATE:20240624
DTSTAMP:20260422T110302
CREATED:20240331T045803Z
LAST-MODIFIED:20240331T045803Z
UID:4110-1718928000-1719187199@pickleballisgreat.com
SUMMARY:2024 Hawaii Pacific Rim @ Holua Racquet & Paddle by PIG
DESCRIPTION:Description\nAloha – We are looking forward to seeing you all again – the 2022 Hawaii Pacific Rim Pickleball Cup back in June of 2022 was a great success because of you. Please invite your friends and come be part of the fun! \nRegister: https://pickleballbrackets.com/ptd.aspx?eid=f9e2abff-c0ae-41e5-bf0a-6269aa0bfb4d \nEarly Bird Registration is February $70 fee per player\nRegistration March/April/May $85 fee per player\nLate Registration June $100 fee per player \nEvent is $20 each – one event per day limit \n6/21 Friday – Men’s Doubles\n6/22 Saturday – Mixed Doubles\n6/23 Sunday – Women’s Doubles \nAll Round Robin format WITH playoffs for Gold/Silver/Bronze \nAge Groups: 5-18\,19-29\,30-39\,40-49\, 50-54\,55-59\,60-64\,65-69\,70-74\,75+ \nMedals awarded by the division you enter (even if combined) – Limit one medal per day per player \nPlayers will self rate (This means you are able to set it accurately so there is no sandbagging) PLEASE do not play lower than their DUPR & USA Pickleball Tournament Player Rating (UTPR) Tournament Director reserves the right to correct underrated players. \n\n\nAdditional Information\nDO NOT MISS OUT ON THIS CLINIC!🌴Get Ready to Elevate Your Pickleball Game in Paradise with Top Canadian Pros Christina Chin and Ernesto Fajardo!🌴 \n🌟 3.5 and Under Clinic Highlights:\n– How to consistently hit the Third Shot Drop\n– Master the Midcourt Reset\n– Learn the art of the Offensive Lob \n🌟 3.5 and Above Clinic Highlights:\n– Dive into advanced tactics with the Topspin Drop\n– Hone your skills in Strategic Dinking\n– Unleash the power of the Roll Volley \nhttps://docs.google.com/forms/d/e/1FAIpQLSdRtJI3UGOq6jWgX3g5dESwYIDXDlTkSvejB0CCKlbAiw9a_w/viewform \nSelkirk Pro S1 ball \nBrackets or pools of 4 teams will play best 2 out of 3 games to 11\, win by 2. Round robin brackets or pools with 5 or 6 teams will play single games to 15\, win by 2. Brackets or pools with 7 or 8 teams will play single games to 11\, win by 2. Playoff games for Medals will be single games to 15\, win by 2. The Gold matches are offered the best two out of three to 11\, win by 2. Bronze is single games to 15\, win by 2. \nIf an event has less than 4 teams\, that event may be combined with a same skill bracket that has an adjacent age group. (Skill is the priority) \nTournament Director reserves the right to alter the format to improve the player experience. (1-11 or 2/3-11 w/2 formats alternatives for example) \nPIG reserves the right to refuse service at anytime. \n\n\nRefund Policy\nRefunds will have a $15 fee before the end of registration \nIf any event is cancelled due to weather there will be up to a 50% refund \n\n\nVenue Information\n\nHolua Racquet and Paddle\n\n78-7190 KALEIOPAPA STREET\nKailua Kona\nHawaii 96740\nUnited States\nSurface Type: Tennis Hardcourt Surface\nPlay Area Type: Outdoor Non-Covered\nNet Type: Permanent & Portable\nBall Used: Selkirk Pro S1\nNumber of Courts: 20\nParking: No Fee\nCARPOOLING IS CRITICAL – limited parking on the top deck ONLY\nno overnight parking\n\n\n\n\nAmenities\n\n\n\nLodging\nOUTRIGGER Kona Resort & Spa\nView Details\nPromo Code: Pickleball2024\nMiles From Tourney: 0.50\n78-128 Ehukai St\nKailua-Kona\nHawaii 96740\nUnited States\nHolua Resort at the Mauna Loa Villages\n15% Discount on your reservation\nGo to Extra.Holidays.com | search Holua Resort | enter promo code HRP for discount\n\n\n\n\nDetails\n\n\n\nOfficiated Type→ Unique Per Event\n\n\n\n\nMax Events Per Registration→ 3\n\n\n\n\nCost Includes→ 0 Events\n\n\n\n\nGuaranteed Games Per Event→ 3\n\n\n\n\nAllow Pets→ Yes\n\n\n\n\nAllow Food→ Yes\n\n\n\n\nAllow Dish to Pass→ No\n\n\n\n\nAllow Grill→ No\n\n\n\n\n\nParking\nCARPOOLING IS CRITICAL – limited parking on the top deck ONLY\nno overnight parking
URL:https://pickleballisgreat.com/tournament/2024-hawaii-pacific-rim-holua-racquet-paddle-by-pig/
ATTACH;FMTTYPE=image/jpeg:https://pickleballisgreat.com/wp-content/uploads/2024/03/f9e2abff-c0ae-41e5-bf0a-6269aa0bfb4d_logo.jpg
END:VEVENT
END:VCALENDAR