BEGIN:VCALENDAR
VERSION:2.0
PRODID:-//Pickleball Is Great - ECPv6.15.18//NONSGML v1.0//EN
CALSCALE:GREGORIAN
METHOD:PUBLISH
X-WR-CALNAME:Pickleball Is Great
X-ORIGINAL-URL:https://pickleballisgreat.com
X-WR-CALDESC:Events for Pickleball Is Great
REFRESH-INTERVAL;VALUE=DURATION:PT1H
X-Robots-Tag:noindex
X-PUBLISHED-TTL:PT1H
BEGIN:VTIMEZONE
TZID:UTC
BEGIN:STANDARD
TZOFFSETFROM:+0000
TZOFFSETTO:+0000
TZNAME:UTC
DTSTART:20230101T000000
END:STANDARD
END:VTIMEZONE
BEGIN:VEVENT
DTSTART;VALUE=DATE:20240621
DTEND;VALUE=DATE:20240624
DTSTAMP:20260422T110233
CREATED:20240510T031837Z
LAST-MODIFIED:20240510T031837Z
UID:4352-1718928000-1719187199@pickleballisgreat.com
SUMMARY:2024 IOWA STATE CHAMPIONSHIP - UPASC BY PIG
DESCRIPTION:Description\n“United Pickleball State Championship” by the United Pickleball Association (UPA) \nRegister: https://pickleballbrackets.com/ptd.aspx?eid=026c5fd9-3068-4318-bab2-b98927ab1281 \nWhich state has the best pickleball players? \nThe answer will be revealed soon enough\, courtesy of the inaugural United Pickleball State Championship (UPSC)\, a set of tournaments conducted across all 50 states in the country. The Gold Medalists from each of these tournaments will automatically secure invitations to the year-end United States Championship in Dallas\, TX\, and all event fees will be waived. \nCome the United States Championship\, a Champions Division will feature all the champions from each division nationwide battling against each other for pickleball supremacy. \nWhy Should I play in the State Championship Series? \nParticipating in the United Pickleball State Championship (UPSC) offers players a unique and thrilling opportunity to showcase their skills on a bigger stage\, contributing to the vibrant and growing pickleball community. The series\, spanning all 50 states\, provides an inclusive platform for players of varying ages and skill levels to engage in spirited competition while fostering camaraderie among enthusiasts across the nation. The chance to compete in the largest pickleball tournament in each state ensures a diverse and competitive field\, creating an environment that encourages players to push their limits and improve their game. \nMoreover\, the prospect of earning a coveted spot in the year-end United States Championship in Dallas\, TX adds an extra layer of excitement and motivation. With all event fees waived for medalists from each state\, the State Championship Series is not only a celebration of skill but also a rewarding experience for those who excel in their divisions. The Champions Division at the United States Championship brings together the best players from across the country\, offering a grand stage for the ultimate showdown and the quest for pickleball supremacy. Whether you’re a seasoned competitor or a newcomer to the sport\, the UPSC promises a memorable journey filled with competition\, sportsmanship\, and the chance to etch your name in the annals of pickleball history. \nChampions Division\nParticipants who secure skill-level gold at a state championship are eligible for a complimentary event fee to the United States Championship in Dallas\, TX. This exclusive offer recognizes and rewards excellence in the Champions Division and ensures the best possible competition. This United States Championship will take place from November 4th to the 9th. \nGold – 100% ( Free event Registration )\nSilver – 50% off\nBronze 33% off \nDivisions Offered\nWe are excited to offer a range of divisions to cater to players of varying age groups and skill levels: \nSkill Levels: 3.0\, 3.5\, 4.0\, 4.5\, 5.0\nAge Groups: 18U\, 19+\, 35+\, 50+\, 60+\, 70+\nPlaying Divisions: MD\, WD\, MXD\, MS\, WS \nRegistration Starts\nApril = Early Registration = $50 + event fees\nMay = Registration = $65 + event fees\nJune 1 to 15th = Late Registration = $80 + event fees\nJune 16 & later = Very Late Registration = $95 + event fees \nAll Doubles Events are $20 each\nAll Singles Events are $35 each \n\n\nAdditional Information\n6/21/24 Friday – Men’s Singles & Women’s Doubles\n6/22/24 Saturday Mixed Doubles\n6/23/24 Sunday Men’s Doubles & Women’s Singles \nPlayers will utilize “World Pickleball” rating (WPR) from their player profile – If there is no WPR\, then the “Pickleball Brackets” rating (PBR) is use. Lastly\, Self rating is used and the responsibility of the player to set at a skill that is NOT lower than their DUPR or UTPR \nFormat Details – “Round Robin with Playoffs” \n“Pool” play followed by playoffs of the top teams – usually the top 4 \nIf there are fewer than 3 teams/players will be moved into a combined bracket.\nDouble Round Robin 1 to 15 win by 2 for 3 teams\nGames: 1 to 15 win by 2 for brackets 4\, 5\, or 6 teams\nGames: 1 to 11 win by 2 for brackets with 6 or 7 teams\n8 or more teams will be split into pools with the top 2 teams go to a playoff round \nPickleball Is Great reserves the right to refuse service at anytime\nTournament Director may need to combine and adjust brackets as needed. \n\n\nRefund Policy\nCANCELLATION DEADLINE: 5/31/24\nIf you withdraw before the CANCELLATION DEADLINE above\, you will be issued a refund (with a $15 processing fee deducted). Refunds will be issued at the conclusion of the tournament. \n\n\nLinked\n\n\nBelow is a list of tournaments related to this one. Click on them to view details.\nUPA State Championship Series\n\n\n\n2024 ILLINOIS STATE CHAMPIONSHIP – UPASC BY PIG\nJune 21\, 2024\n\n\n\n\ngo to tourney \n\n\n\n\n2024 IOWA STATE CHAMPIONSHIP – UPASC BY PIG\nJune 21\, 2024\n\n\n\n\ngo to tourney \n\n\n\n\n2024 WYOMING STATE CHAMPIONSHIP – UPSC BY PIG\nJuly 12\, 2024\n\n\n\n\ngo to tourney \n\n\n\n\n2024 MONTANA STATE CHAMPIONSHIP – UPASC BY PIG\nJuly 19\, 2024\n\n\n\n\ngo to tourney \n\n\n\n\n2024 WISCONSIN STATE CHAMPIONSHIP – UPASC BY PIG\nAugust 9\, 2024\n\n\n\n\ngo to tourney \n\n\n\n\n2024 OHIO STATE CHAMPIONSHIP – UPSC BY PIG\nAugust 16\, 2024\n\n\n\n\ngo to tourney \n\n\n\n\n2024 OREGON STATE CHAMPIONSHIP – UPASC BY PIG\nAugust 23\, 2024\n\n\n\n\ngo to tourney \n\n\n\n\n2024 NEW MEXICO STATE CHAMPIONSHIP – UPSC BY PIG\nAugust 23\, 2024\n\n\n\n\ngo to tourney \n\n\n\n\n2024 LOUISIANA STATE CHAMPIONSHIP – UPSC BY PIG\nSeptember 6\, 2024\n\n\n\n\ngo to tourney \n\n\n\n\n2024 PENNSYLVANIA STATE CHAMPIONSHIP – UPSC BY PIG\nSeptember 13\, 2024\n\n\n\n\ngo to tourney \n\n\n  \n\n\nVenue Information\n\n\n\nDinks Pickleball\n3800 Merle Hay Rd Suite 1000\nDes Moines\nIowa 50310\nUnited States\nSurface Type: Tennis Hardcourt Surface\nPlay Area Type: Indoor Air Conditioned\nNet Type: Permanent\nBall Used: Franklin X40\nNumber of Courts: 18\nParking: No Fee\n\n\n\n\nDetails\n\n\n\nOfficiated Type→ None\n\n\n\n\nMax Events Per Registration→ 3\n\n\n\n\nCost Includes→ 0 Events\n\n\n\n\nGuaranteed Games Per Event→ 3\n\n\n\n\nAllow Pets→ No\n\n\n\n\nAllow Food→ No\n\n\n\n\nAllow Dish to Pass→ No\n\n\n\n\nAllow Grill→ No
URL:https://pickleballisgreat.com/tournament/2024-iowa-state-championship-upasc-by-pig/
ATTACH;FMTTYPE=image/png:https://pickleballisgreat.com/wp-content/uploads/2024/05/026c5fd9-3068-4318-bab2-b98927ab1281_logo.png
END:VEVENT
END:VCALENDAR