BEGIN:VCALENDAR
VERSION:2.0
PRODID:-//Pickleball Is Great - ECPv6.15.18//NONSGML v1.0//EN
CALSCALE:GREGORIAN
METHOD:PUBLISH
X-WR-CALNAME:Pickleball Is Great
X-ORIGINAL-URL:https://pickleballisgreat.com
X-WR-CALDESC:Events for Pickleball Is Great
REFRESH-INTERVAL;VALUE=DURATION:PT1H
X-Robots-Tag:noindex
X-PUBLISHED-TTL:PT1H
BEGIN:VTIMEZONE
TZID:UTC
BEGIN:STANDARD
TZOFFSETFROM:+0000
TZOFFSETTO:+0000
TZNAME:UTC
DTSTART:20230101T000000
END:STANDARD
END:VTIMEZONE
BEGIN:VEVENT
DTSTART;VALUE=DATE:20240628
DTEND;VALUE=DATE:20240701
DTSTAMP:20260422T095003
CREATED:20240409T163429Z
LAST-MODIFIED:20240409T163429Z
UID:4191-1719532800-1719791999@pickleballisgreat.com
SUMMARY:2024 Mt Shasta Pickleball Tournament by PIG
DESCRIPTION:Description\nRound Robin format (skill/age) WITH playoffs for Gold/Silver/Bronze for skills 3.0-4.5+. Age brackets will be determined following the close of registration\, but will strive to be close to under 50\, 50-59\, & 60+ events. TD may combine brackets as needed to ensure quality play. \nRegister: https://pickleballbrackets.com/ptd.aspx?eid=906cd63c-38b8-40a7-8132-c2e16071c85f \nPlayers will self rate and can not play lower than their USA Pickleball Tournament Player Rating (UTPR). Players may only play up in skill .5 from their profile rating. Tournament Director reserves the right to correct underrated players. \nUsing the Selkirk Pro S1 ball \nPickleball Is Great reserves the right to refuse service at anytime \n\n\nAdditional Information\nOutdoor Skill/Age tournament on tennis surface\nPartner must register within 7 days or be moved to the waitlist \nPayment is required to register (payment is per person) – $50 early registration + $15/event through 3/31\nBeginning Apr 1\, registration will be $60 + $15/event\nAfter deadline\, registration increases to $70 + $15/event\nDeadline – June 19th \nFriday – Men’s & Women’s Doubles (50+ events)\nSaturday – Mixed Doubles\nSunday – Men’s & Women’s Doubles (no age divisions) \nFormat:\nALL Round Robin with playoffs for Gold/Silver/Bronze. All games/matches are win by 2\nMost Round Robins are 1 to 15 but may change based on the number of players in the event. If an event has 7 or 8 teams\, round-robin matches will be 1 to 11 by 2.\nTop 4 teams go to the playoff (Lead in matches are 1 to 15 with the Gold Match with the option of 2/3-11w/2 or 1 to 15. Bronze Match 1 to 15. \nTD may combine brackets as needed to ensure quality play. \nCheck out lodging specials below for the Mt Shasta Resort \n\n\nRefund Policy\n$10 Admin fee minimum for all withdrawals\nNo refunds after close of registration \nIf any event is cancelled due to weather there will be up to a 50% refund \n\n\nVenue Information\n\n\nMt Shasta Pickleball Courts\n1000 Siskiyou Lake Blvd\nMt Shasta\nCalifornia 96067\nUnited States\nSurface Type: Tennis Hardcourt Surface\nPlay Area Type: Outdoor Non-Covered\nNet Type: Portable\nBall Used: Selkirk Pro S1\nNumber of Courts: 10\nParking: No Fee\n\n\n\n\nAmenities\n\n\n\nLodging\nMt Shasta Resort\nView Details\nPromo Code: PICKLE\n1000 Siskiyou Lake Blvd\nMt Shasta\nCalifornia 96067\nUnited States\n20% lodging discount to players who book directly using the code PICKLE.\nLodging guests will also receive 10% off when they dine with us during their stay.\n\n\n\n\n\nLodging\nThings to do\, Lodging\, Restaurants around Mt Shasta\nView Details\nMount Shasta\nMount Shasta\nCalifornia 96067\nUnited States\nFor a listing of several restaurants\, lodging and “Things to do” in Mount Shasta\, check out the Chamber of Commerce Visitor Center link at https://www.visitmtshasta.com/\n\n\n\n\nDetails\n\n\n\nOfficiated Type→ None\n\n\n\n\nMax Events Per Registration→ 3\n\n\n\n\nCost Includes→ 0 Events\n\n\n\n\nGuaranteed Games Per Event→ 3\n\n\n\n\nAllow Pets→ No\n\n\n\n\nAllow Food→ No\n\n\n\n\nAllow Dish to Pass→ No\n\n\n\n\nAllow Grill→ No
URL:https://pickleballisgreat.com/tournament/2024-mt-shasta-pickleball-tournament-by-pig/
ATTACH;FMTTYPE=image/png:https://pickleballisgreat.com/wp-content/uploads/2024/04/906cd63c-38b8-40a7-8132-c2e16071c85f_logo.png
END:VEVENT
END:VCALENDAR