BEGIN:VCALENDAR
VERSION:2.0
PRODID:-//Pickleball Is Great - ECPv6.15.18//NONSGML v1.0//EN
CALSCALE:GREGORIAN
METHOD:PUBLISH
X-WR-CALNAME:Pickleball Is Great
X-ORIGINAL-URL:https://pickleballisgreat.com
X-WR-CALDESC:Events for Pickleball Is Great
REFRESH-INTERVAL;VALUE=DURATION:PT1H
X-Robots-Tag:noindex
X-PUBLISHED-TTL:PT1H
BEGIN:VTIMEZONE
TZID:UTC
BEGIN:STANDARD
TZOFFSETFROM:+0000
TZOFFSETTO:+0000
TZNAME:UTC
DTSTART:20230101T000000
END:STANDARD
END:VTIMEZONE
BEGIN:VEVENT
DTSTART;VALUE=DATE:20240519
DTEND;VALUE=DATE:20240520
DTSTAMP:20260424T100904
CREATED:20240321T215606Z
LAST-MODIFIED:20240321T215606Z
UID:4060-1716076800-1716163199@pickleballisgreat.com
SUMMARY:2024 Pickle Palooza for MS
DESCRIPTION:Description\nMS I’mpossible’s mission is to raise awareness and funds to provide resources and financial assistance to young adults living with Multiple Sclerosis (MS) to help them navigate their diagnosis and pursue a life full of possibilities. Learn about our team fundraising competition and consider making a donation online – https://bit.ly/msimpossible \nRegister: https://pickleballbrackets.com/ptd.aspx?eid=0adf65b8-ac0e-4853-91cb-cd492810b4e2 \nFirst and foremost\, our tournament is a fun Round Robin format to give you lots of games. \nSkill levels for gender-neutral teams (partner with either gender).\nRecreational Play (2.5/3.0) – geared toward first time players and newer to pickleball\nIntermediate/Advanced Play (3.5 and Above) – geared toward more experienced players and those with strong racquet skills \nSpecific events of similar skills to be determined following the close of registration. The Tournament Director may combine brackets as needed to ensure quality play. \nThe tournament is indoors on a hardwood gym floor. \nThe fee to play is $65/player through April 26 and goes up to $75/player on April 27. You will be moved to the waitlist if your partner hasn’t registered and paid within 7 days. \nAll events will be played on Sunday\, May 19\, 2024 \n\n\nVenue Information\n\n\nIssaquah Community Center\n301 Rainier Blvd S\nIssaquah\nWashington 98027\nUnited States\nSurface Type: Hardwood\nPlay Area Type: Indoor\nNet Type: Portable\nBall Used: indoor ball\nNumber of Courts: 6\nParking: No Fee\n\n\n\n\nDetails\n\n\n\nOfficiated Type→ None\n\n\n\n\nMax Events Per Registration→ 1\n\n\n\n\nCost Includes→ Unlimited Events\n\n\n\n\nGuaranteed Games Per Event→ 3\n\n\n\n\nAllow Pets→ No\n\n\n\n\nAllow Food→ No\n\n\n\n\nAllow Dish to Pass→ No\n\n\n\n\nAllow Grill→ No
URL:https://pickleballisgreat.com/tournament/2024-pickle-palooza-for-ms/
ATTACH;FMTTYPE=image/jpeg:https://pickleballisgreat.com/wp-content/uploads/2024/03/0adf65b8-ac0e-4853-91cb-cd492810b4e2_logo.jpg
END:VEVENT
END:VCALENDAR