BEGIN:VCALENDAR
VERSION:2.0
PRODID:-//Pickleball Is Great - ECPv6.15.18//NONSGML v1.0//EN
CALSCALE:GREGORIAN
METHOD:PUBLISH
X-WR-CALNAME:Pickleball Is Great
X-ORIGINAL-URL:https://pickleballisgreat.com
X-WR-CALDESC:Events for Pickleball Is Great
REFRESH-INTERVAL;VALUE=DURATION:PT1H
X-Robots-Tag:noindex
X-PUBLISHED-TTL:PT1H
BEGIN:VTIMEZONE
TZID:UTC
BEGIN:STANDARD
TZOFFSETFROM:+0000
TZOFFSETTO:+0000
TZNAME:UTC
DTSTART:20230101T000000
END:STANDARD
END:VTIMEZONE
BEGIN:VEVENT
DTSTART;VALUE=DATE:20240523
DTEND;VALUE=DATE:20240528
DTSTAMP:20260422T110400
CREATED:20240321T221355Z
LAST-MODIFIED:20240321T221550Z
UID:4064-1716422400-1716854399@pickleballisgreat.com
SUMMARY:2024 PRO Sports - Amateur Tournament with the Pros
DESCRIPTION:Description\nPLAY IN A TOURNAMENT\, HANG OUT WITH THE PROS! \n– PRO Sports & the City of Albuquerque (Parks and Recreation Department) will be putting on a one of a kind tournament experience w/ top level guest pros! \n– Pros will be holding special events\, clinics\, round robins\, & exhibition play throughout the tournament weekend \n– For event info & sign up with our guest pros\, please visit ProSportsNM.com \n– Invite your friends & family to join us for food\, fun\, music\, & more! \nThursday 5/23/24 – Mini Women’s & Men’s Singles\nFriday: 5/24/24 – Women’s Doubles plus Men’s OPEN $$\nSaturday 5/25/24 – Mixed Doubles plus OPEN $$\nSunday 5/26/24 – Men ‘s Doubles PLUS Women’s OPEN $$\nMonday 5/27/24 – FULL Women’s & Men’s Singles \nALL PARTNERS MUST REGISTER AND PAY OR YOU WILL MOVE TO THE WAITLIST WITHIN 14 DAYS. \n***PLEASE REGISTER EARLY AS THERE IS A DAILY CAPACITY LIMIT AND REGISTRATION WILL STOP AT ANY POINT*** \nLimit one event per day \nRegister: https://pickleballbrackets.com/ptd.aspx?eid=3efd66c8-ddbb-451c-907a-cd03c3bddab6 \nEach event is $15 – (except Open $$ division)\nEarly Registration ends 3/31/24 – $50 plus event fees\nRegistration ends 4/30/24 – $65 plus event fees\nLate Registration 5/15/24 to close – $80 plus event fees \nFor information on the pro events please email Courtenay – Courtenay@prosportsnm.com | (505) 709-4445 ext. 2 \n\n\nAdditional Information\nIt is not recommended to play in an event on the same day as pro clinic you wish to participate in \nAll events are a Round Robin WITH playoffs for Gold / Silver / Bronze medals\nTop 4 teams of a division\n(If two pools\, top 2 teams from each pool) \nTypical formats:\n3 teams = 1 to 15 win by 2\, double round robin\n4 teams = 2 out of 3 to 11 win by 2\n5/6/7 teams = 1 to 15 win by 2\n8 or more teams will be split in pools \n\n\nPrize Money\nMIXED | MENS | WOMENS DOUBLES OPEN for 4.0 and up.\nDouble Elimination\n$50 event fee per player\n5 team minimum\n16 team maximum\nPRIZE MONEY TO BE DETERMINED BASED ON DRAW SIZE \n\n\nRefund Policy\nAll refunds requests before 4/15 will have a $25 dollar administration fee. \nAny refund request between 4/15 – 5/14 will be 50% of the total tournament fees. \nNo refunds after 5/14\, extreme circumstances will be left up to the tournament director. \nAny weather related cancellation will have up to a 50% refund of the affected event(s) fee. If you are only playing in one event\, up to 50% of the total tournament fees will be refunded. \n\n\nVenue Information\n\n\n\nManzano Mesa Pickleball Courts\n501 Elizabeth St SE\nAlbuquerque\nNew Mexico 87123\nUnited States\nSurface Type: Tennis Hardcourt Surface\nPlay Area Type: Outdoor Non-Covered\nNet Type: Portable\nBall Used: Franklin X40 – Optic Yellow\nNumber of Courts: 33\nParking: No Fee\n\n\n\n\nDetails\n\n\n\nOfficiated Type→ Unique Per Event\n\n\n\n\nMax Events Per Registration→ 3\n\n\n\n\nCost Includes→ 0 Events\n\n\n\n\nGuaranteed Games Per Event→ 3\n\n\n\n\nAllow Pets→ No\n\n\n\n\nAllow Food→ Yes\n\n\n\n\nAllow Dish to Pass→ No\n\n\n\n\nAllow Grill→ No
URL:https://pickleballisgreat.com/tournament/2024-pro-sports-amateur-tournament-with-the-pros/
ATTACH;FMTTYPE=image/png:https://pickleballisgreat.com/wp-content/uploads/2024/03/3efd66c8-ddbb-451c-907a-cd03c3bddab6_logo.png
END:VEVENT
END:VCALENDAR