BEGIN:VCALENDAR
VERSION:2.0
PRODID:-//Pickleball Is Great - ECPv6.15.18//NONSGML v1.0//EN
CALSCALE:GREGORIAN
METHOD:PUBLISH
X-WR-CALNAME:Pickleball Is Great
X-ORIGINAL-URL:https://pickleballisgreat.com
X-WR-CALDESC:Events for Pickleball Is Great
REFRESH-INTERVAL;VALUE=DURATION:PT1H
X-Robots-Tag:noindex
X-PUBLISHED-TTL:PT1H
BEGIN:VTIMEZONE
TZID:UTC
BEGIN:STANDARD
TZOFFSETFROM:+0000
TZOFFSETTO:+0000
TZNAME:UTC
DTSTART:20230101T000000
END:STANDARD
END:VTIMEZONE
BEGIN:VEVENT
DTSTART;VALUE=DATE:20240831
DTEND;VALUE=DATE:20240903
DTSTAMP:20260422T102009
CREATED:20240421T212042Z
LAST-MODIFIED:20240421T212042Z
UID:4273-1725062400-1725321599@pickleballisgreat.com
SUMMARY:2024 Puttin' on the Dink @ Mountain Park Racquet & Fitness Club by PIG
DESCRIPTION:Description\nSave the Date (Labor Day weekend Aug 31-Sept 2) – Puttin’ on the Dink @ Mountain Park Racquet and Fitness Club by PIG\nlocated at 3 Botticelli St\, Lake Oswego\, OR 97035 \nRegister: https://pickleballbrackets.com/ptd.aspx?eid=b9f7a981-6a8c-4f2b-a8fc-aa294ee4d6ed \nRound Robin format (skill/age) WITH playoffs for Gold/Silver/Bronze for skills 3.0-4.0+. Age brackets will be determined following the close of registration\, but will strive to be close to under 50\, 50-59\, & 60+ events. \nPlayers will self rate and cannot play lower than their USA Pickleball Tournament Player Rating (UTPR). Players may only play up in skill .5 from their profile rating. Tournament Director reserves the right to correct underrated players. \nUsing the X-40 ball \n\n\nAdditional Information\nPayment is required to register – Early registration $45 + $15/event through May 31. Standard registration $65 + $15/event through Aug 22. Any registration after Aug 22 will be $75 + $15/event \nPartner must register within 7 days or be moved to the waitlist\n(Age breaks based on registration\, but will strive to be close to under 50\, 50+\, 60+) \nSaturday – Women’s Doubles\nSunday – Mixed Doubles\nMonday – Men’s Doubles \nFormat:\nALL Round Robin with playoffs for Gold/Silver/Bronze. All games/matches are win by 2\nMost Round Robins are 1 to 15 but may change based on the number of players in the event. If an event has 7 or 8 teams\, round-robin matches will be 1 to 11 by 2.\nTop 4 teams go to the playoff (Lead in matches are 1 to 15 with the Gold Match with the option of 2/3-11w/2 or 1 to 15. Bronze Match 1 to 15.\nTD may combine brackets as needed to ensure quality play.\nTournament may close at any time if maximum daily numbers are met (even if some events appear to have openings) \nPickleball Is Great reserves the right to refuse service at anytime. \nThere is a daily player limit that may cause registration to close with no notice for an event or the whole day. \n\n\nRefund Policy\n$10 withdraw fee for all withdrawals. \nNo refunds after the cancellation date of Aug 22\, 2024. \nUp to a 50% refund for weather related cancellations \n\n\nVenue Information\n\n\n\nMountain Park Athletic & Fitness\n3 Botticelli St\nLake Oswego\nOregon 97035\nUnited States\nSurface Type: Tennis Hardcourt Surface\nPlay Area Type: Outdoor Non-Covered\nNet Type: Portable\nBall Used: Franklin X40\nNumber of Courts: 10\nParking: No Fee\n\n\n\n\nDetails\n\n\n\nOfficiated Type→ None\n\n\n\n\nMax Events Per Registration→ 2\n\n\n\n\nCost Includes→ 0 Events\n\n\n\n\nGuaranteed Games Per Event→ 4\n\n\n\n\nAllow Pets→ No\n\n\n\n\nAllow Food→ No\n\n\n\n\nAllow Dish to Pass→ No\n\n\n\n\nAllow Grill→ No
URL:https://pickleballisgreat.com/tournament/2024-puttin-on-the-dink-mountain-park-racquet-fitness-club-by-pig/
ATTACH;FMTTYPE=image/jpeg:https://pickleballisgreat.com/wp-content/uploads/2024/04/b9f7a981-6a8c-4f2b-a8fc-aa294ee4d6ed_logo.jpg
END:VEVENT
END:VCALENDAR