BEGIN:VCALENDAR
VERSION:2.0
PRODID:-//Pickleball Is Great - ECPv6.15.18//NONSGML v1.0//EN
CALSCALE:GREGORIAN
METHOD:PUBLISH
X-WR-CALNAME:Pickleball Is Great
X-ORIGINAL-URL:https://pickleballisgreat.com
X-WR-CALDESC:Events for Pickleball Is Great
REFRESH-INTERVAL;VALUE=DURATION:PT1H
X-Robots-Tag:noindex
X-PUBLISHED-TTL:PT1H
BEGIN:VTIMEZONE
TZID:UTC
BEGIN:STANDARD
TZOFFSETFROM:+0000
TZOFFSETTO:+0000
TZNAME:UTC
DTSTART:20230101T000000
END:STANDARD
END:VTIMEZONE
BEGIN:VEVENT
DTSTART;VALUE=DATE:20241107
DTEND;VALUE=DATE:20241111
DTSTAMP:20260420T055254
CREATED:20240503T041423Z
LAST-MODIFIED:20240503T041423Z
UID:4324-1730937600-1731283199@pickleballisgreat.com
SUMMARY:2024 Tucson FALL Classic USSP & All Ages by PIG
DESCRIPTION:Description\nWelcome to another GREAT Round Robin Tournament with playoffs for Gold/Silver/Bronze Medals \nWe look forward to playing on the new pickleball courts at the Tucson Racquet & Fitness Club with 10 lighted pickleball courts \nRegister: https://pickleballbrackets.com/ptd.aspx?eid=f98be00f-abf3-46aa-b9d4-2f8eef7c3bd0 \n11/7 THURSDAY – 50+ MIXED DOUBLES\n11/8 FRIDAY – 50+ MENS/WOMENS DOUBLES\n11/9 SATURDAY – UNDER 50 MENS/WOMENS DOUBLES\n11/10 SUNDAY – UNDER 50 MIXED DOUBLES \nALL EVENTS ARE\nROUND ROBIN FORMAT\nWITH A “SHOOTOUT” OF THE TOP 4 TEAMS\nFOR GOLD\, SILVER\, AND BRONZE MEDALS\nSee FORMAT tab for details \nThursday/Friday events are “AGE/SKILL”\nSaturday/Sunday events are “Skill / Age” \nNO MEMBERSHIP IS REQUIRED TO PARTICIPATE IN ANY EVENT \nEach player must pay at time of registration \nEarly Registration $55 – Only July\nRegistration $70 – Only August & September\nLate Registration – $85 – Only October\nVERY LATE – $100 – AFTER 10/31/24 \n$15 per event \nPickleball Is Great reserves the right to adjust any player rating as well as combine divisions as needed. \n\n\nAdditional Information\nFORMAT DETAILS:\n3 teams are a double round robin 1-15 win by 2 switch sides at 8 – all teams to playoffs. The top team based on results will have a bye while the bronze match of the 2nd & 3rd place teams play the bronze match 1-15 win by 2. The winner of that goes to play the gold match with the team that was on the bye. \n***All gold medal matches are offered a 2/3-11 win by 2unless the TD needs to make a change due to weather/time issues. We will offer the 1-15 win by 2 as an alternative based on a case-by-case basis*** \n4 to 7 teams are games 1-15 win by 2 switch at 8. The top four teams move forward to the playoffs. 1 v 4 & 2 v 3: these are the “lead-in” matches that require a referee. Winners play each other for gold. Both non winners play for bronze in the same 1-15 win by 2 switch at 8 format. \n8 or more teams are split into pools. The matches depend on the number of teams (see above). Only the top two from each pool move forward. It’s a crisscross playoff. Pool 1 1st team vs Pool 2 2nd team and at the same time Pool 1 2nd team vs Pool 2 1st team. Those games are 1-15 win by 2 switches at 8. Winners play each other for gold. Both non winners play for bronze in the same 1-15 win by 2 switches at 8 formats. \nIf any division has 15 teams or more\, that will likely be broken into 3 or more pools. (I have many players are asking to play up to “fix” their rating… so no combined medals are awarded). \nUSSP Senior Days are Thursday and Friday. Format is Age/Skill (5 year breaks) – no membership is required\, but if you have your USSP membership number in your profile\, you will get a $10 Refund.\nInstructions for adding your membership number to your profile – https://www.usseniorpickleball.com/pb-ussp-training \nOnly one medal per player per event. Medals are awarded based on how players played (not as entered). \nPickleball Is Great Reserves the right to refuse service at anytime to anyone \n\n\nRefund Policy\nRefunds will be available up to 10/25/24 with a $15 processing fee.\nUp to 50% can be requested after that.\nEmergency refunds will be issued based on approval. \nTHERE MAY BE UP TO 50% REFUNDS FOR WEATHER RELATED CANCELLATIONS. IN CASE OF WEATHER DELAYS\, AN ATTEMPT TO PLAY ALL MATCHES SCHEDULED FOR A DAY WILL BE MADE \n\n\nVenue Information\n\n\n\nTucson Racquet and Fitness\n4001 N Country Club Road\nTucson\nArizona 85716\nUnited States\nSurface Type: Pickleball Hardcourt Surface\nPlay Area Type: Outdoor Non-Covered\nNet Type: Portable\nBall Used: Franklin X40\nNumber of Courts: 12\nParking: No Fee\nno overnight parking\n\n\n\n\nDetails\n\n\n\nOfficiated Type→ Unique Per Event\n\n\n\n\nMax Events Per Registration→ Unlimited\n\n\n\n\nCost Includes→ 0 Events\n\n\n\n\nGuaranteed Games Per Event→ 4\n\n\n\n\nAllow Pets→ No\n\n\n\n\nAllow Food→ No\n\n\n\n\nAllow Dish to Pass→ No\n\n\n\n\nAllow Grill→ No
URL:https://pickleballisgreat.com/tournament/2024-tucson-fall-classic-ussp-all-ages-by-pig/
ATTACH;FMTTYPE=image/jpeg:https://pickleballisgreat.com/wp-content/uploads/2024/05/f98be00f-abf3-46aa-b9d4-2f8eef7c3bd0_logo.jpg
END:VEVENT
END:VCALENDAR