BEGIN:VCALENDAR
VERSION:2.0
PRODID:-//Pickleball Is Great - ECPv6.15.18//NONSGML v1.0//EN
CALSCALE:GREGORIAN
METHOD:PUBLISH
X-WR-CALNAME:Pickleball Is Great
X-ORIGINAL-URL:https://pickleballisgreat.com
X-WR-CALDESC:Events for Pickleball Is Great
REFRESH-INTERVAL;VALUE=DURATION:PT1H
X-Robots-Tag:noindex
X-PUBLISHED-TTL:PT1H
BEGIN:VTIMEZONE
TZID:UTC
BEGIN:STANDARD
TZOFFSETFROM:+0000
TZOFFSETTO:+0000
TZNAME:UTC
DTSTART:20230101T000000
END:STANDARD
END:VTIMEZONE
BEGIN:VEVENT
DTSTART;VALUE=DATE:20240503
DTEND;VALUE=DATE:20240506
DTSTAMP:20260424T101036
CREATED:20240309T200652Z
LAST-MODIFIED:20240309T201945Z
UID:4028-1714694400-1714953599@pickleballisgreat.com
SUMMARY:2024 Wapato Point Resort Pickleball Open
DESCRIPTION:Description\nRegister: https://pickleballbrackets.com/ptd.aspx?eid=2ca79926-3aa9-44de-98ae-cfd112e50809 \nRound-robin format with playoffs for Gold/Silver/Bronze Medals\nOpen (prize money) and Skills events 3.0-4.0 (Age brackets for skills events will be determined following the close of registration\, but will strive to be close to under 50\, 50+\, and even 60+ events if numbers allow.) \nPlayers will self rate and can not play lower than their USA Pickleball Tournament Player Rating (UTPR). Players may only play up in skill .5 from their profile rating. Tournament Director reserves the right to correct underrated players. \nUsing the Selkirk Pro S1 ball \n\n\nAdditional Information\nEach player is responsible to register and pay –\nEarly registration – $45 + event fee through Jan 31.\nStandard registration – $60 + event fee through deadline Apr 24.\nAny registration after deadline will be $75 + event fee \nEvent fees:\nOpen w/prize money – $50 (8 teams minimum registered by Apr 14)\nSingles events – $25\nDoubles events – $15 \nFriday – Women’s Doubles / Men’s Singles\nSaturday – Mixed Doubles\nSunday – Men’s Doubles / Women’s Singles \nFormat:\nALL Round Robin games/matches are win by 2.\nMost Round Robins are 1 to 15 but may change based on the number of players in the event. If an event has 7 or 8 teams\, round-robin matches will be 1 to 11 by 2.\nTop 4 teams go to the playoff (1st & 2nd seeds to play Gold Match. 3rd & 4th seeds to play Bronze Match. \nTD may combine brackets as needed to ensure quality play.\nTournament may close at any time if maximum daily numbers are met (even if some events appear to have openings) \nOutdoor Skill/Age tournament on tennis surface\nDUPR scores are not reported \nPickleball Is Great reserves the right to refuse service at anytime. \n\n\nPrize Money\n$1000 total prize money for each Doubles Open Division\n$500 total prize money for each Singles Open Divisions \nOpen events require minimum of 8 teams registered by Apr 14. If 8 teams are not reached by Apr 14\, we will create a 4.5+ skills event (no money payout) and refund the difference between skills/open event registration ($35 doubles / $25 singles). \n\n\nRefund Policy\n$15 admin fee for all refunds \n50% Refunds after 4/24/24 \nWeather refunds are up to 50% refunded for any weather related issues. \n\n\nVenue Information\n\n\n\nWapato Point Resort\n1 Wapato Point Pkwy\nManson\nWashington 98831\nUnited States\nSurface Type: Tennis Hardcourt Surface\nPlay Area Type: Outdoor Non-Covered\nNet Type: Permanent & Portable\nBall Used: Selkirk Pro S1\nNumber of Courts: 12\nParking: No Fee\nNo overnight parking\n\n\n\n\nDetails\n\n\n\nOfficiated Type→ Unique Per Event\n\n\n\n\nMax Events Per Registration→ 3\n\n\n\n\nCost Includes→ 0 Events\n\n\n\n\nGuaranteed Games Per Event→ 3\n\n\n\n\nAllow Pets→ No\n\n\n\n\nAllow Food→ No\n\n\n\n\nAllow Dish to Pass→ No\n\n\n\n\nAllow Grill→ No
URL:https://pickleballisgreat.com/tournament/2024-wapato-point-resort-pickleball-open/
END:VEVENT
END:VCALENDAR