BEGIN:VCALENDAR
VERSION:2.0
PRODID:-//Pickleball Is Great - ECPv6.15.18//NONSGML v1.0//EN
CALSCALE:GREGORIAN
METHOD:PUBLISH
X-WR-CALNAME:Pickleball Is Great
X-ORIGINAL-URL:https://pickleballisgreat.com
X-WR-CALDESC:Events for Pickleball Is Great
REFRESH-INTERVAL;VALUE=DURATION:PT1H
X-Robots-Tag:noindex
X-PUBLISHED-TTL:PT1H
BEGIN:VTIMEZONE
TZID:UTC
BEGIN:STANDARD
TZOFFSETFROM:+0000
TZOFFSETTO:+0000
TZNAME:UTC
DTSTART:20230101T000000
END:STANDARD
END:VTIMEZONE
BEGIN:VEVENT
DTSTART;VALUE=DATE:20241206
DTEND;VALUE=DATE:20241209
DTSTAMP:20260420T043125
CREATED:20240505T024332Z
LAST-MODIFIED:20240505T024332Z
UID:4336-1733443200-1733702399@pickleballisgreat.com
SUMMARY:2024 WSC NW Holiday Classic by PIG
DESCRIPTION:Description\nFun Round Robin format WITH playoffs for Gold/Silver/Bronze for skills 3.0-5.0 in age events (under 50 & 50+). TD may combine brackets as needed to ensure quality play. \nRegister: https://pickleballbrackets.com/ptd.aspx?eid=df9cf951-724e-4f0f-91c1-4155412bb8cc \nBracket Formats \n3 teams/players (only if necessary\, we will try to combine any 3 team/player divisions with the closest age division possible)\n– Double-RR\, games 1 to 15\n– Top 2 teams advanced to Gold Medal match\, – Gold – 2/3 to 11 optional (one game to 15 win by 2 is an option as well\, if the decision of which format to play is not unanimous then a coin toss will decide the format)\n– 3rd place team automatically receives Bronze medal \n4 team bracket\n– Single RR\, games 1 to 15\n– Semi-final (all 4 teams) – 1 to 15\n– Bronze – 1 to 15\n– Gold – 2/3 to 11 optional (one game to 15 win by 2 is an option as well\, if the decision of which format to play is not unanimous then a coin toss will decide the format) \n5-6 team bracket\n– Single-RR\, games 1 to 15\n– Semi-final (top 4 teams) – 1 to 15\n– Bronze – 1 to 15\n– Gold – 2/3 to 11 optional (one game to 15 win by 2 is an option as well\, if the decision of which format to play is not unanimous then a coin toss will decide the format) \n7 team brackets\n– Single-RR\, games 1 to 11\n– Semi-final (top 4 teams) – 1 to 15\n– Bronze – 1 to 15\n– Gold – 2/3 to 11 optional (one game to 15 win by 2 is an option as well\, if the decision of which format to play is not unanimous then a coin toss will decide the format) \n8-9 team bracket\n– 2 pools\, Single-RR\, games 1 to 15\n– Semi-final (top 2 teams from each pool) – 1 to 15\n– Bronze – 1 to 15\n– Gold – 2/3 to 11 optional (one game to 15 win by 2 is an option as well\, if the decision of which format to play is not unanimous then a coin toss will decide the format) \n10-12 team bracket\n– 2 pools\, Single-RR\, games 1 to 15\n– Semi-final (top 2 teams from each pool) – 1 to 15\n– Bronze – 1 to 15\n– Gold – 2/3 to 11 optional (one game to 15 win by 2 is an option as well\, if the decision of which format to play is not unanimous then a coin toss will decide the format) \nRatings\nPlease make sure your rating is correct. Players have the sole responsibility to maintain their self-rating accurately in each division\, you will be put into the bracket indicated in your profile. \nWe do not use DUPR ratings as we have no easy way to cross-reference registered players with possible DUPR ratings. \nDUPR Results Submission – Results WILL NOT be submitted to DUPR. \nPlayers will self rate and cannot play lower than their USA Pickleball Tournament Player Rating (UTPR). Players may only play up in skill .5 from their profile rating. Tournament Director reserves the right to correct underrated players. \n\n\nAdditional Information\n12/6 Friday – Women’s Doubles\n12/7 Saturday – Mixed Doubles\n12/8 Sunday – Men’s Doubles \nIndoor Skill/Age tournament on tennis surface \n$15 per event fee. Payment is required to register – Prices will increase as we approach the event. \nPickleball Is Great reserves the right to refuse service at anytime. \n\n\nRefund Policy\n$15 Admin fee minimum for all withdrawals\nNo refunds after close of registration \nIf any event is cancelled due to weather there will be up to a 50% refund \n\n\nVenue Information\n\n\n\nWoodinville Sports Club\n15327 140th Pl NE\nWoodinville\nWashington 98072\nUnited States\nSurface Type: Tennis Hardcourt Surface\nPlay Area Type: Indoor\nNet Type: Portable\nBall Used: Franklin X40\nNumber of Courts: 8\nParking: No Fee\nNo overnight parking\n\n\n\n\nDetails\n\n\n\nOfficiated Type→ None\nMax Events Per Registration→ 4\n\n\n\n\nCost Includes→ 0 Events\n\n\n\n\nGuaranteed Games Per Event→ 3\n\n\n\n\nAllow Pets→ No\n\n\n\n\nAllow Food→ No\n\n\n\n\nAllow Dish to Pass→ No\n\n\n\n\nAllow Grill→ No
URL:https://pickleballisgreat.com/tournament/2024-wsc-nw-holiday-classic-by-pig/
ATTACH;FMTTYPE=image/jpeg:https://pickleballisgreat.com/wp-content/uploads/2024/05/df9cf951-724e-4f0f-91c1-4155412bb8cc_logo.jpg
END:VEVENT
END:VCALENDAR