BEGIN:VCALENDAR
VERSION:2.0
PRODID:-//Pickleball Is Great - ECPv6.15.18//NONSGML v1.0//EN
CALSCALE:GREGORIAN
METHOD:PUBLISH
X-WR-CALNAME:Pickleball Is Great
X-ORIGINAL-URL:https://pickleballisgreat.com
X-WR-CALDESC:Events for Pickleball Is Great
REFRESH-INTERVAL;VALUE=DURATION:PT1H
X-Robots-Tag:noindex
X-PUBLISHED-TTL:PT1H
BEGIN:VTIMEZONE
TZID:UTC
BEGIN:STANDARD
TZOFFSETFROM:+0000
TZOFFSETTO:+0000
TZNAME:UTC
DTSTART:20240101T000000
END:STANDARD
END:VTIMEZONE
BEGIN:VEVENT
DTSTART;VALUE=DATE:20250627
DTEND;VALUE=DATE:20250630
DTSTAMP:20260421T114245
CREATED:20250202T040048Z
LAST-MODIFIED:20250202T040048Z
UID:4732-1750982400-1751241599@pickleballisgreat.com
SUMMARY:2025 Beaverton Bash @ West Hills Racquet & Fitness Club by PIG
DESCRIPTION:Tournament Description\n\n\n\nSave the Date (Jun 27-29) – 4th Annual Beaverton Bash @ West Hills Racquet and Fitness Club by PIG\nlocated at 2200 SW Cedar Hills Blvd\, Beaverton OR 97225\n\nRegister: https://pickleballtournaments.com/tournaments/2025-beaverton-bash-at-west-hills-racquet-and-fitness-club-by-pig\n\nRound Robin format (skill/age) WITH playoffs for Gold/Silver/Bronze for skills 3.0-4.5+. Age brackets will be determined following the close of registration\, but will strive to be close to under 50\, 50-59\, & 60+ events.\n\nRatings:\n• Even though DUPR is the only rating listed for public view\, we are using DUPR only as a guideline. All rating systems have their pros and cons. Players will self-rate and we will also be using your previous tournament rating (PBR) as our determinant\n• Please update your self-rating in your software profile before you register. You may only play up .5 from your self-rating\n• If you feel that a player is playing out of their skill\, please contact the tournament director. We will then evaluate tournament history and various ratings (including DUPR) to determine if a player/team needs to play at a different skill. Please be aware that this is a manual process and does not happen automatically\n\nUsing the X-40 ball\n\n\n\n\n\nAdditional Information\n\n\n\nPayment is required to register – Early registration $45 + $15/event through Mar 31. Standard registration $60 + $15/event through Jun 18. Any registration after June 18 will be $75 + $15/event\n\nPartner must register within 7 days or be moved to the waitlist\n(Age breaks based on registration\, but will strive to be close to under 50\, 50+\, 60+)\n\nFriday – Women’s Doubles\nSaturday – Mixed Doubles\nSunday – Men’s Doubles\n\nFormat:\nALL Round Robin with playoffs for Gold/Silver/Bronze. All games/matches are win by 2\nMost Round Robins are 1 to 15 but may change based on the number of players in the event. If an event has 7 or 8 teams\, round-robin matches will be 1 to 11 by 2.\nTop 4 teams go to the playoff (Lead in matches are 1 to 15 with the Gold Match with the option of 2/3-11w/2 or 1 to 15. Bronze Match 1 to 15.\nTD may combine brackets as needed to ensure quality play.\nTournament may close at any time if maximum daily numbers are met (even if some events appear to have openings)\n\nPickleball Is Great reserves the right to refuse service at anytime.\n\nThere is a daily player limit that may cause registration to close with no notice for an event or the whole day.\n\n\n\n\n\nRefund Policy\n\n\n\n$10 withdraw fee for all withdrawals.\n\nNo refunds after the cancellation date of June 18\, 2025\n\nUp to a 50% refund for weather related cancellations\n\n\n\n\n\n\nVenue Details\n\n\n\n\n\nWest Hills Racquet and Fitness Club\n\n\n2200 SW Cedar Hills Blvd\nPortland\, Oregon\, 97225\nUnited States\n\n\n\nParking Information\nParking Fee: No Fee\n\n\n\nAmenities\n\n\nSurface Type: Tennis Hardcourt Surface\n\n\nNumber of courts: 10\n\n\nBall used: Franklin X40\n\n\nPlay area type: Outdoor Non-Covered\n\n\nNet type: Portable
URL:https://pickleballisgreat.com/tournament/2025-beaverton-bash-west-hills-racquet-fitness-club-by-pig/
ATTACH;FMTTYPE=image/jpeg:https://pickleballisgreat.com/wp-content/uploads/2025/02/Beaverton-Bash-PIG-600x315-1.jpg
END:VEVENT
END:VCALENDAR