BEGIN:VCALENDAR
VERSION:2.0
PRODID:-//Pickleball Is Great - ECPv6.15.18//NONSGML v1.0//EN
CALSCALE:GREGORIAN
METHOD:PUBLISH
X-WR-CALNAME:Pickleball Is Great
X-ORIGINAL-URL:https://pickleballisgreat.com
X-WR-CALDESC:Events for Pickleball Is Great
REFRESH-INTERVAL;VALUE=DURATION:PT1H
X-Robots-Tag:noindex
X-PUBLISHED-TTL:PT1H
BEGIN:VTIMEZONE
TZID:America/New_York
BEGIN:DAYLIGHT
TZOFFSETFROM:-0500
TZOFFSETTO:-0400
TZNAME:EDT
DTSTART:20240310T070000
END:DAYLIGHT
BEGIN:STANDARD
TZOFFSETFROM:-0400
TZOFFSETTO:-0500
TZNAME:EST
DTSTART:20241103T060000
END:STANDARD
BEGIN:DAYLIGHT
TZOFFSETFROM:-0500
TZOFFSETTO:-0400
TZNAME:EDT
DTSTART:20250309T070000
END:DAYLIGHT
BEGIN:STANDARD
TZOFFSETFROM:-0400
TZOFFSETTO:-0500
TZNAME:EST
DTSTART:20251102T060000
END:STANDARD
BEGIN:DAYLIGHT
TZOFFSETFROM:-0500
TZOFFSETTO:-0400
TZNAME:EDT
DTSTART:20260308T070000
END:DAYLIGHT
BEGIN:STANDARD
TZOFFSETFROM:-0400
TZOFFSETTO:-0500
TZNAME:EST
DTSTART:20261101T060000
END:STANDARD
END:VTIMEZONE
BEGIN:VEVENT
DTSTART;VALUE=DATE:20250516
DTEND;VALUE=DATE:20250519
DTSTAMP:20260419T234948
CREATED:20250306T215145Z
LAST-MODIFIED:20250306T215145Z
UID:4987-1747353600-1747612799@pickleballisgreat.com
SUMMARY:2025 Lehigh Valley Round Up USSP + All Ages by PIG
DESCRIPTION:Tournament Description\n\n\n\nAll skill and ages welcome\n\nUSSP Senior events are a Age/Skill format (5 year breaks) – no membership is required\, but if you have your USSP membership number in your profile\, you will get a $10 rebate/discount.\n\nInstructions for adding your membership number to your profile – https://www.usseniorpickleball.com/pb-ussp-training\n\nRegister: https://pickleballtournaments.com/tournaments/2025-lehigh-valley-round-up-ussp-all-ages-by-pig\n\nRegistration Starts\nEarly Registration (Jan/Feb) = $45 + event fees\nRegistration (March/April) = $65 + event fees\nLate Registration (beginning Apr 16) = $75 + event fees\n\nAll Events are $15 each\n\n\n\n\nAdditional Information\n\n\n\nPlayers will utilize “USSP” rating from their player profile\n\nFriday\, May 16 – Women’s Doubles / Men’s Singles\nSaturday\, May 17 – Mixed Doubles\nSunday\, May 18 – Men’s Doubles / Women’s Singles\n\nFormat:\nALL Round Robin with playoffs for Gold/Silver/Bronze. All games/matches are win by 2\n\nMost Round Robins are 1 to 15 but may change based on the number of players in the event. If an event has 7 or 8 teams\, round-robin matches may be 1 to 11 by 2.\nTop 4 teams go to the playoff (Lead in matches are 1 to 15 with the Gold Match with the option of 2/3-11w/2 or 1 to 15. Bronze Match 1 to 15.\n\nTD may combine brackets as needed to ensure quality play.\nTournament may close at any time if maximum daily numbers are met (even if some events appear to have openings)\n\n\n\n\nRefund Policy\n\n\n\nCANCELLATION DEADLINE: 5/7/25\nIf you withdraw before the CANCELLATION DEADLINE above\, you will be issued a refund (with a $20 processing fee deducted). Refunds will be issued at the conclusion of the tournament.\n\n\n\n\n\n\nVenue Details\n\n\n\n\n\nPickleball Lehigh Valley\n\n\n4636 Crackersport Road\nAllentown\, Pennsylvania\, 18104\nUnited States\n\n\nParking Information\nParking Fee: No Fee\nNO OVERNIGHT PARKING\n\n\n\nAmenities\n\n\nSurface Type: Tennis Hardcourt Surface\n\n\nNumber of courts: 34\n\n\nBall used: Franklin X40\n\n\nPlay area type: Indoor & Outdoor\n\n\nNet type: Permanent\n\n\nBall website: Click here
URL:https://pickleballisgreat.com/tournament/2025-lehigh-valley-round-up-ussp-all-ages-by-pig/
ATTACH;FMTTYPE=image/jpeg:https://pickleballisgreat.com/wp-content/uploads/2025/03/Lehigh-Valley-Round-up.jpg
END:VEVENT
END:VCALENDAR