BEGIN:VCALENDAR
VERSION:2.0
PRODID:-//Pickleball Is Great - ECPv6.15.18//NONSGML v1.0//EN
CALSCALE:GREGORIAN
METHOD:PUBLISH
X-WR-CALNAME:Pickleball Is Great
X-ORIGINAL-URL:https://pickleballisgreat.com
X-WR-CALDESC:Events for Pickleball Is Great
REFRESH-INTERVAL;VALUE=DURATION:PT1H
X-Robots-Tag:noindex
X-PUBLISHED-TTL:PT1H
BEGIN:VTIMEZONE
TZID:America/Los_Angeles
BEGIN:DAYLIGHT
TZOFFSETFROM:-0800
TZOFFSETTO:-0700
TZNAME:PDT
DTSTART:20240310T100000
END:DAYLIGHT
BEGIN:STANDARD
TZOFFSETFROM:-0700
TZOFFSETTO:-0800
TZNAME:PST
DTSTART:20241103T090000
END:STANDARD
BEGIN:DAYLIGHT
TZOFFSETFROM:-0800
TZOFFSETTO:-0700
TZNAME:PDT
DTSTART:20250309T100000
END:DAYLIGHT
BEGIN:STANDARD
TZOFFSETFROM:-0700
TZOFFSETTO:-0800
TZNAME:PST
DTSTART:20251102T090000
END:STANDARD
BEGIN:DAYLIGHT
TZOFFSETFROM:-0800
TZOFFSETTO:-0700
TZNAME:PDT
DTSTART:20260308T100000
END:DAYLIGHT
BEGIN:STANDARD
TZOFFSETFROM:-0700
TZOFFSETTO:-0800
TZNAME:PST
DTSTART:20261101T090000
END:STANDARD
END:VTIMEZONE
BEGIN:VEVENT
DTSTART;VALUE=DATE:20251121
DTEND;VALUE=DATE:20251124
DTSTAMP:20260421T111602
CREATED:20251017T230908Z
LAST-MODIFIED:20251017T230908Z
UID:5438-1763683200-1763942399@pickleballisgreat.com
SUMMARY:2025 Lucky Dink Classic - USSP + All Ages
DESCRIPTION:Tournament Description\n\n\nAll skill and ages welcome!\n\nUSSP Senior events are a Age/Skill format (5 year breaks) – no membership is required\, but if you have your USSP membership number in your profile\, you will get a $10 rebate/discount.\n\nInstructions for adding your membership number to your profile – https://www.usseniorpickleball.com/pb-ussp-training \nRegister: https://pickleballtournaments.com/tournaments/2025-lucky-dink-classic-ussp-all-ages\n\nRegistration Starts\nRegistration (JULY & AUGUST) = $45 + event fees\nEarly Registration (SEPTEMBER & OCTOBER) = $45+ event fees\nLate Registration (NOVEMBER) = $60+ event fees\n\nAll Doubles Events are $15 each\nAll Singles Events are $25 each\n\nDivisions Offered\nWe are excited to offer a range of divisions to cater to players of varying age groups and skill levels:\n\nSkill Levels: 3.0\, 3.5\, 4.0\, 4.5\, 5.0\nAge Groups: 18U\, 19+\, 35+\, 50+\, 55+\, 60+\, 65+\, 70+\, 75+\nPlaying Divisions: MD\, WD\, MXD\, MS\, WS\n\n\n\n\nAdditional Information\n\n\nPlayers will utilize USSP rating first if you have a current US Senior Pickleball membership – “DUPR” rating is next\n\nNovember 21 Friday – Women’s Doubles / Men’s Singles\nNovember 22 Saturday – Mixed Doubles\nNovember 23 Sunday – Men’s Doubles / Women’s Singles\n\nFormat:\nALL Round Robin with playoffs for Gold/Silver/Bronze. All games/matches are win by 2\n\nMost Round Robins are 1 to 15 but may change based on the number of players in the event. If an event has 7 or 8 teams\, round-robin matches may be 1 to 11 by 2.\nTop 4 teams go to the playoff (Lead in matches are 1 to 15 with the Gold Match with the option of 2/3-11w/2 or 1 to 15. Bronze Match 1 to 15.\n\nTD may combine brackets as needed to ensure quality play.\n\nTournament may close at any time if maximum daily numbers are met (even if some events appear to have openings)\n\n\n\n\nRefund Policy\n\n\nCANCELLATION DEADLINE: 11/9/25\nIf you withdraw before the CANCELLATION DEADLINE above\, you will be issued a refund (with a $20 processing fee deducted). Refunds will be issued at the conclusion of the tournament.\n\nSoftware service fees are not refundable\, even if the tournament/event is cancelled.\n\n\n\n\n\n\nVenue Details\n\n\n\n\nThe Picklr Henderson\n\n\n1450 W Horizon Ridge Pkwy – Suite 435\nHenderson\, Nevada\, 89012\nUnited States\n\n\nParking Information\nParking Fee: No Fee\nNO OVERNIGHT PARKING\n\n\n\nAmenities\n\n\nSurface Type: Tennis Hardcourt Surface\n\n\nNumber of courts: 11\n\n\nBall used: Franklin X40\n\n\nPlay area type: Indoor Air Conditioned\n\n\nNet type: Permanent\n\n\nBall website: Click here
URL:https://pickleballisgreat.com/tournament/2025-lucky-dink-classic-ussp-all-ages/
ATTACH;FMTTYPE=image/jpeg:https://pickleballisgreat.com/wp-content/uploads/2025/10/Lucky-Dink-Classic.jpg
END:VEVENT
END:VCALENDAR