BEGIN:VCALENDAR
VERSION:2.0
PRODID:-//Pickleball Is Great - ECPv6.15.18//NONSGML v1.0//EN
CALSCALE:GREGORIAN
METHOD:PUBLISH
X-WR-CALNAME:Pickleball Is Great
X-ORIGINAL-URL:https://pickleballisgreat.com
X-WR-CALDESC:Events for Pickleball Is Great
REFRESH-INTERVAL;VALUE=DURATION:PT1H
X-Robots-Tag:noindex
X-PUBLISHED-TTL:PT1H
BEGIN:VTIMEZONE
TZID:America/Los_Angeles
BEGIN:DAYLIGHT
TZOFFSETFROM:-0800
TZOFFSETTO:-0700
TZNAME:PDT
DTSTART:20240310T100000
END:DAYLIGHT
BEGIN:STANDARD
TZOFFSETFROM:-0700
TZOFFSETTO:-0800
TZNAME:PST
DTSTART:20241103T090000
END:STANDARD
BEGIN:DAYLIGHT
TZOFFSETFROM:-0800
TZOFFSETTO:-0700
TZNAME:PDT
DTSTART:20250309T100000
END:DAYLIGHT
BEGIN:STANDARD
TZOFFSETFROM:-0700
TZOFFSETTO:-0800
TZNAME:PST
DTSTART:20251102T090000
END:STANDARD
BEGIN:DAYLIGHT
TZOFFSETFROM:-0800
TZOFFSETTO:-0700
TZNAME:PDT
DTSTART:20260308T100000
END:DAYLIGHT
BEGIN:STANDARD
TZOFFSETFROM:-0700
TZOFFSETTO:-0800
TZNAME:PST
DTSTART:20261101T090000
END:STANDARD
END:VTIMEZONE
BEGIN:VEVENT
DTSTART;VALUE=DATE:20250523
DTEND;VALUE=DATE:20250526
DTSTAMP:20260419T222841
CREATED:20250126T035803Z
LAST-MODIFIED:20250126T035803Z
UID:4696-1747958400-1748217599@pickleballisgreat.com
SUMMARY:2025 Mt Shasta Pickleball Tournament by PIG
DESCRIPTION:Tournament Description\n\n\n\nRound Robin format (skill/age) WITH playoffs for Gold/Silver/Bronze for skills 3.0-4.5+. Age brackets will be determined following the close of registration\, but will strive to be close to under 50\, 50-59\, & 60+ events. TD may combine brackets as needed to ensure quality play.\n\nRegister: https://pickleballtournaments.com/tournaments/2025-mt-shasta-pickleball-tournament-by-pig\n\nPlayers will self-rate and can not play lower than their Pickleball Brackets rating (PBR) or DUPR. Players may only play up in skill .5 from their profile rating. Tournament Director reserves the right to correct underrated players.\n\nIf you note a player playing lower than their skill rating\, please use the contact tourney button above to let the tournament director know.\n\nUsing the Selkirk Pro S1 ball\n\nPickleball Is Great reserves the right to refuse service at anytime\n\n\n\n\n\nAdditional Information\n\n\n\nOutdoor Skill/Age tournament on tennis surface\nPartner must register within 7 days or be moved to the waitlist\n\nPayment is required to register (payment is per person) – $50 early registration + $15/event through 2/28\nBeginning Mar 1\, registration will be $60 + $15/event\nAfter deadline\, registration increases to $70 + $15/event\nDeadline – May 14th\n\nFriday – Senior Men’s & Women’s Doubles (50+ events)\nSaturday – Mixed Doubles\nSunday – Men’s & Women’s Doubles (no age events)\n\nFormat:\nALL Round Robin with playoffs for Gold/Silver/Bronze. All games/matches are win by 2\nMost Round Robins are 1 to 15 but may change based on the number of players in the event. If an event has 7 or 8 teams\, round-robin matches will be 1 to 11 by 2.\nTop 4 teams go to the playoff (Lead in matches are 1 to 15 with the Gold Match with the option of 2/3-11w/2 or 1 to 15. Bronze Match 1 to 15.\n\nTD may combine brackets as needed to ensure quality play.\n\n\n\n\n\nRefund Policy\n\n\n\n$10 Admin fee minimum for all withdrawals\nNo refunds after close of registration\n\nIf any event is cancelled due to weather there will be up to a 50% refund\n\n\n\n\n\n\nVenue Details\n\n\n\n\n\nMt Shasta Pickleball Courts\n\n\n1000 Siskiyou Lake Blvd\nMt Shasta\, California\, 96067\nUnited States\n\n\n\nParking Information\nParking Fee: No Fee\n\n\n\nAmenities\n\n\nSurface Type: Tennis Hardcourt Surface\n\n\nNumber of courts: 12\n\n\nBall used: Selkirk Pro S1\n\n\nPlay area type: Outdoor Non-Covered\n\n\nNet type: Portable\n\n\nBall website: Click here
URL:https://pickleballisgreat.com/tournament/2025-mt-shasta-pickleball-tournament-by-pig/
ATTACH;FMTTYPE=image/jpeg:https://pickleballisgreat.com/wp-content/uploads/2025/01/Mount-Shasta-Pickleball.jpg
END:VEVENT
END:VCALENDAR