BEGIN:VCALENDAR
VERSION:2.0
PRODID:-//Pickleball Is Great - ECPv6.15.18//NONSGML v1.0//EN
CALSCALE:GREGORIAN
METHOD:PUBLISH
X-WR-CALNAME:Pickleball Is Great
X-ORIGINAL-URL:https://pickleballisgreat.com
X-WR-CALDESC:Events for Pickleball Is Great
REFRESH-INTERVAL;VALUE=DURATION:PT1H
X-Robots-Tag:noindex
X-PUBLISHED-TTL:PT1H
BEGIN:VTIMEZONE
TZID:America/Phoenix
BEGIN:STANDARD
TZOFFSETFROM:-0700
TZOFFSETTO:-0700
TZNAME:MST
DTSTART:20240101T000000
END:STANDARD
END:VTIMEZONE
BEGIN:VEVENT
DTSTART;VALUE=DATE:20250303
DTEND;VALUE=DATE:20250306
DTSTAMP:20260420T030745
CREATED:20250130T231737Z
LAST-MODIFIED:20250130T231737Z
UID:4711-1740960000-1741219199@pickleballisgreat.com
SUMMARY:2025 NORRIS INVITATIONAL TOURNAMENT (NIT)
DESCRIPTION:Tournament Description\n\n\n\nJoin us for the 2025 NORRIS INVITATIONAL TOURNAMENT (NIT)\nHosted by the Sun Lakes Pickleball Club Cottonwood (SLPCC)\n\nRegister: https://pickleballtournaments.com/tournaments/2025-norris-invitational-tournament-nit\n\nFun Round Robin format WITH playoffs for Gold/Silver/Bronze for skills 2.5/3.0/3.5 . Age brackets to be determined by registration. TD may combine brackets as needed to ensure quality play.\n\nPlayers will self rate and the Tournament Director reserves the right to correct underrated players.\n\nUsing the X-40 ball\n\nALL 4.0 SKILLED AND UP WILL HAVE A BLIND DRAW – ROATATING PARTNERS\n\n\n\n\n\nAdditional Information\n\n\n\nPayment is required to register – Early registration $25 and includes the first event + $10 for the 2nd event\n\nNo sign ups after 2/28/25\n\nALL AGE DIVISIONS WILL BE SET AFTER REGISTRATION\n\nMONDAY 3/3/25 – Women’s Doubles\nTUESDAY 3/4/25 – Mixed Doubles\nWEDNESDAY 3/5/25 – Men’s Doubles\n\n\nPartner must register within 14 days or be moved to the waitlist.\n\nAge Divisions will be based on registrations.\n\nFormat:\nALL Round Robin with playoffs for Gold/Silver/Bronze. All games/matches are win by 2\nMost Round Robins are 1 to 15 but may change based on the number of players in the event. If an event has 7 or 8 teams\, round-robin matches will be 1 to 11 by 2.\nTop 4 teams go to the playoff (Lead in matches are 1 to 15 with the Gold Match with the option of 2/3-11w/2 or 1 to 15. Bronze Match 1 to 15.\nTD may combine brackets as needed to ensure quality play.\nTournament may close at any time if maximum daily numbers are met (even if some events appear to have openings)\n\nPIG reserves the right to refuse service at anytime\n\nTournament Director reserves the right to change format as needed.\n\n\n\n\n\nRefund Policy\n\n\n\n$10 administrative fee or all withdrawals\n\nAny withdrawal after 2/17 may request up to a 50% refund.\n\nAll weather related cancellations will have up to a 50% refund.\n\n\n\n\n\n\nVenue Details\n\n\n\n\n\nCottonwood Pickleball Courts\n\n\n25630 S Brentwood Dr\nSun Lakes\, Arizona\, 85248\nUnited States\n\n\n\nParking Information\nParking Fee: No Fee\nno over night parking\n\n\n\nAmenities\n\n\nSurface Type: Tennis Hardcourt Surface\n\n\nNumber of courts: 7\n\n\nBall used: Franklin X40\n\n\nPlay area type: Outdoor Non-Covered\n\n\nNet type: Permanent
URL:https://pickleballisgreat.com/tournament/2025-norris-invitational-tournament-nit/
ATTACH;FMTTYPE=image/jpeg:https://pickleballisgreat.com/wp-content/uploads/2025/01/Sun-Lakes-Arizona-PB.jpg
END:VEVENT
END:VCALENDAR