BEGIN:VCALENDAR
VERSION:2.0
PRODID:-//Pickleball Is Great - ECPv6.15.18//NONSGML v1.0//EN
CALSCALE:GREGORIAN
METHOD:PUBLISH
X-WR-CALNAME:Pickleball Is Great
X-ORIGINAL-URL:https://pickleballisgreat.com
X-WR-CALDESC:Events for Pickleball Is Great
REFRESH-INTERVAL;VALUE=DURATION:PT1H
X-Robots-Tag:noindex
X-PUBLISHED-TTL:PT1H
BEGIN:VTIMEZONE
TZID:America/Chicago
BEGIN:DAYLIGHT
TZOFFSETFROM:-0600
TZOFFSETTO:-0500
TZNAME:CDT
DTSTART:20240310T080000
END:DAYLIGHT
BEGIN:STANDARD
TZOFFSETFROM:-0500
TZOFFSETTO:-0600
TZNAME:CST
DTSTART:20241103T070000
END:STANDARD
BEGIN:DAYLIGHT
TZOFFSETFROM:-0600
TZOFFSETTO:-0500
TZNAME:CDT
DTSTART:20250309T080000
END:DAYLIGHT
BEGIN:STANDARD
TZOFFSETFROM:-0500
TZOFFSETTO:-0600
TZNAME:CST
DTSTART:20251102T070000
END:STANDARD
BEGIN:DAYLIGHT
TZOFFSETFROM:-0600
TZOFFSETTO:-0500
TZNAME:CDT
DTSTART:20260308T080000
END:DAYLIGHT
BEGIN:STANDARD
TZOFFSETFROM:-0500
TZOFFSETTO:-0600
TZNAME:CST
DTSTART:20261101T070000
END:STANDARD
END:VTIMEZONE
BEGIN:VEVENT
DTSTART;VALUE=DATE:20250329
DTEND;VALUE=DATE:20250331
DTSTAMP:20260420T012415
CREATED:20250214T195628Z
LAST-MODIFIED:20250214T195628Z
UID:4952-1743206400-1743379199@pickleballisgreat.com
SUMMARY:2025 Spring Classic @ Sandcastle Resort and Condominium by PIG
DESCRIPTION:Tournament Description\n\n\n\nHosted by the Sandcastle Resort Condominiums & Island Pickleball Company\n\nRegister: https://pickleballtournaments.com/tournaments/2025-spring-classic-at-sandcastle-resort-and-condominium-by-pig\n\nFun Round Robin format WITH playoffs for Gold/Silver/Bronze for skills 3.0 to 4.5+ .\n\nAge brackets to be determined by registration. TD may combine brackets as needed to ensure quality play.\n\nPlayers will self rate and the Tournament Director reserves the right to correct underrated players. Results are posted to DUPR. Players will self-rate and cannot play lower than their DUPR or USA Pickleball Tournament Player Rating (UTPR). Tournament Director reserves the right to correct underrated players WITH NO NOTICE.\n\n2/14 to 2/28 = Early Registration = $35 + $15 per event (1 per day limit)\n3/1 to 3/14 = Registration = $50 + $15 per event (1 per day limit)\n3/15 on Late Registration = $65 + $15 per event (1 per day limit)\n\n\nOutdoor play on up to 6 pickleball courts on a tennis surface\n\nUsing the Franklin X-40 ball\n\nPickleball Is Great reserves the right to refuse service at anytime\n\n\n\n\n\nAdditional Information\n\n\n\nSkill based – age splits based on who registers – Each player must register (and pay) themself\n\n3/28/25 Friday – Women’s Doubles (starting at 10am)\n3/29/25 Saturday – Mixed Doubles\n3/30/24 Sunday – Men’s Doubles\n\nOutdoor Age/Skill tournament on tennis surface\n\nPayment is required to register – Prices will increase as we approach the event.\n\nRatings – players will self rate but will be verified against DUPR & UTPR & UTP – R (players will be moved to the appropriate levels – any attempt to deceive or hide info will lead to removal)\n\nTD may combine brackets as needed to ensure quality play.\n\n\n\n\n\nRefund Policy\n\n\n\n$15 Admin fee minimum for all withdrawals\nNo refunds after close of registration\n\n\n\n\n\n\nVenue Details\n\n\n\n\n\nSandcastle Resort Condominiums\n\n\n800 Sandcastle Dr\nPort Aransas\, Texas\, 78373\nUnited States\n\n\n\nParking Information\nParking Fee: No Fee\nNo Overnight parking\n\n\n\nAmenities\n\n\nSurface Type: Tennis Hardcourt Surface\n\n\nNumber of courts: 6\n\n\nBall used: Franklin X40\n\n\nPlay area type: Outdoor Non-Covered\n\n\nNet type: Permanent\n\n\nBall website: Click here
URL:https://pickleballisgreat.com/tournament/2025-spring-classic-sandcastle-resort-and-condominium-by-pig/
ATTACH;FMTTYPE=image/jpeg:https://pickleballisgreat.com/wp-content/uploads/2025/02/Sandcastle-Resort-Spring-Classic.jpg
END:VEVENT
END:VCALENDAR