BEGIN:VCALENDAR
VERSION:2.0
PRODID:-//Pickleball Is Great - ECPv6.15.18//NONSGML v1.0//EN
CALSCALE:GREGORIAN
METHOD:PUBLISH
X-WR-CALNAME:Pickleball Is Great
X-ORIGINAL-URL:https://pickleballisgreat.com
X-WR-CALDESC:Events for Pickleball Is Great
REFRESH-INTERVAL;VALUE=DURATION:PT1H
X-Robots-Tag:noindex
X-PUBLISHED-TTL:PT1H
BEGIN:VTIMEZONE
TZID:America/Los_Angeles
BEGIN:DAYLIGHT
TZOFFSETFROM:-0800
TZOFFSETTO:-0700
TZNAME:PDT
DTSTART:20240310T100000
END:DAYLIGHT
BEGIN:STANDARD
TZOFFSETFROM:-0700
TZOFFSETTO:-0800
TZNAME:PST
DTSTART:20241103T090000
END:STANDARD
BEGIN:DAYLIGHT
TZOFFSETFROM:-0800
TZOFFSETTO:-0700
TZNAME:PDT
DTSTART:20250309T100000
END:DAYLIGHT
BEGIN:STANDARD
TZOFFSETFROM:-0700
TZOFFSETTO:-0800
TZNAME:PST
DTSTART:20251102T090000
END:STANDARD
BEGIN:DAYLIGHT
TZOFFSETFROM:-0800
TZOFFSETTO:-0700
TZNAME:PDT
DTSTART:20260308T100000
END:DAYLIGHT
BEGIN:STANDARD
TZOFFSETFROM:-0700
TZOFFSETTO:-0800
TZNAME:PST
DTSTART:20261101T090000
END:STANDARD
END:VTIMEZONE
BEGIN:VEVENT
DTSTART;VALUE=DATE:20250905
DTEND;VALUE=DATE:20250908
DTSTAMP:20260425T124035
CREATED:20250615T042122Z
LAST-MODIFIED:20250615T042122Z
UID:5258-1757030400-1757289599@pickleballisgreat.com
SUMMARY:2025 WSC Dominate the Dome by PIG
DESCRIPTION:Tournament Description\n\n\nRound Robin format (skill/age) WITH playoffs for Gold/Silver/Bronze for skills 3.0-5.0. Final age brackets will be determined following the close of registration\, but will strive to be close to under 50\, 50+ events.\n\nRegister: https://pickleballtournaments.com/tournaments/2025-wsc-dominate-the-dome-by-pig\n\nNumber of total matches will be determined by number of players in the event. This may change up to the time of play as “life” happens to players and facility requests may be made. Players are guaranteed a minimum of 3 matches.\n\nRatings:\n• Even though DUPR is the only rating listed for public view\, we are using DUPR only as a guideline. All rating systems have their pros and cons. Players will self-rate and we will also be using your previous tournament rating as our determinant\n• Please update your self-rating in your software profile before you register. You may only play up .5 from your self-rating\n• If you feel that a player is playing out of their skill\, please contact the tournament director. We will then evaluate tournament history and various ratings (including DUPR) to determine if a player/team needs to play at a different skill. Please be aware that this is a manual process and does not happen automatically\n\nIndoor Skill/Age tournament on up to 8 temporary pickleball courts\n\nMust use only paddles approved by USA Pickleball – https://equipment.usapickleball.org/paddle-list/\n\nUsing the Franklin X40 ball\nPickleball Is Great reserves the right to refuse service at anytime\n\n\n\n\nAdditional Information\n\n\nPayment is required to register – Registration $80 + $15/event through Aug 15. Beginning Aug 16\, late registration will be $90 + $15/event.\n\nPartner must register within 7 days or be moved to the waitlist\n(Final age breaks based on registration\, but will strive to be close to under 50\, 50+)\n\nFriday – Women’s Doubles\nSaturday – Mixed Doubles\nSunday – Men’s Doubles\n\nFormat:\nALL Round Robin with playoffs for Gold/Silver/Bronze. All games/matches are win by 2\nMost Round Robins are 1 to 15 but may change based on the number of players in the event. If an event has 7 or 8 teams\, round-robin matches will be 1 to 11 by 2.\nTop 4 teams go to the playoff (Lead in matches are 1 to 15 with the Gold Match with the option of 2/3-11w/2 or 1 to 15. Bronze Match 1 to 15.\nTD may combine brackets as needed to ensure quality play.\nTournament may close at any time if maximum daily numbers are met (even if some events appear to have openings)\n\n\n\n\nRefund Policy\n\n\n$15 Admin fee minimum for all withdrawals\nNo refunds after close of registration\n\nIf any event is cancelled due to weather there will be up to a 50% refund\nSoftware service fees are not refundable\, even if the tournament/event is cancelled.\n\n\n\n\n\n\nVenue Details\n\n\n\n\nWoodinville Sports Club\n\n\n15327 140th Pl NE\nWoodinville\, Washington\, 98072\nUnited States\n\n\nParking Information\nParking Fee: No Fee\nNo overnight parking\n\n\n\nAmenities\n\n\nSurface Type: Tennis Hardcourt Surface\n\n\nNumber of courts: 8\n\n\nBall used: Franklin X40\n\n\nPlay area type: Indoor\n\n\nNet type: Portable\n\n\nBall website: Click here
URL:https://pickleballisgreat.com/tournament/2025-wsc-dominate-the-dome-by-pig/
ATTACH;FMTTYPE=image/png:https://pickleballisgreat.com/wp-content/uploads/2024/11/fd196a10-1291-4a20-8ee6-a32d9cc4f0b2_logo.png
END:VEVENT
END:VCALENDAR