BEGIN:VCALENDAR
VERSION:2.0
PRODID:-//Pickleball Is Great - ECPv6.15.18//NONSGML v1.0//EN
CALSCALE:GREGORIAN
METHOD:PUBLISH
X-WR-CALNAME:Pickleball Is Great
X-ORIGINAL-URL:https://pickleballisgreat.com
X-WR-CALDESC:Events for Pickleball Is Great
REFRESH-INTERVAL;VALUE=DURATION:PT1H
X-Robots-Tag:noindex
X-PUBLISHED-TTL:PT1H
BEGIN:VTIMEZONE
TZID:America/Los_Angeles
BEGIN:DAYLIGHT
TZOFFSETFROM:-0800
TZOFFSETTO:-0700
TZNAME:PDT
DTSTART:20240310T100000
END:DAYLIGHT
BEGIN:STANDARD
TZOFFSETFROM:-0700
TZOFFSETTO:-0800
TZNAME:PST
DTSTART:20241103T090000
END:STANDARD
BEGIN:DAYLIGHT
TZOFFSETFROM:-0800
TZOFFSETTO:-0700
TZNAME:PDT
DTSTART:20250309T100000
END:DAYLIGHT
BEGIN:STANDARD
TZOFFSETFROM:-0700
TZOFFSETTO:-0800
TZNAME:PST
DTSTART:20251102T090000
END:STANDARD
BEGIN:DAYLIGHT
TZOFFSETFROM:-0800
TZOFFSETTO:-0700
TZNAME:PDT
DTSTART:20260308T100000
END:DAYLIGHT
BEGIN:STANDARD
TZOFFSETFROM:-0700
TZOFFSETTO:-0800
TZNAME:PST
DTSTART:20261101T090000
END:STANDARD
END:VTIMEZONE
BEGIN:VEVENT
DTSTART;VALUE=DATE:20251205
DTEND;VALUE=DATE:20251208
DTSTAMP:20260423T100219
CREATED:20250804T231725Z
LAST-MODIFIED:20250804T231725Z
UID:5346-1764892800-1765151999@pickleballisgreat.com
SUMMARY:2025 WSC NW Holiday Classic by PIG
DESCRIPTION:Tournament Description\n\n\nSave the Date (Dec 5-7)\nFun Round Robin format WITH playoffs for Gold/Silver/Bronze for skills 3.0-5.0 in age events (under 50 & 50+). TD may combine brackets as needed to ensure quality play.\n\nRegister: https://pickleballtournaments.com/tournaments/2025-wsc-nw-holiday-classic-by-pig\n\nDUPR required for all players – be sure your player profile is up to date…\nYou may not play below your DUPR rating\n\nEach player is required to register /pay separately. Players will have a $5/event non-refundable software fee ($10 max) charged at registration\n\nDeadline Nov 26\, 2025\n\nFormat:\nALL Round Robin with playoffs for Gold/Silver/Bronze. All games/matches are win by 2\nMost Round Robins are 1 to 15 but may change based on the number of players in the event. If an event has 7 or 8 teams\, round-robin matches will be 1 to 11 by 2.\nTop 4 teams go to the playoff (Lead in matches are 1 to 15 with the Gold Match with the option of 2/3-11w/2 or 1 to 15. Bronze Match 1 to 15.\nTD may combine brackets as needed to ensure quality play.\nTournament may close at any time if maximum daily numbers are met (even if some events appear to have openings)\n\n\n\n\nAdditional Information\n\n\n12/5 Friday – Women’s Doubles\n12/6 Saturday – Mixed Doubles\n12/7 Sunday – Men’s Doubles\n\nEach player is required to have their DUPR number attached to their pickleballtournaments.com profile.\nEach player is responsible to register/pay\n\nIndoor Skill/Age tournament on tennis surface\n\n$15 per event fee. Payment is required to register – Prices will increase as we approach the event.\n\nPickleball Is Great reserves the right to refuse service at anytime.\n\n\n\n\nRefund Policy\n\n\n$15 Admin fee minimum for all withdrawals\nNo refunds after close of registration\n\nIf any event is cancelled due to unforeseen circumstances\, there will be up to a 50% refund\nSoftware service fees are not refundable\, even if the tournament/event is cancelled.\n\n\n\n\n\n\nVenue Detail\n\n\n\n\nWoodinville Sports Club\n\n\n15327 140th Pl NE\nWoodinville\, Washington\, 98072\nUnited States\n\n\nParking Information\nParking Fee: No Fee\nNo overnight parking\n\n\n\nAmenities\n\n\nSurface Type: Tennis Hardcourt Surface\n\n\nNumber of courts: 8\n\n\nBall used: Franklin X40\n\n\nPlay area type: Indoor\n\n\nNet type: Portable
URL:https://pickleballisgreat.com/tournament/2025-wsc-nw-holiday-classic-by-pig/
END:VEVENT
END:VCALENDAR