BEGIN:VCALENDAR
VERSION:2.0
PRODID:-//Pickleball Is Great - ECPv6.15.18//NONSGML v1.0//EN
CALSCALE:GREGORIAN
METHOD:PUBLISH
X-WR-CALNAME:Pickleball Is Great
X-ORIGINAL-URL:https://pickleballisgreat.com
X-WR-CALDESC:Events for Pickleball Is Great
REFRESH-INTERVAL;VALUE=DURATION:PT1H
X-Robots-Tag:noindex
X-PUBLISHED-TTL:PT1H
BEGIN:VTIMEZONE
TZID:America/Phoenix
BEGIN:STANDARD
TZOFFSETFROM:-0700
TZOFFSETTO:-0700
TZNAME:MST
DTSTART:20250101T000000
END:STANDARD
END:VTIMEZONE
BEGIN:VEVENT
DTSTART;VALUE=DATE:20260109
DTEND;VALUE=DATE:20260112
DTSTAMP:20260421T114250
CREATED:20250918T145926Z
LAST-MODIFIED:20251130T194126Z
UID:5362-1767916800-1768175999@pickleballisgreat.com
SUMMARY:2026 Winter More Bang for the Buck! USSP + ALL AGES @ Gilbert Regional Park by PIG
DESCRIPTION:Tournament Description\n\n\nWelcome to the next Pickleball Is Great event at Gilbert Regional Park.\n\nDUPR EXLUDED – NO DUPR\n\nAll skill and ages welcome\n\nRegister: https://pickleballtournaments.com/tournaments/2026-winter-more-bang-for-the-buck-ussp-all-ages-at-gilbert-regional-park-by-pig-1\n\n\nUSSP Senior events are a Age/Skill format (5 year breaks) – no membership is required\, but if you have your USSP membership number in your profile\, you will get a $10 rebate/discount.\n\n1/9/26 Friday – Women’s Doubles\n1/10/26 Saturday – Mixed Doubles\n1/11/26 Sunday – Men’s Doubles\n\nTournament fees :\nEarly Registration September & October = $35 + EVENT FEES\nRegistration November = $45 + EVENT FEES\nRegistration December = $55 + EVENT FEES\n\nDoubles events are $15 each\nSingles events are $25 each\n\nThe ball is FRANKLIN X-40\n\nPickleball Is Great reserves the right to refuse service\n\n\n\n\nAdditional Information\n\n\nALL DATA EXCLUDED FROM “DUPR”\n\nFormat:\nALL Round Robin with playoffs for Gold/Silver/Bronze. All games/matches are win by 2\nMost Round Robins will be 1 to 15 but may change based on the number of players in the event. If an event has 7 or 8 teams\, round-robin matches will be 1 to 11 by 2.\n\nTop 4 teams go to the playoff (Lead in matches are 1 to 15 with the Gold Match with the option of 2/3-11w/2 or 1 to 15. Bronze Match 1 to 15.\n\nTD may combine brackets as needed to ensure quality play.\n\nTournament may close at any time if maximum daily numbers are met (even if some events appear to have openings)\n\n\n\n\nRefund Policy\n\n\nCANCELLATION DEADLINE: 12/31/25\nIf you withdraw before the CANCELLATION DEADLINE above\, you will be issued a refund (with a $20 processing fee deducted). Refunds will be issued at the conclusion of the tournament.\n\nSoftware service fees are not refundable\, even if the tournament/event is cancelled.\n\n\n\n\n\n\nVenue Details\n\n\n\n\nGilbert Regional Park\n\n\n3005 E Queen Creek Rd.\nGilbert\, Arizona\, 85298\nUnited States\n\n\nParking Information\nParking Fee: No Fee\nNO OVERNIGHT PARKING\n\nAmenities\n\n\n\n\nSurface Type: Tennis Hardcourt Surface\n\n\nNumber of courts: 8\n\n\nBall used: Franklin X40\n\n\nPlay area type: Outdoor Non-Covered\n\n\nNet type: Permanent\n\n\nBall website: Click here
URL:https://pickleballisgreat.com/tournament/2026-winter-more-bang-for-the-buck-ussp-all-ages-at-gilbert-regional-park-by-pig-1/
ATTACH;FMTTYPE=image/jpeg:https://pickleballisgreat.com/wp-content/uploads/2025/09/More-Bang-for-the-Buck.jpg
END:VEVENT
END:VCALENDAR