BEGIN:VCALENDAR
VERSION:2.0
PRODID:-//Pickleball Is Great - ECPv6.15.18//NONSGML v1.0//EN
CALSCALE:GREGORIAN
METHOD:PUBLISH
X-WR-CALNAME:Pickleball Is Great
X-ORIGINAL-URL:https://pickleballisgreat.com
X-WR-CALDESC:Events for Pickleball Is Great
REFRESH-INTERVAL;VALUE=DURATION:PT1H
X-Robots-Tag:noindex
X-PUBLISHED-TTL:PT1H
BEGIN:VTIMEZONE
TZID:America/Los_Angeles
BEGIN:DAYLIGHT
TZOFFSETFROM:-0800
TZOFFSETTO:-0700
TZNAME:PDT
DTSTART:20250309T100000
END:DAYLIGHT
BEGIN:STANDARD
TZOFFSETFROM:-0700
TZOFFSETTO:-0800
TZNAME:PST
DTSTART:20251102T090000
END:STANDARD
BEGIN:DAYLIGHT
TZOFFSETFROM:-0800
TZOFFSETTO:-0700
TZNAME:PDT
DTSTART:20260308T100000
END:DAYLIGHT
BEGIN:STANDARD
TZOFFSETFROM:-0700
TZOFFSETTO:-0800
TZNAME:PST
DTSTART:20261101T090000
END:STANDARD
BEGIN:DAYLIGHT
TZOFFSETFROM:-0800
TZOFFSETTO:-0700
TZNAME:PDT
DTSTART:20270314T100000
END:DAYLIGHT
BEGIN:STANDARD
TZOFFSETFROM:-0700
TZOFFSETTO:-0800
TZNAME:PST
DTSTART:20271107T090000
END:STANDARD
END:VTIMEZONE
BEGIN:VEVENT
DTSTART;VALUE=DATE:20260129
DTEND;VALUE=DATE:20260201
DTSTAMP:20260421T114228
CREATED:20251130T213439Z
LAST-MODIFIED:20251130T213439Z
UID:5501-1769644800-1769903999@pickleballisgreat.com
SUMMARY:2nd Annual Washington Frosty Frenzy by PIG
DESCRIPTION:Tournament Description\n\n\nFun Round Robin format WITH playoffs for Gold/Silver/Bronze for skills 3.0-4.5+. Age brackets to be determined by registration but similar to (under 60\, 60+). TD may combine brackets as needed to ensure quality play.\n\nDUPR required for all players – be sure your player profile is up to date…\nYou may not play below your DUPR rating. Scores will be reported to DUPR\n\nIf you note a player playing lower than their skill rating\, please use the contact tourney button above to let the tournament director know.\n\n\nRegister: https://pickleballtournaments.com/tournaments/2nd-annual-washington-frosty-frenzy-by-pig\n\n\n\nAdditional Information\n\n\nPayment is required to register – Registration $50 (includes first event). Additional events at $15\n\nPartner must register within 7 days or be moved to the waitlist\nAge brackets to be determined by registration but similar to (under 60\, 60+)\n\nThursday- Women’s Doubles / Men’s Singles (full court)\nFriday- Mixed Doubles\nSaturday- Men’s Doubles / Women’s Singles (full court)\n\nFormat:\nALL Round Robin with playoffs for Gold/Silver/Bronze. All games/matches are win by 2\nMost Round Robins are 1 to 15 but may change based on the number of players in the event. If an event has 7 or 8 teams\, round-robin matches will be 1 to 11 by 2.\nTop 4 teams go to the playoff (Lead in matches are 1 to 15 with the Gold Match with the option of 2/3-11w/2 or 1 to 15. Bronze Match 1 to 15.\nTD may combine brackets as needed to ensure quality play.\n\nSkill/Age tournament on tennis surface.\n\nRegistration may close at any time if daily or tournament numbers are met. Even if specific events do not meet their max.\n\n\n\n\nRefund Policy\n\n\n$15 Admin fee minimum for all withdrawals\n\nIf any event is cancelled due to weather\, there will be up to a 50% refund\nDeadline is 1/20/26 for any refund\n\n\n\n\n\n\nVenue Details\n\n\n\n\nParkfit Athletic Club @North Park\n\n\n8121 N Division St\nSpokane\, Washington\, 99208\nUnited States\n\n\nParking Information\nParking Fee: No Fee\n\n\n\nAmenities\n\n\nSurface Type: Tennis Hardcourt Surface\n\n\nNumber of courts: 15\n\n\nBall used: Selkirk Pro S1\n\n\nPlay area type: Indoor\n\n\nNet type: Permanent & Portable\n\n\nBall website: Click here
URL:https://pickleballisgreat.com/tournament/2nd-annual-washington-frosty-frenzy-by-pig/
ATTACH;FMTTYPE=image/jpeg:https://pickleballisgreat.com/wp-content/uploads/2025/11/Frosty-Frenzy.jpg
END:VEVENT
END:VCALENDAR