BEGIN:VCALENDAR
VERSION:2.0
PRODID:-//Pickleball Is Great - ECPv6.15.18//NONSGML v1.0//EN
CALSCALE:GREGORIAN
METHOD:PUBLISH
X-WR-CALNAME:Pickleball Is Great
X-ORIGINAL-URL:https://pickleballisgreat.com
X-WR-CALDESC:Events for Pickleball Is Great
REFRESH-INTERVAL;VALUE=DURATION:PT1H
X-Robots-Tag:noindex
X-PUBLISHED-TTL:PT1H
BEGIN:VTIMEZONE
TZID:America/Boise
BEGIN:DAYLIGHT
TZOFFSETFROM:-0700
TZOFFSETTO:-0600
TZNAME:MDT
DTSTART:20240310T090000
END:DAYLIGHT
BEGIN:STANDARD
TZOFFSETFROM:-0600
TZOFFSETTO:-0700
TZNAME:MST
DTSTART:20241103T080000
END:STANDARD
BEGIN:DAYLIGHT
TZOFFSETFROM:-0700
TZOFFSETTO:-0600
TZNAME:MDT
DTSTART:20250309T090000
END:DAYLIGHT
BEGIN:STANDARD
TZOFFSETFROM:-0600
TZOFFSETTO:-0700
TZNAME:MST
DTSTART:20251102T080000
END:STANDARD
BEGIN:DAYLIGHT
TZOFFSETFROM:-0700
TZOFFSETTO:-0600
TZNAME:MDT
DTSTART:20260308T090000
END:DAYLIGHT
BEGIN:STANDARD
TZOFFSETFROM:-0600
TZOFFSETTO:-0700
TZNAME:MST
DTSTART:20261101T080000
END:STANDARD
END:VTIMEZONE
BEGIN:VEVENT
DTSTART;VALUE=DATE:20250919
DTEND;VALUE=DATE:20250922
DTSTAMP:20260425T153457
CREATED:20250311T173937Z
LAST-MODIFIED:20250311T182009Z
UID:5049-1758240000-1758499199@pickleballisgreat.com
SUMMARY:3rd Annual Sun Valley Pickleball Classic by PIG
DESCRIPTION:Tournament Description\n\n\n\nSave the Date for the 3rd Annual Sun Valley Classic! Sept 19-21\n\nRound Robin format WITH playoffs for Gold/Silver/Bronze for skills 3.0-4.5+. Final age brackets will be determined following the close of registration.\n\nRegister: https://pickleballtournaments.com/tournaments/3rd-annual-sun-valley-pickleball-classic-by-pig\n\n***Ratings:\n• Even though DUPR is the only rating listed for public view\, we are using DUPR only as a guideline. All rating systems have their pros and cons. Players will self-rate and we will also be using your previous tournament rating (PBR) as our determinant\n• Please update your self-rating in your software profile before you register. You may only play up .5 from your self-rating\n• If you feel that a player is playing out of their skill\, please contact the tournament director. We will then evaluate tournament history and various ratings (including DUPR) to determine if a player/team needs to play at a different skill. Please be aware that this is a manual process and does not happen automatically\n\nOutdoor Skill/Age tournament on tennis surface\n\nUsing the Franklin X-40 ball\n\n\n\n\nAdditional Information\n\n\n\nEach player is responsible to register and pay –\nRegistration – $75 (includes 1st event) / $25 for 2nd event through Aug 15.\nBeginning Aug 16\, registration will be $85 (includes 1st event) / $25 for each additional event.\nDeadline – Sept 10\n\nOptional hat for purchase $15\n\nThursday evening – drop-in play and social event\nFriday – Women’s Doubles / Men’s Singles (full court) / Gender-Neutral Doubles 1st time tournament event (morning) / Kid’s Social Doubles\, ages 11-17 (afternoon)\nSaturday – Mixed Doubles\nSunday – Men’s Doubles / Women’s Singles (full court)\n\nSocial gender-neutral doubles event for first time tournament players on Friday (morning) Sept 19. Check out the tournament through the eyes of this fun\, social event geared for skill level 3.0 and under. You may NOT also enter the WD/MD or singles events if you choose to play in this gender-neutral doubles event. You may only choose to add the Saturday mixed event.\n\nYouth gender-neutral doubles event for ages 11-17 on Friday (afternoon) Sept 19. Partner with your friend and challenge other kids in a fun competition event. You may NOT also enter the WD/MD or singles events if you choose to play in this gender-neutral doubles event. You may only choose to add the Saturday mixed event.\n\nFormat:\nALL Round Robin games/matches are win by 2.\nMost Round Robins are 1 to 15 but may change based on the number of players in the event. If an event has 7 or 8 teams\, round-robin matches will be 1 to 11 by 2.\nTop 4 teams go to the playoff (1st & 2nd seeds to play Gold Match. 3rd & 4th seeds to play Bronze Match.\n\nTD may combine brackets as needed to ensure quality play.\nTournament may close at any time if maximum daily numbers are met (even if some events appear to have openings)\n\nPickleball Is Great reserves the right to refuse service at anytime.\n\n\n\n\nRefund Policy\n\n\n\n$15 Admin fee minimum for all withdrawals\nNo refunds after close of registration\n\nIf any event is cancelled due to weather there will be up to a 50% refund\n\n\n\n\n\n\nVenue Details\n\n\n\n\n\nSun Valley Resort\n\n\n1 Sun Valley Rd\nSun Valley\, Idaho\, 83353\nUnited States\n\n\nParking Information\nParking Fee: No Fee\n\n\n\nAmenities\n\n\nSurface Type: Tennis Hardcourt Surface\n\n\nNumber of courts: 10\n\n\nBall used: Franklin X-40\n\n\nPlay area type: Outdoor Non-Covered\n\n\nNet type: Portable\n\n\nBall website: Click here
URL:https://pickleballisgreat.com/tournament/3rd-annual-sun-valley-pickleball-classic-by-pig/
ATTACH;FMTTYPE=image/jpeg:https://pickleballisgreat.com/wp-content/uploads/2025/03/Sun-Valley-Classic.jpg
END:VEVENT
END:VCALENDAR