BEGIN:VCALENDAR
VERSION:2.0
PRODID:-//Pickleball Is Great - ECPv6.15.18//NONSGML v1.0//EN
CALSCALE:GREGORIAN
METHOD:PUBLISH
X-WR-CALNAME:Pickleball Is Great
X-ORIGINAL-URL:https://pickleballisgreat.com
X-WR-CALDESC:Events for Pickleball Is Great
REFRESH-INTERVAL;VALUE=DURATION:PT1H
X-Robots-Tag:noindex
X-PUBLISHED-TTL:PT1H
BEGIN:VTIMEZONE
TZID:America/Los_Angeles
BEGIN:DAYLIGHT
TZOFFSETFROM:-0800
TZOFFSETTO:-0700
TZNAME:PDT
DTSTART:20240310T100000
END:DAYLIGHT
BEGIN:STANDARD
TZOFFSETFROM:-0700
TZOFFSETTO:-0800
TZNAME:PST
DTSTART:20241103T090000
END:STANDARD
BEGIN:DAYLIGHT
TZOFFSETFROM:-0800
TZOFFSETTO:-0700
TZNAME:PDT
DTSTART:20250309T100000
END:DAYLIGHT
BEGIN:STANDARD
TZOFFSETFROM:-0700
TZOFFSETTO:-0800
TZNAME:PST
DTSTART:20251102T090000
END:STANDARD
BEGIN:DAYLIGHT
TZOFFSETFROM:-0800
TZOFFSETTO:-0700
TZNAME:PDT
DTSTART:20260308T100000
END:DAYLIGHT
BEGIN:STANDARD
TZOFFSETFROM:-0700
TZOFFSETTO:-0800
TZNAME:PST
DTSTART:20261101T090000
END:STANDARD
END:VTIMEZONE
BEGIN:VEVENT
DTSTART;VALUE=DATE:20250715
DTEND;VALUE=DATE:20250721
DTSTAMP:20260419T144056
CREATED:20250204T012616Z
LAST-MODIFIED:20250306T220728Z
UID:4756-1752537600-1753055999@pickleballisgreat.com
SUMMARY:2025 Seattle Metro Classic Presented by UW Medicine
DESCRIPTION:Tournament Description\n\n\n\nREGISTRATION WILL START AT 12PM (PDT) ON WEDNESDAY 4/2/25 – please review your player profile now to update your self rating BEFORE you register.\n\nRegister: https://pickleballtournaments.com/tournaments/2025-seattle-metro-classic-presented-by-uw-medicine\n\nFEES:\nRegistration / per player: $ 80\nSkill Event / per event: $ 15\nOpen Event / per event: $ 40\n\nREGISTRATION RULES (Applies to ALL events\, Skill and Open)\n~Players can only register for ONE “mixed doubles” and ONE “gender doubles” event. (2 events total for entire tournament)\n\n~Players need to connect their DUPR account to their tournament profile and will use their DUPR rating when registering for the tournament.\n\n~Partner not required at time of registration for any event. (PLEASE read details for limited time before moving to waitlist)\n\n~Payment is required at time of registration.\n\n~Any player that does not have a partner registered with 30 days of their initial registration will be moved\nto the waitlist.\n\n~If a player needs to change their partner due to injury or unexpected circumstances\, they can do so up to 7 days prior to the start of the tournament. Players needing to change partners need to contact the tournament director to do so.\n\n~Waitlisted teams that are complete will be added to the active roster once space becomes available or if a division is expanded.\n\nWe reserve all rights to refuse service for any reason.\n\n\n\n\nAdditional Information\n\n\n\n~Double Elimination (not round robin)\n~Franklin X40 Ball\n~Skill Divisions: 3.0\,3.5\,4.0\,4.5\n~Open Divisions with prize money (minimum rating requirements for open divisions)\n\nTuesday\, July 15\nSenior Women’s Doubles 50+ & 60+\nSenior Women’s Doubles Open 50+ (4.5+ DUPR Required)\n\nWednesday\, July 16\nSenior Mixed Doubles 50+ & 60+\nSenior Mixed Doubles Open 50+ (4.5+ DUPR Required)\n\nThursday\, July 17\nSenior Men’s Doubles 50+ & 60+\nSenior Men’s Doubles Open 50+ (4.5+ DUPR Required)\nBORDER BATTLE EXHIBITION EVENT\n\nFriday\, July 18\nWomen’s Doubles 12+ & 35+\nWomen’s Doubles Open 12+ (4.5+ DUPR Required)\n* Men’s Doubles Open 12+ PLAY-IN QUALIFIER (4.5+ DUPR Required)\n\nSaturday\, July 19\nMixed Doubles 12+ & 35+\nMixed Doubles Open 12+ (4.5+ DUPR Required)\n\nSunday\, July 20\nMen’s Doubles 12+ & 35+\n* Men’s Doubles Open 12+ (5.0+ DUPR Required)\n……………………………………………………………………………..\n\n*MEN’S DOUBLES OPEN PLAY-IN QUALIFIER REQUIRED FOR ALL TEAMS THAT DO NOT HAVE A DUPR RATING OF 5.0 OR HIGHER\n\n*Due to the limited space at the venue and the high demand to play in the Men’s Doubles Open\, we will be holding a Men’s Doubles Open 12+ Play-In Qualifier event on Friday\, July 18th for teams who have a rating of 4.5+ and want a chance to compete in the Men’s Doubles Open 12+ event on Sunday\, July 20th. The top 4 teams from Friday’s qualifier event will move on to compete in Sunday’s Open event. The Play-In Qualifier will be double elimination with no medal matches and have a maximum of 16 teams. (Changes to format will be at the discretion of the tournament director) Both players will be required to have a DUPR of at least 4.5.\n………………………………………………………………\n\nOPEN DIVISION PLAY AND PAYOUT POLICY\n\nPrizes will be only be awarded and distributed equally amongst Open Divisions\, with prizes offered for 1st\, 2nd \, 3rd and 4th place\, so long at the division has a minimum of 8 teams.  If the division has less than 8 teams\, prizes will be prorated as follows:\n\n8 or more teams in an Open division – Double elimination format. Prizes will be awarded for 1st\, 2nd\, 3rd and 4th place at 100%.\n\n6-7 teams in an Open division – Double elimination or round robin format (tournament director discretion). Prizes will be awarded for 1st\, 2nd and 3rd place at 75%.\n\n4 – 5 teams in an Open division -  Open division will be either of the following formats (decided by tournament director).\n~Play in a Round Robin Format within their division\, with prizes awarded at 60%.\n~Combine with the other Open division age group. (ie. Combine 50+ and 19+) Prizes will be awarded to the top 3 teams at 100%\, so long as the combined divisions have at least 8 teams.\n\nLess than 4 teams – Open division will be combined with the other Open division age group.  (ie. Combine 50+ and 19+).\n\nIf the combined divisions have at least 8 teams\, the format will be double elimination with prizes awarded to the top 3 teams at 100%.\n\nIf the combined division is only 6-7 total teams\, prizes will be prorated to 75% with format decided by tournament director.\n\nIf the combined division is only 4-5 total teams\, prizes will be prorated to 60% with round robin format.\n\nTeams in any Open division with less than 4 teams will have the option to withdraw for a full refund.\n\n\n\n\nRefund Policy\n\n\n\n$20 Admin fee minimum for all withdrawals\n\nREFUND DEADLINE – July 1st – Deadline to receive a refund for registration or event fees is July 1st.\nNo refunds will be given after July 1st\, unless your event is combined with another age/skill group or cancelled. In this case\, the tournament director will contact you to notify of changes and you will have the opportunity to request a refund or stay in your division.\n\nWEATHER CANCELATION POLICY\nIf any event is cancelled due to weather\, there will be up to a 50% refund.\n\n\n\n\n\nVenue Details\n\n\n\n\n\nShoreview Park\, Shoreline\, WA\n\n\n700 NW Innis Arden Way\nShoreline\, Washington\, 98177\nUnited States\n\n\nParking Information\nParking Fee: No Fee\nLimited Parking at venue\, overflow parking at Shoreline Community College. Please carpool and arrive extra early for your scheduled start time.\n\n\n\nAmenities\n\n\nSurface Type: Tennis Hardcourt Surface\n\n\nNumber of courts: 18\n\n\nBall used: Franklin X-40\n\n\nPlay area type: Outdoor Non-Covered\n\n\nNet type: Permanent & Portable\n\n\nBall website: Click here
URL:https://pickleballisgreat.com/tournament/4756/
ATTACH;FMTTYPE=image/jpeg:https://pickleballisgreat.com/wp-content/uploads/2025/02/Seattle-Metro-Classic.jpg
END:VEVENT
END:VCALENDAR