BEGIN:VCALENDAR
VERSION:2.0
PRODID:-//Pickleball Is Great - ECPv6.15.18//NONSGML v1.0//EN
CALSCALE:GREGORIAN
METHOD:PUBLISH
X-WR-CALNAME:Pickleball Is Great
X-ORIGINAL-URL:https://pickleballisgreat.com
X-WR-CALDESC:Events for Pickleball Is Great
REFRESH-INTERVAL;VALUE=DURATION:PT1H
X-Robots-Tag:noindex
X-PUBLISHED-TTL:PT1H
BEGIN:VTIMEZONE
TZID:UTC
BEGIN:STANDARD
TZOFFSETFROM:+0000
TZOFFSETTO:+0000
TZNAME:UTC
DTSTART:20240101T000000
END:STANDARD
END:VTIMEZONE
BEGIN:VEVENT
DTSTART;VALUE=DATE:20250314
DTEND;VALUE=DATE:20250317
DTSTAMP:20260420T025949
CREATED:20241107T003113Z
LAST-MODIFIED:20241107T003113Z
UID:4593-1741910400-1742169599@pickleballisgreat.com
SUMMARY:4th Annual St Patty's Day Duel by PIG
DESCRIPTION:Description\nRound Robin format (skill/age) WITH playoffs for Gold/Silver/Bronze for skills 3.0-5.0. Age brackets will be determined following the close of registration\, but will strive to be close to under 50\, 50-59\, & 60+ events. \nRegister: https://pickleballbrackets.com/ptd.aspx?eid=7063a099-9143-4782-8286-8df7af410450 \nPlayers will self rate and can not play lower than their Pickleball Brackets Rating (PBR)\nTournament Director reserves the right to correct underrated players. \nFriday – Women’s Doubles / Men’s Mini-Singles\nSaturday – Mixed Doubles\nSunday – Men’s Doubles / Women’s Mini-Singles \n\n\nAdditional Information\nPayment is required to register – Early registration $45 + $15/event through Dec 31 Standard registration $60 + $15/event through Mar 5. After registration closes (beginning Mar 7)\, late registration will be $75 + $15/event.\nPayment is per person and players are ultimately responsible to secure their own partner. \nFormat:\nALL Round Robin with playoffs for Gold/Silver/Bronze. All games/matches are win by 2\nMost Round Robins will be 1 to 15 but may change based on the number of players in the event. If an event has 7 or 8 teams\, round-robin matches will be 1 to 11 by 2.\nTop 4 teams go to the playoff (Lead in matches are 1 to 15 with the Gold Match with the option of 2/3-11w/2 or 1 to 15. Bronze Match 1 to 15.\nTD may combine brackets as needed to ensure quality play.\nTournament may close at any time if maximum daily numbers are met (even if some events appear to have openings) \nUsing the Franklin X-40 ball \n\n\nRefund Policy\n$10 Admin fee minimum for all withdrawals \nIf any event is cancelled due to weather there will be up to a 50% refund\nDeadline is 3/5/25 for refund \n\n\nVenue Information\n\n\n\nYakima Tennis Center\n2505 Fruitvale Blvd\nYakima\nWashington 98902\nUnited States\nSurface Type: Tennis & Concrete\nPlay Area Type: Indoor Air Conditioned\nNet Type: Portable\nBall Used: Franklin X40\nNumber of Courts: 10\nParking: No Fee\n\n\n\n\nDetails\n\n\n\nOfficiated Type→ None\n\n\n\n\nMax Events Per Registration→ 3\n\n\n\n\nCost Includes→ 0 Events\n\n\n\n\nGuaranteed Games Per Event→ 3\n\n\n\n\nAllow Pets→ No\n\n\n\n\nAllow Food→ No\n\n\n\n\nAllow Dish to Pass→ No\n\n\n\n\nAllow Grill→ No
URL:https://pickleballisgreat.com/tournament/4th-annual-st-pattys-day-duel-by-pig/
ATTACH;FMTTYPE=image/jpeg:https://pickleballisgreat.com/wp-content/uploads/2024/11/7063a099-9143-4782-8286-8df7af410450_logo.jpg
END:VEVENT
END:VCALENDAR