BEGIN:VCALENDAR
VERSION:2.0
PRODID:-//Pickleball Is Great - ECPv6.15.18//NONSGML v1.0//EN
CALSCALE:GREGORIAN
METHOD:PUBLISH
X-WR-CALNAME:Pickleball Is Great
X-ORIGINAL-URL:https://pickleballisgreat.com
X-WR-CALDESC:Events for Pickleball Is Great
REFRESH-INTERVAL;VALUE=DURATION:PT1H
X-Robots-Tag:noindex
X-PUBLISHED-TTL:PT1H
BEGIN:VTIMEZONE
TZID:UTC
BEGIN:STANDARD
TZOFFSETFROM:+0000
TZOFFSETTO:+0000
TZNAME:UTC
DTSTART:20230101T000000
END:STANDARD
END:VTIMEZONE
BEGIN:VEVENT
DTSTART;VALUE=DATE:20241123
DTEND;VALUE=DATE:20241126
DTSTAMP:20260420T055300
CREATED:20241023T024450Z
LAST-MODIFIED:20241023T024450Z
UID:4520-1732320000-1732579199@pickleballisgreat.com
SUMMARY:ARIZONA SENIOR OLYMPICS - NSGA Qualifier for 2025 Des Moines\, IA
DESCRIPTION:Description\n********** ALL PLAYER MUST REGISTER AT http://www.seniorgames.org/registration.html ********** \nPlayers are manually added – after payment verification \nAny division with 8 or more teams will be Double Elimination\nAny division with 3 to 7 teams will be Round Robin format\nLess than 3 teams will be combine with another division (age/skill) \nPlayers will self-rate and cannot play lower than their DUPR or USA Pickleball Tournament Player Rating (UTPR). Tournament Director reserves the right to correct underrated players WITH NO NOTICE. \nOutdoor play on up to 14 pickleball courts on a tennis surface \nUsing the Franklin X-40 ball \nPickleball Is Great reserves the right to refuse service at anytime \n\n\nAdditional Information\n11/22/24 Saturday – Men’s Doubles and Women’s Singles\n11/23/24 Sunday – Mixed Doubles\n11/24/24 Monday – Women’s Doubles and Men’s Singles \nOutdoor Age/Skill tournament on tennis surface \n***all registration and payments are not here – go to http://www.seniorgames.org/registration.html \nPayment is required to register – Prices will increase as we approach the event. \nRatings – players will self rate but will be verified against DUPR & UTPR & UTP – R (players will be moved to the appropriate levels – any attempt to deceive or hide info will lead to removal) \nTD may combine brackets as needed to ensure quality play. \n\n\nWeather\nAll players must register on http://www.seniorgames.org/registration.html \n\n\nRefund Policy\n$25 Admin fee minimum for all withdrawals\nNo refunds after close of registration \n\n\nVenue Information\n\n\n\nMesa Tennis & Pickleball Center\n4125 E. McKellips Rd\nMesa\nArizona 85215\nUnited States\nSurface Type: Tennis Hardcourt Surface\nPlay Area Type: Outdoor Non-Covered\nNet Type: Permanent\nBall Used: Franklin X40\nNumber of Courts: 14\nParking: No Fee\nNo Overnight parking\n\n\n\n\nDetails\n\n\n\nOfficiated Type→ None\n\n\n\n\nMax Events Per Registration→ 3\n\n\n\n\nCost Includes→ 0 Events\n\n\n\n\nGuaranteed Games Per Event→ 3\n\n\n\n\nAllow Pets→ No\n\n\n\n\nAllow Food→ No\n\n\n\n\nAllow Dish to Pass→ No\n\n\n\n\nAllow Grill→ No
URL:https://pickleballisgreat.com/tournament/arizona-senior-olympics-nsga-qualifier-for-2025-des-moines-ia/
ATTACH;FMTTYPE=image/png:https://pickleballisgreat.com/wp-content/uploads/2019/10/181018-PIG-vert-color-logo-cmyk-pinkPIG.png
END:VEVENT
END:VCALENDAR