BEGIN:VCALENDAR
VERSION:2.0
PRODID:-//Pickleball Is Great - ECPv6.15.18//NONSGML v1.0//EN
CALSCALE:GREGORIAN
METHOD:PUBLISH
X-WR-CALNAME:Pickleball Is Great
X-ORIGINAL-URL:https://pickleballisgreat.com
X-WR-CALDESC:Events for Pickleball Is Great
REFRESH-INTERVAL;VALUE=DURATION:PT1H
X-Robots-Tag:noindex
X-PUBLISHED-TTL:PT1H
BEGIN:VTIMEZONE
TZID:America/Los_Angeles
BEGIN:DAYLIGHT
TZOFFSETFROM:-0800
TZOFFSETTO:-0700
TZNAME:PDT
DTSTART:20240310T100000
END:DAYLIGHT
BEGIN:STANDARD
TZOFFSETFROM:-0700
TZOFFSETTO:-0800
TZNAME:PST
DTSTART:20241103T090000
END:STANDARD
BEGIN:DAYLIGHT
TZOFFSETFROM:-0800
TZOFFSETTO:-0700
TZNAME:PDT
DTSTART:20250309T100000
END:DAYLIGHT
BEGIN:STANDARD
TZOFFSETFROM:-0700
TZOFFSETTO:-0800
TZNAME:PST
DTSTART:20251102T090000
END:STANDARD
BEGIN:DAYLIGHT
TZOFFSETFROM:-0800
TZOFFSETTO:-0700
TZNAME:PDT
DTSTART:20260308T100000
END:DAYLIGHT
BEGIN:STANDARD
TZOFFSETFROM:-0700
TZOFFSETTO:-0800
TZNAME:PST
DTSTART:20261101T090000
END:STANDARD
END:VTIMEZONE
BEGIN:VEVENT
DTSTART;VALUE=DATE:20250830
DTEND;VALUE=DATE:20250901
DTSTAMP:20260425T195708
CREATED:20250705T164110Z
LAST-MODIFIED:20250705T164110Z
UID:5288-1756512000-1756684799@pickleballisgreat.com
SUMMARY:End of Summer DUPR Slam by PIG
DESCRIPTION:Tournament Description\n\n\nChallenge yourself with a new type of tournament – NO GENDER / NO AGE\n\nYou must be a DUPR member to register for this tournament. Sign up at DUPR.com\n\nRegister: https://pickleballtournaments.com/tournaments/end-of-summer-dupr-slam-by-pig\n\nSaturday – All doubles play. Enjoy partnering with whomever you’d like (either gender)\nSunday – All singles play. Again\, all genders combined\n\nNo age divisions – Skills 3.0\, 3.5\, 4.0\, 4.5+\n12 team limit with 50% of teams moving on to medal matches\nMinimum 4 games guaranteed\nPossible pools created for events with 10+ teams and top 3 from each pool moving to medal matches\n\nMost events played as 1 to 15\, but events with 7\, 8\, or 9 teams will have matches 1 to 11\n\nAll matches are Win by 2\n\nBall – Franklin X-40\n\nPickleball Is Great reserves the right to refuse service at anytime\n\n\n\n\nAdditional Information\n\n\nEach player is required to have their DUPR number attached to their pickleball.com profile.\nEach player is responsible to register/pay\n\nRegistration $25 + event fee all July\nLate Registration $40 + event fee\n\nDoubles event fee – $20\nSingles event fee – $35\n\nPartner must register within 7 days or be moved to the waitlist\n\nTD may combine brackets as needed to ensure quality play.\n\nTournament may close at any time if maximum daily numbers are met (even if some events appear to have openings)\n\n\n\n\nRefund Policy\n\n\n$15 Admin fee minimum for all withdrawals\nNo refunds after close of registration\n\nIf any event is cancelled due to weather there will be up to a 50% refund\nSoftware service fees ($5/event) are not refundable\, even if the tournament/event is cancelled\n\n\n\n\n\n\nVenue Details\n\n\n\n\nCascade Athletic Club\n\n\n19201 SE Division\nGresham\, Oregon\, 97030\nUnited States\n\n\nParking Information\nParking Fee: No Fee\n\n\n\nAmenities\n\n\nSurface Type: Tennis Hardcourt Surface\n\n\nNumber of courts: 6\n\n\nBall used: Franklin X-40\n\n\nPlay area type: Indoor\n\n\nNet type: Permanent\n\n\nBall website: Click here
URL:https://pickleballisgreat.com/tournament/end-of-summer-dupr-slam-by-pig/
ATTACH;FMTTYPE=image/jpeg:https://pickleballisgreat.com/wp-content/uploads/2025/07/End-of-Summer-DUPR-Slam-PIG-600x315-1.jpg
END:VEVENT
END:VCALENDAR