BEGIN:VCALENDAR
VERSION:2.0
PRODID:-//Pickleball Is Great - ECPv6.15.18//NONSGML v1.0//EN
CALSCALE:GREGORIAN
METHOD:PUBLISH
X-WR-CALNAME:Pickleball Is Great
X-ORIGINAL-URL:https://pickleballisgreat.com
X-WR-CALDESC:Events for Pickleball Is Great
REFRESH-INTERVAL;VALUE=DURATION:PT1H
X-Robots-Tag:noindex
X-PUBLISHED-TTL:PT1H
BEGIN:VTIMEZONE
TZID:Pacific/Honolulu
BEGIN:STANDARD
TZOFFSETFROM:-1000
TZOFFSETTO:-1000
TZNAME:HST
DTSTART:20240101T000000
END:STANDARD
END:VTIMEZONE
BEGIN:VEVENT
DTSTART;VALUE=DATE:20250410
DTEND;VALUE=DATE:20250414
DTSTAMP:20260420T012240
CREATED:20250210T041410Z
LAST-MODIFIED:20250210T041410Z
UID:4876-1744243200-1744588799@pickleballisgreat.com
SUMMARY:Hawaii Pacific Health ESPN Honolulu Open
DESCRIPTION:Tournament Description\n\n\n\n***don’t miss your chance to kokua*** LINK TO VOLUNTEER>>>>\n\nhttps://www.signupgenius.com/go/10C0C4AA4AA29A6F5C07-53395084-espn\n\n\n****1/8/25 update – minimum skills levels are now removed from all $$$ divisions – please invite your partners and friends ASAP***\n\n\nHawaii’s premiere pickleball event\, Hawaii Pacific Health ESPN Honolulu Open will be held at Hawaii’s largest indoor pickleball venue\, the Hawaii Convention Center\, featuring over 33 indoor courts\, pro exhibitions\, a competitive ProAm tournament with prize money\, expansive product expo\, corporate team challenges and more! Hawaii Pacific Health ESPN Honolulu Open will attract pickleball players and enthusiasts from Hawaii and around the world\, serving an annual destination event.\n\nRegister: https://pickleballtournaments.com/tournaments/hawaii-pacific-health-espn-honolulu-open\n\nA portion of the proceeds will benefit Hui Mahi‘ai ‘Āina.\n\nHui Mahi‘ai ‘Āina works to improve the quality of life for those in need\, including the houseless population in Waimānalo\, through programs that provide resources\, education\, and opportunities for self-sufficiency. The organization fosters a deep connection to the land (‘āina) and creates pathways for a thriving\, inclusive community. https://huimahiaiaina.org\n\nEarly Registration = ends 12/31/24\nRegistration = January & February 2025\nLate Registration = March 2025\nVery Late Registration = April 2025\n\nAdditional Events:\nAmateur events are $20 each (plus the software fee of $5 per event)\nSemi Pro events are $40 each (plus the software fee of $5 per event)\nPro events are $60 each (plus the software fee of $5 per event)\n\nSchedule of Events:\nThursday 4/10/25:\nSenior Mixed Doubles Skill 3.0-4.0 + ages 50+60+70+\nSenior Mixed Semipro 4.5 skill (4.0 minimum) 50+60+70+\nSenior Mixed PRO 5.0+skill (5.0 minimum) 50+\n\nFriday 4/11/25:\nSenior Women’s Doubles Skill 3.0-4.0 + ages 50+60+70+\nSenior Men’s Doubles Skill 3.0-4.0 + ages 50+60+70+\nSenior Women’s Semipro 4.5 skill (4.0 minimum) 50+60+70+\nSenior Men’s Semipro 4.5 skill (4.0 minimum) 50+60+70+\nSenior Women’s PRO 5.0+skill (5.0 minimum) 50+\nSenior Men’s PRO 5.0+skill (5.0 minimum) 50+\n\nSaturday 4/12/25:\nWomen’s Doubles Skill 3.0-4.0 + ages 19+30+40+\nMen’s Doubles Skill 3.0-4.0 + ages 19+30+40+\nWomen’s Semipro 4.5 skill (4.0 minimum) 19+30+40+\nMen’s Semipro 4.5 skill (4.0 minimum) 19+30+40+\nWomen’s PRO 5.0+skill (5.0 minimum) 19+\nMen’s PRO 5.0+skill (5.0 minimum) 19+\n\nSunday 4/13/25:\nMixed Doubles Skill 3.0-4.0 + ages 19+30+40+\nMixed Semipro 4.5 skill (4.0 minimum) 19+30+40+\nMixed PRO 5.0+skill (5.0 minimum) 19+\n\nLINK TO VOLUNTEER>>>>>>>>>>>>>>\nhttps://www.signupgenius.com/go/10C0C4AA4AA29A6F5C07-53395084-espn\n\n\n\n\n\nAdditional Information\n\n\n\n***save money and stay at the updated Ala Moana Hotel by Mantra @ 410 Atkinson Drive – use this link please – https://book.passkey.com/e/50941588 ***\n\nALL PLAYERS MUST READ – PLAYER RESPONSIBILITY​\n\nWhat does it mean to be registered?\n* Player in a doubles event; both players have registered and both players have paid their tournament fees within 14 days of the first player.\n\nYou or your team could be moved to the waitlist:\n* If your partner (doubles) has not registered/paid within the 14 day window\n\nALL ROUND ROBIN WITH PLAYOFFS OF THE TOP TEAMS\n\n**Tournament Format – Amateur (No prize money)\n4 & 5 teams in Pool/Round Robin – games are 1 to 15 win by 2\n6 & 7 teams in Pool/Round Robin – games are 1 to 11 win by 2\nAll lead in games (to the playoffs) are 1 to 15 win by 2 (for example: top four teams\, 1 vs 4 & 2 v 3 (first round of playoffs are called the “lead-in matches”)\n\nBronze Matches 1 to 15 win by 2\nGold Matches are the players choice of 2 out of 3 to 11 win by 2 OR 1 to 15 win by 2\n\nTournament Director reserves the option to combine events as needed if events do not fill. If events are combined\, awards will be based on the original event and not the combined event\n\nSanctioning/Rules: This is a non-sanctioned tournament and will follow Official USA Pickleball rules.\n\nEquipment standards:\nAmateur (4.0 and under) all approved USA Pickleball rules\nSemipro and Pro (4.5+) will have the option for the UPAA approved paddles in addition to the USAP paddles.\n\nThere will be a head referee on site to settle all rules questions and settle disputes. Matches will be self-refereed\, although we will do our best to recruit referees for finals matches.\n\nWe reserve the right to refuse service at any time\n\n\n\n\n\nRefund Policy\n\n\n\n$20 admin fee for all refunds until 3/31/25\n\nUp to 50% refund for any refund request after 3/31/25\n\n\n\n\n\nPrize Money\n\n\n\nAll minimum ratings are now removed.\n\nThe Pro/Open Division is designed for the 5.0 and up players\nPayouts will be based on the # of registrations in each division.\n12 teams will have a $1500\n8 teams or more will be Double Elimination\n\nThe Semi-Pro Division is designed for the 4.5 and up players\nPayout dependent on # of teams per division.\n6 Team minimum will have a $500 payout. If age divisions are combined\, only the top three teams will have a payout.\n8 teams or more will be Double Elimination\n\n\n\n\n\n\nVenue Details\n\n\n\n\n\nHawaii Convention Center\n\n\n1801 Kalakaua\nHonolulu\, Hawaii\, 96815\nUnited States\n\n\n\nParking Information\nParking Fee: Yes\n\n\n\nAmenities\n\n\nSurface Type: Synthetic / Acrylic\n\n\nNumber of courts: 33\n\n\nBall used: Franklin X40 Optic\n\n\nPlay area type: Indoor Air Conditioned\n\n\nNet type: Portable Crank\n\n\nBall website: Click here
URL:https://pickleballisgreat.com/tournament/hawaii-pacific-health-espn-honolulu-open/
END:VEVENT
END:VCALENDAR