BEGIN:VCALENDAR
VERSION:2.0
PRODID:-//Pickleball Is Great - ECPv6.15.18//NONSGML v1.0//EN
CALSCALE:GREGORIAN
METHOD:PUBLISH
X-WR-CALNAME:Pickleball Is Great
X-ORIGINAL-URL:https://pickleballisgreat.com
X-WR-CALDESC:Events for Pickleball Is Great
REFRESH-INTERVAL;VALUE=DURATION:PT1H
X-Robots-Tag:noindex
X-PUBLISHED-TTL:PT1H
BEGIN:VTIMEZONE
TZID:UTC
BEGIN:STANDARD
TZOFFSETFROM:+0000
TZOFFSETTO:+0000
TZNAME:UTC
DTSTART:20240101T000000
END:STANDARD
END:VTIMEZONE
BEGIN:VEVENT
DTSTART;VALUE=DATE:20250606
DTEND;VALUE=DATE:20250609
DTSTAMP:20260419T210700
CREATED:20250525T184829Z
LAST-MODIFIED:20250525T184829Z
UID:5148-1749168000-1749427199@pickleballisgreat.com
SUMMARY:North Idaho Summer Showdown All Ages + USSP Powered by George Gee - PIG
DESCRIPTION:Tournament Description\n\n\nCheck out the new venue at PEAK in Post Falls\, featuring up to 16 dedicated\, individually fenced courts (8 indoor / 8 outdoor)!\n\nFun Round Robin format WITH playoffs for Gold/Silver/Bronze for skills 3.0-5.0+. TD may combine brackets as needed to ensure quality play.\n\nRegister: https://pickleballtournaments.com/tournaments/north-idaho-summer-showdown-all-ages-ussp-powered-by-george-gee-pig\n\n***Ratings for (under 50) Events / (50+) events to use USSP ratings:\n• Even though DUPR is the only rating listed for public view\, we are using DUPR only as a guideline. All rating systems have their pros and cons. Players will self-rate and we will also be using your previous tournament rating (PBR) as our determinant\n• Please update your self-rating in your software profile before you register. You may only play up .5 from your self-rating\n• If you feel that a player is playing out of their skill\, please contact the tournament director. We will then evaluate tournament history and various ratings (including DUPR) to determine if a player/team needs to play at a different skill. Please be aware that this is a manual process and does not happen automatically\n\nNo Membership in any association is required for registration.\n\nThis tournament is US Senior Pickleball approved.\n\nUsing the Selkirk Pro S1\n\n\n\n\nAdditional Information\n\n\nUSSP Format is Age/Skill (5-year breaks) – no membership is required\, but if you have your USSP membership number in your profile\, you will get a $10 Refund.\nInstructions for adding your membership number to your profile – https://www.usseniorpickleball.com/pb-ussp-training\n\nAll USSP events played (Age/Skill) / All under 50 events played (Skill/Age)\nFriday – Women’s Doubles / Men’s Singles (full-court)\nSaturday – Mixed Doubles\nSunday – Men’s Doubles / Women’s Singles (full-court)\n\nPricing increase as we approach the tournament\, so sign up early to capture the best pricing. Payment is required at registration.\n\n$55 + $15/event February/March\nBeginning April 1st\, pricing increases to $65 + $15/event\nAfter deadline (May 28) any new registrations will be $75 +event fee\n\nIndoor/Outdoor tournament on tennis surface. (8 permanent indoor courts / 8 permanent outdoor courts)\n\n\n\n\nRefund Policy\n\n\n$15 Admin fee minimum for all withdrawals\n\nIf any event is cancelled due to weather\, there will be up to a 50% refund\nDeadline is 5/28/25 for any refund\n\n\n\n\n\n\nVenue Details\n\n\n\n\nPEAK Health & Wellness Center\n\n\n4425 N Fennecus\nPost Falls\, Idaho\, 83854\nUnited States\n\n\nParking Information\nParking Fee: No Fee\n\n\n\nAmenities\n\n\nSurface Type: Tennis Hardcourt Surface\n\n\nNumber of courts: 16\n\n\nBall used: Selkirk Pro S1\n\n\nPlay area type: Indoor & Outdoor\n\n\nNet type: Permanent\n\n\nBall website: Click here
URL:https://pickleballisgreat.com/tournament/north-idaho-summer-showdown-all-ages-ussp-powered-by-george-gee-pig/
ATTACH;FMTTYPE=image/webp:https://pickleballisgreat.com/wp-content/uploads/2025/05/e5de44a0-5367-46ce-a2de-39282148a04d_1740750270_Logo.webp
END:VEVENT
END:VCALENDAR