BEGIN:VCALENDAR
VERSION:2.0
PRODID:-//Pickleball Is Great - ECPv6.15.18//NONSGML v1.0//EN
CALSCALE:GREGORIAN
METHOD:PUBLISH
X-WR-CALNAME:Pickleball Is Great
X-ORIGINAL-URL:https://pickleballisgreat.com
X-WR-CALDESC:Events for Pickleball Is Great
REFRESH-INTERVAL;VALUE=DURATION:PT1H
X-Robots-Tag:noindex
X-PUBLISHED-TTL:PT1H
BEGIN:VTIMEZONE
TZID:America/Boise
BEGIN:DAYLIGHT
TZOFFSETFROM:-0700
TZOFFSETTO:-0600
TZNAME:MDT
DTSTART:20240310T090000
END:DAYLIGHT
BEGIN:STANDARD
TZOFFSETFROM:-0600
TZOFFSETTO:-0700
TZNAME:MST
DTSTART:20241103T080000
END:STANDARD
BEGIN:DAYLIGHT
TZOFFSETFROM:-0700
TZOFFSETTO:-0600
TZNAME:MDT
DTSTART:20250309T090000
END:DAYLIGHT
BEGIN:STANDARD
TZOFFSETFROM:-0600
TZOFFSETTO:-0700
TZNAME:MST
DTSTART:20251102T080000
END:STANDARD
BEGIN:DAYLIGHT
TZOFFSETFROM:-0700
TZOFFSETTO:-0600
TZNAME:MDT
DTSTART:20260308T090000
END:DAYLIGHT
BEGIN:STANDARD
TZOFFSETFROM:-0600
TZOFFSETTO:-0700
TZNAME:MST
DTSTART:20261101T080000
END:STANDARD
END:VTIMEZONE
BEGIN:VEVENT
DTSTART;VALUE=DATE:20250920
DTEND;VALUE=DATE:20250922
DTSTAMP:20260425T184035
CREATED:20250531T000443Z
LAST-MODIFIED:20250531T000443Z
UID:5185-1758326400-1758499199@pickleballisgreat.com
SUMMARY:Pickleball Palooza
DESCRIPTION:Tournament Description\n\n\nCheck out the new venue in Post Falls\n\nFun Round Robin format WITH playoffs for Gold/Silver/Bronze for skills 3.0-5.0+. TD may combine brackets as needed to ensure quality play.\n\n\nRegister: https://pickleballtournaments.com/tournaments/pickleball-palooza-7\n\n\n***Ratings\n\n• Even though DUPR is the only rating listed for public view\, we are using DUPR only as a guideline. All rating systems have their pros and cons. Players will self-rate and we will also be using your previous tournament rating (PBR) as our determinant\n• Please update your self-rating in your software profile before you register. You may only play up .5 from your self-rating\n• If you feel that a player is playing out of their skill\, please contact the tournament director. We will then evaluate tournament history and various ratings (including DUPR) to determine if a player/team needs to play at a different skill. Please be aware that this is a manual process and does not happen automatically\n\nNo Membership in any association is required for registration.\n\nUsing the Selkirk Pro S1\n\n\n\n\nAdditional Information\n\n\nAll events played (Skill/Age)\n\nSaturday – Men’s Doubles/Women’s Doubles\nSunday – Mixed Doubles\n\nPricing increase as we approach the tournament\, so sign up early to capture the best pricing. Payment is required at registration.\n\n$55 + $15/event June\nBeginning July 1st\, pricing increases to $65 + $15/event\nAfter deadline (August 31st) any new registrations will be $75 +event fee\n\nOutdoor tournament at Q’EMILN PARK\n\n\n\n\nRefund Policy\n\n\n$15 Admin fee minimum for all withdrawals\n\nIf any event is cancelled due to weather\, there will be up to a 50% refund\nDeadline is 8/31/25 for any refund\n\n\n\n\n\n\nVenue Details\n\n\n\n\nQ’EMILN PARK\n\n\n12201 W. Parkway Dr\nPost Falls\, Idaho\, 83854\nUnited States\n\n\nParking Information\nParking Fee: No Fee\n\n\n\nAmenities\n\n\nSurface Type: Asphalt\n\n\nNumber of courts: 8\n\n\nBall used: Selkirk Pro S1\n\n\nPlay area type: Outdoor Non-Covered\n\n\nNet type: Portable\n\n\nBall website: Click here
URL:https://pickleballisgreat.com/tournament/pickleball-palooza/
ATTACH;FMTTYPE=image/jpeg:https://pickleballisgreat.com/wp-content/uploads/2025/05/Pickleball-Palooza-PIG-600x315-1.jpg
END:VEVENT
END:VCALENDAR