BEGIN:VCALENDAR
VERSION:2.0
PRODID:-//Pickleball Is Great - ECPv6.15.18//NONSGML v1.0//EN
CALSCALE:GREGORIAN
METHOD:PUBLISH
X-WR-CALNAME:Pickleball Is Great
X-ORIGINAL-URL:https://pickleballisgreat.com
X-WR-CALDESC:Events for Pickleball Is Great
REFRESH-INTERVAL;VALUE=DURATION:PT1H
X-Robots-Tag:noindex
X-PUBLISHED-TTL:PT1H
BEGIN:VTIMEZONE
TZID:America/New_York
BEGIN:DAYLIGHT
TZOFFSETFROM:-0500
TZOFFSETTO:-0400
TZNAME:EDT
DTSTART:20240310T070000
END:DAYLIGHT
BEGIN:STANDARD
TZOFFSETFROM:-0400
TZOFFSETTO:-0500
TZNAME:EST
DTSTART:20241103T060000
END:STANDARD
BEGIN:DAYLIGHT
TZOFFSETFROM:-0500
TZOFFSETTO:-0400
TZNAME:EDT
DTSTART:20250309T070000
END:DAYLIGHT
BEGIN:STANDARD
TZOFFSETFROM:-0400
TZOFFSETTO:-0500
TZNAME:EST
DTSTART:20251102T060000
END:STANDARD
BEGIN:DAYLIGHT
TZOFFSETFROM:-0500
TZOFFSETTO:-0400
TZNAME:EDT
DTSTART:20260308T070000
END:DAYLIGHT
BEGIN:STANDARD
TZOFFSETFROM:-0400
TZOFFSETTO:-0500
TZNAME:EST
DTSTART:20261101T060000
END:STANDARD
END:VTIMEZONE
BEGIN:VEVENT
DTSTART;VALUE=DATE:20250412
DTEND;VALUE=DATE:20250413
DTSTAMP:20260420T012930
CREATED:20250210T043812Z
LAST-MODIFIED:20250210T043812Z
UID:4880-1744416000-1744502399@pickleballisgreat.com
SUMMARY:Squash & Pickle-Our Next BiG Thing hosted by the BOYS AND GIRLS CLUBS OF CENTRAL VIRGINIA by PIG
DESCRIPTION:Tournament Description\n\n\n\nJoin us on 12th at the Albemarle Campus Club for our Next BiG Thing\n\nhttps://www.betterunite.com/boysgirlsclubsofcentralvirginia-squashpickle\n\n(PLEASE COPY AND PASTE ADDRESS ABOVE FOR REGISTRATION)\n\nSquash & Pickleball Tournaments – Saturday\, April 12th – All Day\n\nWho: Open to all skill levels; ages 18+. Registration is now open – ONLY $50 per player (use link above)\n\n\n\nRegister: https://pickleballtournaments.com/tournaments/squash-and-pickle-our-next-big-thing-hosted-by-the-boys-and-girls-clubs-of-central-virginia-by-pig-1\n\n\n\nWhat: Round-robin & bracket-style play. All Squash matches are singles; Pickleball matches are doubles. Prizes for tournament winners and fundraising champions.\n\nWhere: Albemarle Campus Club (195 Lambs Lane.)\n\n\n\n\n\nAdditional Information\n\n\n\nMultiple locations on-site for the courts.\nHardwood (5) + Asphalt (2) + Multipurpose Low Impact (1)\n\nPlease bring your own paddle / squash rackets\n\nRecreation divisions 9am to 1130 (MUST ARRIVE BY 830 am please)\n\nFEATURED CLUB KIDS DIVISION 1130 TO 1PM (JAMES PIERCE GYM)\n\nIntermediate/Advanced divisions 1pm to 330pm (MUST ARRIVE BY 1230 pm please)\n\n\n\n\n\nRefund Policy\n\n\n\nNo Refunds\n\n\n\n\n\n\nVenue Details\n\n\n\n\n\nAlbemarle Campus Club\n\n\n195 Lambs Ln\nCharlottesville\, Virginia\, 22902\nUnited States\n\n\n\nParking Information\nParking Fee: No Fee\nMultiple Floors Surfaces – all NOT Tennis\n\n\n\nAmenities\n\n\nSurface Type: Not Specified\n\n\nNumber of courts: 10\n\n\nBall used: Franklin X40\n\n\nPlay area type: Indoor Air Conditioned\n\n\nNet type: Portable
URL:https://pickleballisgreat.com/tournament/squash-pickle-our-next-big-thing-hosted-by-the-boys-and-girls-clubs-of-central-virginia-by-pig/
ATTACH;FMTTYPE=image/jpeg:https://pickleballisgreat.com/wp-content/uploads/2025/02/Squash-Pickle-Charlottesvile.jpg
END:VEVENT
END:VCALENDAR