BEGIN:VCALENDAR
VERSION:2.0
PRODID:-//Pickleball Is Great - ECPv6.15.18//NONSGML v1.0//EN
CALSCALE:GREGORIAN
METHOD:PUBLISH
X-WR-CALNAME:Pickleball Is Great
X-ORIGINAL-URL:https://pickleballisgreat.com
X-WR-CALDESC:Events for Pickleball Is Great
REFRESH-INTERVAL;VALUE=DURATION:PT1H
X-Robots-Tag:noindex
X-PUBLISHED-TTL:PT1H
BEGIN:VTIMEZONE
TZID:UTC
BEGIN:STANDARD
TZOFFSETFROM:+0000
TZOFFSETTO:+0000
TZNAME:UTC
DTSTART:20230101T000000
END:STANDARD
END:VTIMEZONE
BEGIN:VEVENT
DTSTART;VALUE=DATE:20240420
DTEND;VALUE=DATE:20240424
DTSTAMP:20260424T100725
CREATED:20240308T182742Z
LAST-MODIFIED:20240308T183545Z
UID:10000032-1713571200-1713916799@pickleballisgreat.com
SUMMARY:2024 Spring Classic @ Gilbert Regional Park
DESCRIPTION:Description\nRegister: https://pickleballbrackets.com/ptd.aspx?eid=f7d3d796-f664-4e04-bd2e-26dbd34a28de \nAll Round Robin with playoffs for Gold/Silver/Bronze Medals \nSaturday (Skill/Age events) = 19+\,35+Mixed Doubles\nSunday (Skill/Age events) = 19+\,35+ Men’s & Women’s Doubles Mixed Doubles\nMonday (Age/Skill events) = SENIOR (50+) Men’s & Women’s Doubles (50+\,55+\,60+\,65+\,70+\,75+\,80+)\nTuesday (Age/Skill events) = SENIOR (50+) Mixed Doubles (50+\,55+\,60+\,65+\,70+\,75+\,80+) \nEarly registration $45 + $15/event by Feb 29\nRegistration $60 + $15/event by Apr 13th \nUnited States Senior Pickleball (formerly SSIPA) membership NOT required for Monday & Tuesday events.\nUSSP members will receive a $10 rebate from the registration fee. see this link for help https://www.usseniorpickleball.com/pb-ussp-training \nAll ages can play on the weekend\, but there are only two age divisions – 34 and under as well as 35 and up \nMINIMUM PAY FOR ALL REFEREES IS $10 PER MATCH – must register online \n\n\nAdditional Information\nALL ROUND ROBIN WITH PLAYOFFS OF THE TOP TEAMS \n**planned format\n4\, 5\, & 6 teams in Pool/Round Robin – games are 1 to 15 win by 2\n7 & 8 teams in Pool/Round Robin – games are 1 to 11 win by 2\nAll lead in games (to the playoffs) are 1 to 15 win by 2\nBronze Matches 1 to 15 win by 2\nGold Matches are the players choice of 2 out of 3 to 11 win by 2 OR 1 to 15 win by 2 \nPickleball Is Great reserves the right to refuse service at anytime \nThere is a daily player limit that may cause registration to stop with no notice for an event or the whole day. \nUSSP has a points system to award prizes to the top finishers each year. In the past\, prizes with a retail value of $20\,000 were awarded to the top 10 point winners in each age group for both men and women on an annual cycle. In 2024\, the prize points will begin in January and run through the end of December. \nNO CASH WILL BE AWARDED!!!!!!!! \n\n\nRefund Policy\nAll withdrawals before Apr 13\, 2024\, will incur a $15 processing fee.\nNo refunds after Apr 13\, 2024. \nUp to a 50% refund for weather related cancellations \n\n\n\n\n\n\n\n\n\n\n\nVenue Information\n\nGilbert Regional Park\n\n3005 E Queen Creek Rd\nGilbert\nArizona 85298\nUnited States\nSurface Type: Pickleball Hardcourt Surface\nPlay Area Type: Outdoor Non-Covered\nNet Type: Permanent\nBall Used: Franklin X40\nNumber of Courts: 8\nParking: No Fee\nNo overnight parking allowed\n\n\n\n\nDetails\n\n\n\nOfficiated Type→ Medal Matches\n\n\n\n\nMax Events Per Registration→ 2\n\n\n\n\nCost Includes→ 0 Events\n\n\n\n\nGuaranteed Games Per Event→ 3\n\n\n\n\nAllow Pets→ No\n\n\n\n\nAllow Food→ No\n\n\n\n\nAllow Dish to Pass→ No\n\n\n\n\nAllow Grill→ No
URL:https://pickleballisgreat.com/tournament/2024-spring-classic-gilbert-regional-park/
ATTACH;FMTTYPE=image/jpeg:https://pickleballisgreat.com/wp-content/uploads/2024/03/Gilbert-Spring-Classic.jpg
END:VEVENT
BEGIN:VEVENT
DTSTART;VALUE=DATE:20240423
DTEND;VALUE=DATE:20240427
DTSTAMP:20260424T100725
CREATED:20240409T001657Z
LAST-MODIFIED:20240409T001657Z
UID:10000053-1713830400-1714175999@pickleballisgreat.com
SUMMARY:2024 End of Summer Bash @ ETC
DESCRIPTION:Description\nRound Robin format (skill/age) WITH playoffs for Gold/Silver/Bronze for skills 3.0-5.0+. Age brackets will be determined following the close of registration\, but will strive to be close to under 50\, 50-59\, & 60+ events. \nRegister: https://pickleballbrackets.com/ptd.aspx?eid=438506f0-e160-49bf-8c1e-db82ab7dfec3 \nPlayers will self-rate and cannot play lower than their USA Pickleball Tournament Player Rating (UTPR). Players may only play up in skill .5 from their profile rating. Tournament Director reserves the right to correct underrated players. \nIndoor play on up to 16 temporary courts on a tennis surface \nUsing the Franklin X-40 ball\nPickleball Is Great reserves the right to refuse service at anytime \n\n\nAdditional Information\nFriday – Senior (50+/60+) Men’s Doubles\nSaturday – Senior (50+/60+) Men’s & Women’s Doubles (under 50 events)\nSunday – Mixed Doubles\nMonday – Singles (full-court) \nIndoor Skill/Age tournament on tennis surface \nEarly Registration $60 + $15/event through May 15\nStandard Registration $65 + $15/event May 16 – July 31\nLate Registration $75 + $15/event beginning Aug 1 \n$15 per event fee. Payment is required to register – Prices will increase as we approach the event. \nFormat:\nALL Round Robin games/matches are win by 2.\nMost Round Robins are 1 to 15 but may change based on the number of players in the event. If an event has 7 or 8 teams\, round-robin matches will be 1 to 11 by 2.\nTop 4 teams go to the playoff (Lead in matches are 1 to 15 with the Gold Match with the option of 2 out of 3 to 11 or 1 to 15. Bronze Match 1 to 15. \nTD may combine brackets as needed to ensure quality play.\nTournament may close at any time if maximum daily numbers are met (even if some events appear to have openings) \nDUPR Results Submission – Results WILL NOT be submitted to DUPR. \n\n\nRefund Policy\n$10 Admin fee minimum for all withdrawals\nNo refunds after close of registration \nIf any event is cancelled due to weather there will be up to a 50% refund \n\n\nVenue Information\n\n\nEastside Tennis Center\n10822 117th Pl NE\nKirkland\nWashington 98033\nUnited States\nSurface Type: Tennis Hardcourt Surface\nPlay Area Type: Indoor\nNet Type: Portable\nBall Used: Franklin X40\nNumber of Courts: 16\nParking: No Fee\n\n\n\n\nDetails\n\n\n\nOfficiated Type→ None\n\n\n\n\nMax Events Per Registration→ 4\n\n\n\n\nCost Includes→ 0 Events\n\n\n\n\nGuaranteed Games Per Event→ 3\n\n\n\n\nAllow Pets→ No\n\n\n\n\nAllow Food→ No\n\n\n\n\nAllow Dish to Pass→ No\n\n\n\n\nAllow Grill→ No
URL:https://pickleballisgreat.com/tournament/2024-end-of-summer-bash-etc/
END:VEVENT
END:VCALENDAR