BEGIN:VCALENDAR
VERSION:2.0
PRODID:-//Pickleball Is Great - ECPv6.15.18//NONSGML v1.0//EN
CALSCALE:GREGORIAN
METHOD:PUBLISH
X-WR-CALNAME:Pickleball Is Great
X-ORIGINAL-URL:https://pickleballisgreat.com
X-WR-CALDESC:Events for Pickleball Is Great
REFRESH-INTERVAL;VALUE=DURATION:PT1H
X-Robots-Tag:noindex
X-PUBLISHED-TTL:PT1H
BEGIN:VTIMEZONE
TZID:UTC
BEGIN:STANDARD
TZOFFSETFROM:+0000
TZOFFSETTO:+0000
TZNAME:UTC
DTSTART:20230101T000000
END:STANDARD
END:VTIMEZONE
BEGIN:VEVENT
DTSTART;VALUE=DATE:20240423
DTEND;VALUE=DATE:20240427
DTSTAMP:20260424T100809
CREATED:20240409T001657Z
LAST-MODIFIED:20240409T001657Z
UID:10000053-1713830400-1714175999@pickleballisgreat.com
SUMMARY:2024 End of Summer Bash @ ETC
DESCRIPTION:Description\nRound Robin format (skill/age) WITH playoffs for Gold/Silver/Bronze for skills 3.0-5.0+. Age brackets will be determined following the close of registration\, but will strive to be close to under 50\, 50-59\, & 60+ events. \nRegister: https://pickleballbrackets.com/ptd.aspx?eid=438506f0-e160-49bf-8c1e-db82ab7dfec3 \nPlayers will self-rate and cannot play lower than their USA Pickleball Tournament Player Rating (UTPR). Players may only play up in skill .5 from their profile rating. Tournament Director reserves the right to correct underrated players. \nIndoor play on up to 16 temporary courts on a tennis surface \nUsing the Franklin X-40 ball\nPickleball Is Great reserves the right to refuse service at anytime \n\n\nAdditional Information\nFriday – Senior (50+/60+) Men’s Doubles\nSaturday – Senior (50+/60+) Men’s & Women’s Doubles (under 50 events)\nSunday – Mixed Doubles\nMonday – Singles (full-court) \nIndoor Skill/Age tournament on tennis surface \nEarly Registration $60 + $15/event through May 15\nStandard Registration $65 + $15/event May 16 – July 31\nLate Registration $75 + $15/event beginning Aug 1 \n$15 per event fee. Payment is required to register – Prices will increase as we approach the event. \nFormat:\nALL Round Robin games/matches are win by 2.\nMost Round Robins are 1 to 15 but may change based on the number of players in the event. If an event has 7 or 8 teams\, round-robin matches will be 1 to 11 by 2.\nTop 4 teams go to the playoff (Lead in matches are 1 to 15 with the Gold Match with the option of 2 out of 3 to 11 or 1 to 15. Bronze Match 1 to 15. \nTD may combine brackets as needed to ensure quality play.\nTournament may close at any time if maximum daily numbers are met (even if some events appear to have openings) \nDUPR Results Submission – Results WILL NOT be submitted to DUPR. \n\n\nRefund Policy\n$10 Admin fee minimum for all withdrawals\nNo refunds after close of registration \nIf any event is cancelled due to weather there will be up to a 50% refund \n\n\nVenue Information\n\n\nEastside Tennis Center\n10822 117th Pl NE\nKirkland\nWashington 98033\nUnited States\nSurface Type: Tennis Hardcourt Surface\nPlay Area Type: Indoor\nNet Type: Portable\nBall Used: Franklin X40\nNumber of Courts: 16\nParking: No Fee\n\n\n\n\nDetails\n\n\n\nOfficiated Type→ None\n\n\n\n\nMax Events Per Registration→ 4\n\n\n\n\nCost Includes→ 0 Events\n\n\n\n\nGuaranteed Games Per Event→ 3\n\n\n\n\nAllow Pets→ No\n\n\n\n\nAllow Food→ No\n\n\n\n\nAllow Dish to Pass→ No\n\n\n\n\nAllow Grill→ No
URL:https://pickleballisgreat.com/tournament/2024-end-of-summer-bash-etc/
END:VEVENT
BEGIN:VEVENT
DTSTART;VALUE=DATE:20240426
DTEND;VALUE=DATE:20240429
DTSTAMP:20260424T100809
CREATED:20240110T122636Z
LAST-MODIFIED:20240307T235707Z
UID:10000026-1714089600-1714348799@pickleballisgreat.com
SUMMARY:2024 Tulip Tussle at the Skagit Valley Tulip Festival
DESCRIPTION:Description\nRegister: https://pickleballbrackets.com/ptd.aspx?eid=b9a3b1ee-3ab4-4a41-8ff5-7d236ceec88d \n***** facility map to help you https://athletics.skagit.edu/documents/2023/4/21/SVC_Map_w_Blackburn_Pickleball_Pavillion__1_.pdf \nCome enjoy the new Blackburn Pickleball Pavilion @ Skagit Valley College @ 2405 E. College Way\, Mount Vernon\, WA 98273 \n***we are also adding only 15 temporary courts onsite at the tennis facility*** (last year was 21) \nAll Round Robin with Playoffs for Gold /Silver/Bronze Medals \nskill levels 3.0/3.5/4.0/4.5/5.0\nage groups 19+/30+/40+/50+/60+/70+ \n4/26/24 FRIDAY Women’s Doubles\n4/27/24 SATURDAY Mixed Doubles\n4/28/24 SUNDAY Men’s Doubles \nDivisions maybe adjusted based upon player registrations. (for example 55-57\, 58-62\, 63-65-66-69) \nRegistration = $65 base Registration in the month of January & February + $15 per Event\nLate Registration = $80 base Registration in the month of March & April + $15 per Event \nPayment Due at Registration – non refundable service fee from Pickleball Inc at check out…\n$5 per event up to $10 per player… \n\n\nAdditional Information\nADDITIONAL INFO BY PLAYER REQUEST:\n“Every team will play every other team in their pool. So\, a pool of 7 will play 6 games in a row. Winners from each pool will advance to playoffs.\n(If there are only 3 teams in your pool you’ll play each team twice\, for a total of 4 games.)” \nAfter the first player registers their partner has time to register or they will be placed on the waiting list: 14 Days \nWe have 15+ temporary courts in the tennis center there on-site. This will allow registration to continue –\n**PLEASE remember you will move to the waitlist automatically if your partner doesn’t pay and register within 14 days of you registering.** \n\n\nRefund Policy\n$10 Administrative Fee for all refunds \nAfter 4/1 all refunds were 50% \nNo refunds after 4/15 \n\n#BBD0E0\n»
URL:https://pickleballisgreat.com/tournament/2024-tulip-tussle-at-the-skagit-valley-tulip-festival/
ATTACH;FMTTYPE=image/jpeg:https://pickleballisgreat.com/wp-content/uploads/2024/01/b9a3b1ee-3ab4-4a41-8ff5-7d236ceec88d_logo.jpg
END:VEVENT
BEGIN:VEVENT
DTSTART;VALUE=DATE:20240426
DTEND;VALUE=DATE:20240429
DTSTAMP:20260424T100809
CREATED:20240307T233657Z
LAST-MODIFIED:20240307T235014Z
UID:10000029-1714089600-1714348799@pickleballisgreat.com
SUMMARY:2024 Dink it Up at Steamboat Island
DESCRIPTION:Description\nRegister: https://pickleballbrackets.com/ptd.aspx?eid=08d4b326-d31e-42f1-8f3f-90cecfed196a \nRound Robin format (skill/age) WITH playoffs for Gold/Silver/Bronze for skills 3.0-4.5+. Age brackets will be determined following the close of registration\, but will strive to be close to under 50\, 50-59\, & 60+ events. TD may combine brackets as needed to ensure quality play. \nPlayers will self rate and can not play lower than their USA Pickleball Tournament Player Rating (UTPR). Players may only play up in skill .5 from their profile rating. Tournament Director reserves the right to correct underrated players. \nBall – Franklin X-40 \nPickleball Is Great reserves the right to refuse service at anytime \n\n\nAdditional Information\nIndoor Skill/Age tournament on tennis surface\nPartner must register within 7 days or be moved to the waitlist \nPayment is required to register (payment is per person) – $45 early registration + $15/event through Feb 15.\nBeginning Feb 16\, registration will be $65 + $15/event\nAfter deadline\, registration increases to $75 + $15/event\nDeadline – Apr 17th \nSaturday – ALL Men’s & Women’s Doubles\nSunday – Mixed Doubles \nFormat:\nALL Round Robin with playoffs for Gold/Silver/Bronze. All games/matches are win by 2\nMost Round Robins are 1 to 15 but may change based on the number of players in the event. If an event has 7 or 8 teams\, round-robin matches will be 1 to 11 by 2.\nTop 4 teams go to the playoff (Lead in matches are 1 to 15 with the Gold Match with the option of 2/3-11w/2 or 1 to 15. Bronze Match 1 to 15.\nTD may combine brackets as needed to ensure quality play. \nTD may combine brackets as needed to ensure quality play.\nReporting scores to DUPR will be the player’s responsibility. Scores not automatically reported. \n\n\nRefund Policy\n$10 Admin fee minimum for all withdrawals\nNo refunds after close of registration \nIf any event is cancelled due to weather there will be up to a 50% refund \n\n\nVenue Information\n\n\n\nSteamboat Tennis and Athletic Club\n3505 Steamboat Island Rd NW\nOlympia\nWashington 98502\nUnited States\nSurface Type: Tennis Hardcourt Surface\nPlay Area Type: Indoor\nNet Type: Portable\nBall Used: Franklin X-40\nNumber of Courts: 12\nParking: No Fee\n\n\n\n\nDetails\n\n\n\nOfficiated Type→ None\n\n\n\n\nMax Events Per Registration→ 3\n\n\n\n\nCost Includes→ 0 Events\n\n\n\n\nGuaranteed Games Per Event→ 3\n\n\n\n\nAllow Pets→ No\n\n\n\n\nAllow Food→ No\n\n\n\n\nAllow Dish to Pass→ No\n\n\n\n\nAllow Grill→ No
URL:https://pickleballisgreat.com/tournament/2024-dink-it-up-at-steamboat-island/
ATTACH;FMTTYPE=image/jpeg:https://pickleballisgreat.com/wp-content/uploads/2024/01/53933378-0285-416d-9777-e387ed9581b5_logo.jpg
END:VEVENT
END:VCALENDAR