BEGIN:VCALENDAR
VERSION:2.0
PRODID:-//Pickleball Is Great - ECPv6.15.18//NONSGML v1.0//EN
CALSCALE:GREGORIAN
METHOD:PUBLISH
X-ORIGINAL-URL:https://pickleballisgreat.com
X-WR-CALDESC:Events for Pickleball Is Great
REFRESH-INTERVAL;VALUE=DURATION:PT1H
X-Robots-Tag:noindex
X-PUBLISHED-TTL:PT1H
BEGIN:VTIMEZONE
TZID:UTC
BEGIN:STANDARD
TZOFFSETFROM:+0000
TZOFFSETTO:+0000
TZNAME:UTC
DTSTART:20230101T000000
END:STANDARD
END:VTIMEZONE
BEGIN:VEVENT
DTSTART;VALUE=DATE:20240503
DTEND;VALUE=DATE:20240506
DTSTAMP:20260424T101041
CREATED:20240309T200652Z
LAST-MODIFIED:20240309T201945Z
UID:10000034-1714694400-1714953599@pickleballisgreat.com
SUMMARY:2024 Wapato Point Resort Pickleball Open
DESCRIPTION:Description\nRegister: https://pickleballbrackets.com/ptd.aspx?eid=2ca79926-3aa9-44de-98ae-cfd112e50809 \nRound-robin format with playoffs for Gold/Silver/Bronze Medals\nOpen (prize money) and Skills events 3.0-4.0 (Age brackets for skills events will be determined following the close of registration\, but will strive to be close to under 50\, 50+\, and even 60+ events if numbers allow.) \nPlayers will self rate and can not play lower than their USA Pickleball Tournament Player Rating (UTPR). Players may only play up in skill .5 from their profile rating. Tournament Director reserves the right to correct underrated players. \nUsing the Selkirk Pro S1 ball \n\n\nAdditional Information\nEach player is responsible to register and pay –\nEarly registration – $45 + event fee through Jan 31.\nStandard registration – $60 + event fee through deadline Apr 24.\nAny registration after deadline will be $75 + event fee \nEvent fees:\nOpen w/prize money – $50 (8 teams minimum registered by Apr 14)\nSingles events – $25\nDoubles events – $15 \nFriday – Women’s Doubles / Men’s Singles\nSaturday – Mixed Doubles\nSunday – Men’s Doubles / Women’s Singles \nFormat:\nALL Round Robin games/matches are win by 2.\nMost Round Robins are 1 to 15 but may change based on the number of players in the event. If an event has 7 or 8 teams\, round-robin matches will be 1 to 11 by 2.\nTop 4 teams go to the playoff (1st & 2nd seeds to play Gold Match. 3rd & 4th seeds to play Bronze Match. \nTD may combine brackets as needed to ensure quality play.\nTournament may close at any time if maximum daily numbers are met (even if some events appear to have openings) \nOutdoor Skill/Age tournament on tennis surface\nDUPR scores are not reported \nPickleball Is Great reserves the right to refuse service at anytime. \n\n\nPrize Money\n$1000 total prize money for each Doubles Open Division\n$500 total prize money for each Singles Open Divisions \nOpen events require minimum of 8 teams registered by Apr 14. If 8 teams are not reached by Apr 14\, we will create a 4.5+ skills event (no money payout) and refund the difference between skills/open event registration ($35 doubles / $25 singles). \n\n\nRefund Policy\n$15 admin fee for all refunds \n50% Refunds after 4/24/24 \nWeather refunds are up to 50% refunded for any weather related issues. \n\n\nVenue Information\n\n\n\nWapato Point Resort\n1 Wapato Point Pkwy\nManson\nWashington 98831\nUnited States\nSurface Type: Tennis Hardcourt Surface\nPlay Area Type: Outdoor Non-Covered\nNet Type: Permanent & Portable\nBall Used: Selkirk Pro S1\nNumber of Courts: 12\nParking: No Fee\nNo overnight parking\n\n\n\n\nDetails\n\n\n\nOfficiated Type→ Unique Per Event\n\n\n\n\nMax Events Per Registration→ 3\n\n\n\n\nCost Includes→ 0 Events\n\n\n\n\nGuaranteed Games Per Event→ 3\n\n\n\n\nAllow Pets→ No\n\n\n\n\nAllow Food→ No\n\n\n\n\nAllow Dish to Pass→ No\n\n\n\n\nAllow Grill→ No
URL:https://pickleballisgreat.com/tournament/2024-wapato-point-resort-pickleball-open/
END:VEVENT
BEGIN:VEVENT
DTSTART;VALUE=DATE:20240504
DTEND;VALUE=DATE:20240506
DTSTAMP:20260424T101041
CREATED:20240314T162050Z
LAST-MODIFIED:20240314T162956Z
UID:10000035-1714780800-1714953599@pickleballisgreat.com
SUMMARY:2024 May CA PIG Chase @ Cabrillo Colloege
DESCRIPTION:Description\nVery Fun Round Robin format WITH playoffs for Gold/Silver/Bronze for skills 3.0-4.5+ with age brackets under 50\, 50-59\, & 60+. TD may combine brackets as needed to ensure quality play. \nRegister: https://pickleballbrackets.com/ptd.aspx?eid=bdcd2890-5383-43f4-b6f3-7cba2fe312dc \nPlayers will self rate and cannot play lower than their USA Pickleball Tournament Player Rating (UTPR). Tournament Director reserves the right to correct underrated players. \nUsing the X-40 ball \n\n\nAdditional Information\nOutdoor Tennis Courts Skill/Age tournament \nPayment is required to register – Early registration $45 + $15/event through Feb 29. Standard registration $60 + $15/event through Apr 28. After registration closes (beginning Apr 29)\, late registration will be $75 + $15/event. \nPartner must register within 14 days or be moved to the waitlist. \nSaturday – Men’s & Women’s Doubles\nSunday- Mixed Doubles \nFormat:\nALL Round Robin with playoffs for Gold/Silver. All games/matches are win by 2\nMost Round Robins are 1 to 15 but may change based on the number of players in the event. If an event has 7 or 8 teams\, round-robin matches will be 1 to 11 by 2.\nTop 4 teams go to the playoff (Lead in matches are 1 to 15 with the Gold Match with the option of 2/3-11w/2 or 1 to 15.\nTD may combine brackets as needed to ensure quality play.\nTournament may close at any time if maximum daily numbers are met (even if some events appear to have openings) \nScores will not automatically be reported to DUPR. \nPickleball Is Great reserves the right to refuse service at anytime. \n\n\nRefund Policy\n$10 Admin fee minimum for all withdrawals\nNo refunds after close of registration \nIf any event is cancelled due to weather there will be up to a 50% refund \n\n\nVenue Information\n\n\nCabrillo College Tennis Courts\n6500 Soquel Dr\nAptos\nCalifornia 95003\nUnited States\nSurface Type: Tennis Hardcourt Surface\nPlay Area Type: Outdoor Non-Covered\nNet Type: Portable\nBall Used: Franklin X40\nNumber of Courts: 12\nParking: No Fee\nNo overnight parking\n\n\n\n\nDetails\n\n\n\nOfficiated Type→ None\n\n\n\n\nMax Events Per Registration→ 2\n\n\n\n\nCost Includes→ 0 Events\n\n\n\n\nGuaranteed Games Per Event→ 3\n\n\n\n\nAllow Pets→ No\n\n\n\n\nAllow Food→ No\n\n\n\n\nAllow Dish to Pass→ No\n\n\n\n\nAllow Grill→ No
URL:https://pickleballisgreat.com/tournament/2024-may-ca-pig-chase-cabrillo-colloege/
ATTACH;FMTTYPE=image/jpeg:https://pickleballisgreat.com/wp-content/uploads/2024/03/May-CA-PIG-Chase.jpg
END:VEVENT
BEGIN:VEVENT
DTSTART;VALUE=DATE:20240504
DTEND;VALUE=DATE:20240506
DTSTAMP:20260424T101041
CREATED:20240314T163754Z
LAST-MODIFIED:20240314T163941Z
UID:10000036-1714780800-1714953599@pickleballisgreat.com
SUMMARY:2024 2nd Annual UVTC Spring Smash
DESCRIPTION:Description\nRound Robin format (skill/age) WITH playoffs for Gold/Silver/Bronze for skills 3.0-4.5+. Age brackets will be determined following the close of registration\, but will strive to be close to under 50\, 50-59\, & 60+ events. \nRegister: https://pickleballbrackets.com/ptd.aspx?eid=cc3a22f5-04a4-474d-88f9-d716d047f814 \nPlayers will self-rate and cannot play lower than their USA Pickleball Tournament Player Rating (UTPR). Players may only play up in skill .5 from their profile rating. Tournament Director reserves the right to correct underrated players. \nIndoor play (Skill/Age) on up to 20 temporary courts on a tennis surface \nUsing the Selkirk Pro S1 Ball\nPickleball Is Great reserves the right to refuse service at anytime \n\n\nAdditional Information\nEarly registration $40 + $15/event through Feb 29. Standard registration $55 + $15/event through Apr 25. After registration closes (beginning Apr 26)\, late registration will be $70 + $15/event. \nSaturday – Men’s & Women’s Doubles\nSunday – Mixed Doubles \nPartner must register within 7 days or be moved to the waitlist\n(Age breaks based on registration\, but will strive to be close to under 50\, 50+\, 60+) \nFormat:\nALL Round Robin with playoffs for Gold/Silver/Bronze. All games/matches are win by 2\nMost Round Robins are 1 to 15 but may change based on the number of players in the event. If an event has 7 or 8 teams\, round-robin matches will be 1 to 11 by 2.\nTop 4 teams go to the playoff (Lead in matches are 1 to 15 with the Gold Match with the option of 2/3-11w/2 or 1 to 15. Bronze Match 1 to 15. \nTD may combine brackets as needed to ensure quality play.\nTournament may close at any time if maximum daily numbers are met (even if some events appear to have openings) \nDUPR scores NOT reported. \n\n\nRefund Policy\n$10 Admin fee minimum for all withdrawals \nIf any event is cancelled due to weather\, there will be up to a 50% refund\nDeadline is 4/25/24 for any refund \n\n\nVenue Information\n\n\n\nUmpqua Valley Tennis Center\n1201 NW Stewart Parkway\nRoseburg\nOregon 97471\nUnited States\nSurface Type: Tennis Hardcourt Surface\nPlay Area Type: Indoor\nNet Type: Portable\nBall Used: Selkirk Pro S1\nNumber of Courts: 19\nParking: No Fee\n\n\n\n\nDetails\n\n\n\nOfficiated Type→ None\n\n\n\n\nMax Events Per Registration→ 2\n\n\n\n\nCost Includes→ 0 Events\n\n\n\n\nGuaranteed Games Per Event→ 3\n\n\n\n\nAllow Pets→ No\n\n\n\n\nAllow Food→ No\n\n\n\n\nAllow Dish to Pass→ No\n\n\n\n\nAllow Grill→ No
URL:https://pickleballisgreat.com/tournament/2024-2nd-annual-uvtc-spring-smash/
ATTACH;FMTTYPE=image/jpeg:https://pickleballisgreat.com/wp-content/uploads/2024/03/UVTC.jpg
END:VEVENT
END:VCALENDAR