BEGIN:VCALENDAR
VERSION:2.0
PRODID:-//Pickleball Is Great - ECPv6.15.18//NONSGML v1.0//EN
CALSCALE:GREGORIAN
METHOD:PUBLISH
X-ORIGINAL-URL:https://pickleballisgreat.com
X-WR-CALDESC:Events for Pickleball Is Great
REFRESH-INTERVAL;VALUE=DURATION:PT1H
X-Robots-Tag:noindex
X-PUBLISHED-TTL:PT1H
BEGIN:VTIMEZONE
TZID:UTC
BEGIN:STANDARD
TZOFFSETFROM:+0000
TZOFFSETTO:+0000
TZNAME:UTC
DTSTART:20230101T000000
END:STANDARD
END:VTIMEZONE
BEGIN:VEVENT
DTSTART;VALUE=DATE:20240607
DTEND;VALUE=DATE:20240610
DTSTAMP:20260422T104421
CREATED:20240321T233751Z
LAST-MODIFIED:20240520T033752Z
UID:10000045-1717718400-1717977599@pickleballisgreat.com
SUMMARY:**Cancelled** 2024 Washington Pickleball Championship
DESCRIPTION:Description\nRound Robin format (skill/age) WITH playoffs for Gold/Silver/Bronze for skills 3.0-4.5+. Age brackets will be determined following the close of registration\, but will strive to be close to under 50\, 50-59\, & 60+ events. TD may combine brackets as needed to ensure quality play. \nRegister: https://pickleballbrackets.com/ptd.aspx?eid=12413aff-0eaf-4342-9bd0-08f3d13ddab3 \nPlayers will self rate and can not play lower than their USA Pickleball Tournament Player Rating (UTPR). Players may only play up in skill .5 from their profile rating. Tournament Director reserves the right to correct underrated players. \nBall – Franklin X-40 \nPickleball Is Great reserves the right to refuse service at anytime \n\n\nAdditional Information\nIndoor Skill/Age tournament on tennis surface\nPartner must register within 7 days or be moved to the waitlist \nPayment is required to register (payment is per person) – $50 early registration + $15/event through Mar 31.\nBeginning Apr 1\, registration will be $65 + $15/event\nAfter deadline\, registration increases to $75 + $15/event\nDeadline – May 29th \nFriday – Senior Men’s & Women’s Doubles (50+ events)\nSaturday – Men’s & Women’s Doubles (no age divisions)\nSunday – Mixed Doubles \nFormat:\nALL Round Robin with playoffs for Gold/Silver/Bronze. All games/matches are win by 2\nMost Round Robins are 1 to 15 but may change based on the number of players in the event. If an event has 7 or 8 teams\, round-robin matches will be 1 to 11 by 2.\nTop 4 teams go to the playoff (Lead in matches are 1 to 15 with the Gold Match with the option of 2/3-11w/2 or 1 to 15. Bronze Match 1 to 15.\nTD may combine brackets as needed to ensure quality play. \nTD may combine brackets as needed to ensure quality play.\nReporting scores to DUPR will be the player’s responsibility. Scores not automatically reported. \n\n\nRefund Policy\n$10 Admin fee minimum for all withdrawals\nNo refunds after close of registration \nIf any event is cancelled due to weather there will be up to a 50% refund \n\n\nVenue Information\n\n\n\nSteamboat Tennis and Athletic Club\n3505 Steamboat Island Rd NW\nOlympia\nWashington 98502\nUnited States\nSurface Type: Tennis Hardcourt Surface\nPlay Area Type: Indoor\nNet Type: Portable\nBall Used: Franklin X-40\nNumber of Courts: 12\nParking: No Fee\n\n\n\n\nDetails\n\n\n\nOfficiated Type→ None\n\n\n\n\nMax Events Per Registration→ 3\n\n\n\n\nCost Includes→ 0 Events\n\n\n\n\nGuaranteed Games Per Event→ 3\n\n\n\n\nAllow Pets→ No\n\n\n\n\nAllow Food→ No\n\n\n\n\nAllow Dish to Pass→ No\n\n\n\n\nAllow Grill→ No
URL:https://pickleballisgreat.com/tournament/2024-washington-pickleball-championship/
ATTACH;FMTTYPE=image/jpeg:https://pickleballisgreat.com/wp-content/uploads/2024/03/12413aff-0eaf-4342-9bd0-08f3d13ddab3_logo.jpg
END:VEVENT
BEGIN:VEVENT
DTSTART;VALUE=DATE:20240607
DTEND;VALUE=DATE:20240610
DTSTAMP:20260422T104421
CREATED:20240322T001852Z
LAST-MODIFIED:20240322T001852Z
UID:10000046-1717718400-1717977599@pickleballisgreat.com
SUMMARY:2024 High Rocks Classic
DESCRIPTION:Description\nFun Round Robin format WITH playoffs for Gold/Silver/Bronze for skills 2.5-4.5+. Age brackets to be determined by registration. TD may combine brackets as needed to ensure quality play. \nRegister: https://pickleballbrackets.com/ptd.aspx?eid=40f47f11-f7ae-4a83-bd09-3346b4140dc2 \nPlayers will self rate and cannot play lower than their USA Pickleball Tournament Player Rating (UTPR). Tournament Director reserves the right to correct underrated players. \nUsing the X-40 ball \n\n\nAdditional Information\nPayment is required to register – Early registration $45 + $15/event through Mar 15. Standard registration $60 + $15/event through May 29. Beginning May 30\, late registration will be $75 + $15/event. \nFormat is Age/Skill (5 year breaks) – no membership is required\, but if you have your USSP membership number in your profile\, you will get a $10 Refund.\nInstructions for adding your membership number to your profile – https://www.usseniorpickleball.com/pb-ussp-training \nAge/Skill Events\nFriday 6/7/24 – Senior Women’s Doubles / Men’s Skinny Singles\nSaturday 6/8/24 – Senior Mixed Doubles\nSunday 6/9/24 – Senior Men’s Doubles / Women’s Skinny singles \nPartner must register within 7 days or be moved to the waitlist. Age Divisions will be based on registrations. \nFormat:\nALL Round Robin with playoffs for Gold/Silver/Bronze. All games/matches are win by 2\nMost Round Robins are 1 to 15 but may change based on the number of players in the event. If an event has 7 or 8 teams\, round-robin matches will be 1 to 11 by 2.\nTop 4 teams go to the playoff (Lead in matches are 1 to 15 with the Gold Match with the option of 2/3-11w/2 or 1 to 15. Bronze Match 1 to 15.\nTD may combine brackets as needed to ensure quality play.\nTournament may close at any time if maximum daily numbers are met (even if some events appear to have openings) \nScores will not automatically be reported to DUPR. \nPIG reserves the right to refuse service\nTournament Director reserves the right to change format as needed. \n\n\nRefund Policy\nRefunds will have a $10 fee before the end of registration May 29\, 2024 \nAll weather related cancellations will have up to a 50% refund. \n\n\nVenue Information\n\nRECS\n\n17015 SE 82nd Av\nClackamas\nOregon 97015\nUnited States\nSurface Type: Pickleball Hardcourt Surface\nPlay Area Type: Indoor\nNet Type: Permanent\nBall Used: Franklin X-40\nNumber of Courts: 9\nParking: No Fee\nNo overnight parking allowed\n\n\n\n\nDetails\n\n\n\nOfficiated Type→ None\n\n\n\n\nMax Events Per Registration→ 3\n\n\n\n\nCost Includes→ 0 Events\n\n\n\n\nGuaranteed Games Per Event→ 3\n\n\n\n\nAllow Pets→ No\n\n\n\n\nAllow Food→ No\n\n\n\n\nAllow Dish to Pass→ No\n\n\n\n\nAllow Grill→ No
URL:https://pickleballisgreat.com/tournament/2024-high-rocks-classic/
ATTACH;FMTTYPE=image/jpeg:https://pickleballisgreat.com/wp-content/uploads/2024/03/40f47f11-f7ae-4a83-bd09-3346b4140dc2_logo.jpg
END:VEVENT
END:VCALENDAR