BEGIN:VCALENDAR
VERSION:2.0
PRODID:-//Pickleball Is Great - ECPv6.15.18//NONSGML v1.0//EN
CALSCALE:GREGORIAN
METHOD:PUBLISH
X-WR-CALNAME:Pickleball Is Great
X-ORIGINAL-URL:https://pickleballisgreat.com
X-WR-CALDESC:Events for Pickleball Is Great
REFRESH-INTERVAL;VALUE=DURATION:PT1H
X-Robots-Tag:noindex
X-PUBLISHED-TTL:PT1H
BEGIN:VTIMEZONE
TZID:UTC
BEGIN:STANDARD
TZOFFSETFROM:+0000
TZOFFSETTO:+0000
TZNAME:UTC
DTSTART:20230101T000000
END:STANDARD
END:VTIMEZONE
BEGIN:VEVENT
DTSTART;VALUE=DATE:20240711
DTEND;VALUE=DATE:20240715
DTSTAMP:20260422T092533
CREATED:20240420T210429Z
LAST-MODIFIED:20240420T210429Z
UID:10000071-1720656000-1721001599@pickleballisgreat.com
SUMMARY:2024 Coeur d'Alene Classic Presented by Selkirk UPSC
DESCRIPTION:Description\nJoin us in beautiful Coeur d’Alene\, Idaho for a Round Robin Tournament! \nRegister: https://pickleballbrackets.com/ptd.aspx?eid=bc503528-f160-4dbb-87cd-dd209c2bf172 \nRegister early for a FREE t-shirt by May 9\, 2024 at a price of $70.00\nRegistration from May 10 to May 28 will be $75\nLate registration will be from May 29 to June 29 will be $80\nEach event will be $10. \nThis will be a Round Robin Format \nTHURSDAY\, JULY 11\, 2024\nMen’s Doubles – Skill levels 3.0 to 5.0 – Age divisions 60+ and 70+\nWomen’s Doubles – Skill levels 3.0 to 5.0 – Age divisions 60+ and 70+ \nFRIDAY\, JULY 12\, 2024\nWomen’s Doubles – Skill levels 3.0 to 5.0 – Age divisions\, 50+\nMen’s Doubles – Skill levels 3.0 to 5.0 – Age divisions\, 50+\nMixed Doubles – Skill levels 3.0 to 5.0 – Age divisions 60+ and 70+ \nSATURDAY\, JULY 13\, 2024\nMixed Doubles – Skill levels 3.0 to 5.0 – Age divisions 19+\, 35+\, and 50+ \nSUNDAY\, JULY 14\, 2024\nWomen’s Doubles – Skill levels 3.0 to 5.0 – Age divisions 19+ and 35+\nMen’s Doubles – Skill levels 3.0 to 5.0 – Age divisions 19+ and 35+ \nWhen registering\, both partners need to be fully registered and paid to stay in the event. We will be limiting players 5 days for their partner to sign up or they will be moved to the waitlist. \n*************************\n“United Pickleball State Championship” by the United Pickleball Association (UPA) \nWhich state has the best pickleball players? \nThe answer will be revealed soon enough\, courtesy of the inaugural United Pickleball State Championship (UPSC)\, a set of tournaments conducted across all 50 states in the country. The Gold Medalists from each of these tournaments will automatically secure invitations to the year-end United States Championship in Dallas\, TX\, and all event fees will be waived. \nCome the United States Championship\, a Champions Division will feature all the champions from each division nationwide battling against each other for pickleball supremacy. \nWhy Should I play in the State Championship Series? \nParticipating in the United Pickleball State Championship (UPSC) offers players a unique and thrilling opportunity to showcase their skills on a bigger stage\, contributing to the vibrant and growing pickleball community. The series\, spanning all 50 states\, provides an inclusive platform for players of varying ages and skill levels to engage in spirited competition while fostering camaraderie among enthusiasts across the nation. The chance to compete in the largest pickleball tournament in each state ensures a diverse and competitive field\, creating an environment that encourages players to push their limits and improve their game. \nMoreover\, the prospect of earning a coveted spot in the year-end United States Championship in Dallas\, TX adds an extra layer of excitement and motivation. With all event fees waived for medalists from each state\, the State Championship Series is not only a celebration of skill but also a rewarding experience for those who excel in their divisions. The Champions Division at the United States Championship brings together the best players from across the country\, offering a grand stage for the ultimate showdown and the quest for pickleball supremacy. Whether you’re a seasoned competitor or a newcomer to the sport\, the UPSC promises a memorable journey filled with competition\, sportsmanship\, and the chance to etch your name in the annals of pickleball history. \nChampions Division\nParticipants who secure skill-level gold at a state championship are eligible for a complimentary event fee to the United States Championship in Dallas\, TX. This exclusive offer recognizes and rewards excellence in the Champions Division and ensures the best possible competition. This United States Championship will take place from November 4th to the 9th.\nGold – 100% ( Free event Registration )\nSilver – 50% off\nBronze 33% off \nWe reserve the right to refuse service at anytime. \n\n\nAdditional Information\nFormat Details\nFewer than 4 teams/players will be moved into a combined bracket.\nGames: 2/3 to 11 win by 2 for brackets 4 or 5 teams\nGames: 1 to 15 win by 2 for brackets 6 or 7 teams\nGames: 1 to 11 win by 2 for brackets with 8 or 9 teams (10 or more will split into pools with playoffs) \nRound Robin/Pool Play\nAll players or teams play each other. The medal round will be only 2 matches\n1 vs 2 for Gold / Silver and 3 vs 4 for Bronze\nor\nPool1#1vs Pool2#1 for Gold/Silver and Pool1#2 vs Pool2#2 for Bronze \nAny Popup tent must NOT use spikes to hold down tent \n\n\nRefund Policy\nCANCELLATION DEADLINE: 6/15/24\nIf you withdraw before the CANCELLATION DEADLINE above\, you will be issued a refund (with a $25 processing fee deducted). Refunds will be issued at the conclusion of the tournament. \nINCLEMENT WEATHER POLICY\nThis is an outdoor tournament. If weather is a factor\, we will do all we can to play matches. There are no refunds\, credits or make up days\, if the tournament is impacted by weather. No indoor backup plan for this tournament. \n\n\nVenue Information\n\n\n\nCherry Hill Park\n1718 N 15th Street\nCoeur d’Alene\nIdaho 83814\nUnited States\nSurface Type: Not Specified\nPlay Area Type: Outdoor Non-Covered\nNet Type: Permanent & Portable\nBall Used: Selkirk\nNumber of Courts: 18\nParking: No Fee\nRV Parking is NOT allowed at this location.\nOvernight RV Parking will be ticketed and towed. \nYou are welcome to bring a tent for shade\, however\, the city asks that you not use any stakes to hold down the tent. \n\n\n\n\nAmenities\n\n\n\nLodging\nComfort Inn and Suites – Coeur d’Alene\, ID\nView Details\nMiles From Tourney: 2.40\n702 West Appleway Ave\nCoeur d’Alene\, ID\nIdaho 83814\nUnited States\n\n\n\n\n\nLodging\nHoliday Inn Express & Suites in Coeur d’Alene\nView Details\n2300 W Seltice Way\nCoeur d’Alene\nIdaho 83814\nUnited States\nPlayers can also call (208) 667-3100 and ask for the CDA Classic Pickleball Tournament block. \nThe cut off is noted as 5/27/24. \n\n\n\n\nDetails\n\n\n\nOfficiated Type→ None\n\n\n\n\nMax Events Per Registration→ 4\n\n\n\n\nCost Includes→ 0 Events\n\n\n\n\nGuaranteed Games Per Event→ 4\n\n\n\n\nAllow Pets→ No\n\n\n\n\nMembership Required→ USAPA\n\n\n\n\nAllow Food→ Yes\n\n\n\n\nAllow Dish to Pass→ No\n\n\n\n\nAllow Grill→ No
URL:https://pickleballisgreat.com/tournament/2024-coeur-dalene-classic-presented-by-selkirk-upsc/
ATTACH;FMTTYPE=image/png:https://pickleballisgreat.com/wp-content/uploads/2024/04/bc503528-f160-4dbb-87cd-dd209c2bf172_logo.png
END:VEVENT
BEGIN:VEVENT
DTSTART;VALUE=DATE:20240712
DTEND;VALUE=DATE:20240715
DTSTAMP:20260422T092533
CREATED:20240415T042818Z
LAST-MODIFIED:20240415T042818Z
UID:10000063-1720742400-1721001599@pickleballisgreat.com
SUMMARY:2024 YAC Attack by PIG
DESCRIPTION:Description\nRound Robin format (skill/age) WITH playoffs for Gold/Silver/Bronze for skills 3.0-4.5+. Age brackets will be determined following the close of registration\, but will strive to be close to under 50\, 50-59\, & 60+ events. TD may combine brackets as needed to ensure quality play. \nRegister: https://pickleballbrackets.com/ptd.aspx?eid=4b70b510-7691-4b03-96d7-ffd56aac559b \nPlayers will self rate and can not play lower than their USA Pickleball Tournament Player Rating (UTPR). Players may only play up in skill .5 from their profile rating. Tournament Director reserves the right to correct underrated players. \nUsing the Selkirk Pro S1 ball \nPickleball Is Great reserves the right to refuse service at anytime \n\n\nAdditional Information\nOutdoor Skill/Age tournament on tennis surface\nPartner must register within 7 days or be moved to the waitlist \nPayment is required to register (payment is per person) – $45 early registration + $15/event through 3/31\nBeginning Apr 1\, registration will be $55 + $15/event\nAfter deadline\, registration increases to $65 + $17/event\nDeadline – July 3rd \nFriday – Women’s Doubles\nSaturday – Mixed Doubles\nSunday – Men’s Doubles \nFormat:\nALL Round Robin with playoffs for Gold/Silver/Bronze. All games/matches are win by 2\nMost Round Robins are 1 to 15 but may change based on the number of players in the event. If an event has 7 or 8 teams\, round-robin matches will be 1 to 11 by 2.\nTop 4 teams go to the playoff (Lead in matches are 1 to 15 with the Gold Match with the option of 2/3-11w/2 or 1 to 15. Bronze Match 1 to 15. \nTD may combine brackets as needed to ensure quality play. \n\n\nRefund Policy\n$10 Admin fee minimum for all withdrawals\nNo refunds after close of registration \nIf any event is cancelled due to weather there will be up to a 50% refund \n\n\nVenue Information\n\n\n\nYakima Athletic Club\n2501 Racquet Lane\nYakima\nWashington 98902\nUnited States\nSurface Type: Tennis Hardcourt Surface\nPlay Area Type: Outdoor Non-Covered\nNet Type: Permanent & Portable\nBall Used: Selkirk Pro S1\nNumber of Courts: 8\nParking: No Fee\n\n\n\n\nDetails\n\n\n\nOfficiated Type→ None\n\n\n\n\nMax Events Per Registration→ 2\n\n\n\n\nCost Includes→ 0 Events\n\n\n\n\nGuaranteed Games Per Event→ 3\n\n\n\n\nAllow Pets→ No\n\n\n\n\nAllow Food→ No\n\n\n\n\nAllow Dish to Pass→ No\n\n\n\n\nAllow Grill→ No
URL:https://pickleballisgreat.com/tournament/2024-yac-attack-by-pig/
ATTACH;FMTTYPE=image/jpeg:https://pickleballisgreat.com/wp-content/uploads/2024/04/4b70b510-7691-4b03-96d7-ffd56aac559b_logo.jpg
END:VEVENT
BEGIN:VEVENT
DTSTART;VALUE=DATE:20240712
DTEND;VALUE=DATE:20240715
DTSTAMP:20260422T092533
CREATED:20240415T043820Z
LAST-MODIFIED:20240415T043820Z
UID:10000064-1720742400-1721001599@pickleballisgreat.com
SUMMARY:2024 WYOMING STATE CHAMPIONSHIP - UPSC BY PIG
DESCRIPTION:  \n\nDescription\n“United Pickleball State Championship” by the United Pickleball Association (UPA) \nRegister: https://pickleballbrackets.com/ptd.aspx?eid=f9a6e0a3-49d2-40a5-b38b-8b0be6ce8f02 \nWhich state has the best pickleball players? \nThe answer will be revealed soon enough\, courtesy of the inaugural United Pickleball State Championship (UPSC)\, a set of tournaments conducted across all 50 states in the country. The Gold Medalists from each of these tournaments will automatically secure invitations to the year-end United States Championship in Dallas\, TX\, and all event fees will be waived. \nCome the United States Championship\, a Champions Division will feature all the champions from each division nationwide battling against each other for pickleball supremacy. \nWhy Should I play in the State Championship Series? \nParticipating in the United Pickleball State Championship (UPSC) offers players a unique and thrilling opportunity to showcase their skills on a bigger stage\, contributing to the vibrant and growing pickleball community. The series\, spanning all 50 states\, provides an inclusive platform for players of varying ages and skill levels to engage in spirited competition while fostering camaraderie among enthusiasts across the nation. The chance to compete in the largest pickleball tournament in each state ensures a diverse and competitive field\, creating an environment that encourages players to push their limits and improve their game. \nMoreover\, the prospect of earning a coveted spot in the year-end United States Championship in Dallas\, TX adds an extra layer of excitement and motivation. With all event fees waived for medalists from each state\, the State Championship Series is not only a celebration of skill but also a rewarding experience for those who excel in their divisions. The Champions Division at the United States Championship brings together the best players from across the country\, offering a grand stage for the ultimate showdown and the quest for pickleball supremacy. Whether you’re a seasoned competitor or a newcomer to the sport\, the UPSC promises a memorable journey filled with competition\, sportsmanship\, and the chance to etch your name in the annals of pickleball history. \nChampions Division\nParticipants who secure skill-level gold at a state championship are eligible for a complimentary event fee to the United States Championship in Dallas\, TX. This exclusive offer recognizes and rewards excellence in the Champions Division and ensures the best possible competition. This United States Championship will take place from November 4th to the 9th.\nGold – 100% ( Free event Registration )\nSilver – 50% off\nBronze 33% off \nDivisions Offered\nWe are excited to offer a range of divisions to cater to players of varying age groups and skill levels: \nSkill Levels: 3.0\, 3.5\, 4.0\, 4.5\, 5.0\nAge Groups: 18U\, 19+\, 35+\, 50+\, 60+\, 70+\nPlaying Divisions: MD\, WD\, MXD’(No singles) \nRegistration Starts\nMarch = Early Registration = $45 + event fees\nApril & May = Registration = $60 + event fees\nJune = Late Registration = $75 + event fees\nJuly = Very Late Registration = $90 + event fees \nAll events are $20 each \n\n\nAdditional Information\nPlayers will utilize “World Pickleball” rating (WPR) from their player profile – If there is no WPR\, then the “Pickleball Brackets” rating (PBR) is use. Lastly\, Self rating is used and the responsibility of the player to set at a skill that is NOT lower than their DUPR or UTPR \nFormat Details – “Round Robin with Playoffs” \n“Pool” play followed by playoffs of the top teams – usually the top 4 \nIf there are fewer than 3 teams/players will be moved into a combined bracket.\nDouble Round Robin 1 to 15 win by 2 for 3 teams\nGames: 1 to 15 win by 2 for brackets 4\, 5\, or 6 teams\nGames: 1 to 11 win by 2 for brackets with 6 or 7 teams\n8 or more teams will be split into pools with the top 2 teams go to a playoff round \nPickleball Is Great reserves the right to refuse service at anytime\nTournament Director may need to combine and adjust brackets as needed. \n\n\nRefund Policy\nCANCELLATION DEADLINE: 6/30/24\nIf you withdraw before the CANCELLATION DEADLINE above\, you will be issued a refund (with a $15 processing fee deducted). Refunds will be issued at the conclusion of the tournament. \n\n\nLinked\n\nBelow is a list of tournaments related to this one. Click on them to view details.\nUPA State Championship Series\n\n\n\n2024 ILLINOIS STATE CHAMPIONSHIP – UPASC BY PIG\nJune 21\, 2024\n\n\n\n\n\n\n\n\n\n2024 IOWA STATE CHAMPIONSHIP – UPASC BY PIG\nJune 21\, 2024\n\n\n\n\n\n\n\n\n\n2024 WYOMING STATE CHAMPIONSHIP – UPSC BY PIG\nJuly 12\, 2024\n\n\n\n\n\n\n\n\n\n2024 MONTANA STATE CHAMPIONSHIP – UPA BY PIG\nJuly 19\, 2024\n\n\n\n\n\n\n\n\n\n2024 WISCONSIN STATE CHAMPIONSHIP – UPASC BY PIG\nAugust 9\, 2024\n\n\n\n\n\n\n\n\n\n2024 OHIO STATE CHAMPIONSHIP – UPSC BY PIG\nAugust 16\, 2024\n\n\n\n\n\n\n\n\n\n2024 OREGON STATE CHAMPIONSHIP – UPASC BY PIG\nAugust 23\, 2024\n\n\n\n\n\n\n\n\n\n2024 NEW MEXICO STATE CHAMPIONSHIP – UPSC BY PIG\nAugust 23\, 2024\n\n\n\n\n\n\n\n2024 LOUISIANA STATE CHAMPIONSHIP – UPSC BY PIG\nSeptember 6\, 2024\n\n\n\n\n\n\n\n\n\n2024 PENNSYLVANIA STATE CHAMPIONSHIP – UPSC BY PIG\nSeptember 13\, 2024\n\n\n\n\n\n  \n\n\nVenue Information\n\n\n\nPickleball and Sports Complex\nCasper Pickleball\n1911 Dunlap Way\nCasper\nWyoming 82601\nUnited States\nSurface Type: Tennis Hardcourt Surface\nPlay Area Type: Indoor Air Conditioned\nNet Type: Permanent\nBall Used: Franklin X40\nNumber of Courts: 8\nParking: No Fee\nNo overnight parking\n\n\n\n\nDetails\n\n\n\nOfficiated Type→ None\n\n\n\n\nMax Events Per Registration→ 2\n\n\n\n\nCost Includes→ 0 Events\n\n\n\n\nGuaranteed Games Per Event→ 3\n\n\n\n\nAllow Pets→ No\n\n\n\n\nAllow Food→ No\n\n\n\n\nAllow Dish to Pass→ No\n\n\n\n\nAllow Grill→ No
URL:https://pickleballisgreat.com/tournament/2024-wyoming-state-championship-upsc-by-pig/
ATTACH;FMTTYPE=image/jpeg:https://pickleballisgreat.com/wp-content/uploads/2024/04/f9a6e0a3-49d2-40a5-b38b-8b0be6ce8f02_logo.jpg
END:VEVENT
BEGIN:VEVENT
DTSTART;VALUE=DATE:20240712
DTEND;VALUE=DATE:20240715
DTSTAMP:20260422T092533
CREATED:20240420T165645Z
LAST-MODIFIED:20240420T165645Z
UID:10000065-1720742400-1721001599@pickleballisgreat.com
SUMMARY:6th Annual Summer Sizzle by PIG
DESCRIPTION:Description\nSAVE THE DATE (July 12-14) \nRound Robin format (skill/age) WITH playoffs for Gold/Silver/Bronze for skills 3.0-4.5+. Age brackets will be determined following the close of registration\, but will strive to be close to under 50\, 50-59\, & 60+ events. TD may combine brackets as needed to ensure quality play. \nRegister: https://pickleballbrackets.com/ptd.aspx?eid=44158ba2-5e43-44ce-90a7-cece79048b5c \nPlayers will self rate and can not play lower than their USA Pickleball Tournament Player Rating (UTPR). Players may only play up in skill .5 from their profile rating. Tournament Director reserves the right to correct underrated players. \nUsing the Franklin X-40 ball \nPickleball Is Great reserves the right to refuse service at anytime \n\n\nAdditional Information\nOutdoor Skill/Age tournament on tennis surface\nNo dogs allowed on school campus \nPartner must register within 7 days or be moved to the waitlist \nPayment is required to register – early registration $45 + $15/event through May 15\nBeginning May 16\, registration will be $60 + $15/event. Deadline – July 3.\nAny registrations after deadline\, beginning July 4\, will be $75 + $15/event \nFriday – Women’s Doubles\nSaturday – Mixed Doubles\nSunday – Men’s Doubles \nFormat:\nALL Round Robin with playoffs for Gold/Silver/Bronze. All games/matches are win by 2\nMost Round Robins are 1 to 15 but may change based on the number of players in the event. If an event has 7 or 8 teams\, round-robin matches will be 1 to 11 by 2.\nTop 4 teams go to the playoff (Lead in matches are 1 to 15 with the Gold Match with the option of 2/3-11w/2 or 1 to 15. Bronze Match 1 to 15. \nTD may combine brackets as needed to ensure quality play. \n\n\nRefund Policy\n$10 Admin fee for all withdrawals. No refunds after July 3rd \nIf any event is cancelled due to weather\, there will be up to a 50% refund \n\n\nVenue Information\n\n\n\nNorth Marion High School\n20167 Grim Rd NE\nAurora\nOregon 97002\nUnited States\nSurface Type: Tennis Hardcourt Surface\nPlay Area Type: Outdoor Non-Covered\nNet Type: Portable\nBall Used: Franklin X-40\nNumber of Courts: 12\nParking: No Fee\n\n\n\n\nDetails\n\n\n\nOfficiated Type→ Unique Per Event\n\n\n\n\nMax Events Per Registration→ 2\n\n\n\n\nCost Includes→ 0 Events\n\n\n\n\nGuaranteed Games Per Event→ 3\n\n\n\n\nAllow Pets→ No\n\n\n\n\nAllow Food→ Yes\n\n\n\n\nAllow Dish to Pass→ No\n\n\n\n\nAllow Grill→ No
URL:https://pickleballisgreat.com/tournament/6th-annual-summer-sizzle-by-pig/
ATTACH;FMTTYPE=image/jpeg:https://pickleballisgreat.com/wp-content/uploads/2024/04/44158ba2-5e43-44ce-90a7-cece79048b5c_logo.jpg
END:VEVENT
END:VCALENDAR