BEGIN:VCALENDAR
VERSION:2.0
PRODID:-//Pickleball Is Great - ECPv6.15.18//NONSGML v1.0//EN
CALSCALE:GREGORIAN
METHOD:PUBLISH
X-WR-CALNAME:Pickleball Is Great
X-ORIGINAL-URL:https://pickleballisgreat.com
X-WR-CALDESC:Events for Pickleball Is Great
REFRESH-INTERVAL;VALUE=DURATION:PT1H
X-Robots-Tag:noindex
X-PUBLISHED-TTL:PT1H
BEGIN:VTIMEZONE
TZID:UTC
BEGIN:STANDARD
TZOFFSETFROM:+0000
TZOFFSETTO:+0000
TZNAME:UTC
DTSTART:20230101T000000
END:STANDARD
END:VTIMEZONE
BEGIN:VEVENT
DTSTART;VALUE=DATE:20240718
DTEND;VALUE=DATE:20240722
DTSTAMP:20260422T093046
CREATED:20240420T174303Z
LAST-MODIFIED:20240914T181046Z
UID:10000067-1721260800-1721606399@pickleballisgreat.com
SUMMARY:2024 Rocky Mountain State Games by PIG
DESCRIPTION:Description\nPayment is required to register – Flat rate registration (includes 1 or 2 events) $60 \nWelcome to the Rocky Mountain State Games (RMSG) Pickleball Tournament \nRMSG is Colorado’s largest multi-sport festival for athletes of all ages and athletic abilities\, including those with physical disabilities or visual impairment. The pickleball events will be held in Colorado Springs\, at Monument Valley Park\, July 18-21\, 2024 \nRegister: https://pickleballbrackets.com/ptd.aspx?eid=cef62db3-e319-47bb-8bce-28e12c54075d \nVERY IMPORTANT – PLAYER RATINGS: \nPlayers will self rate and cannot play lower than their USA Pickleball Tournament Player Rating (UTPR). Players may only play up in skill .5 from their profile rating. Tournament Director reserves the right to correct underrated players.\nWe ask that all players respect the integrity of the game and of each event by entering at their most accurate skill level. \nCOMPETITION FORMAT DETAILS – This will be a round-robin tournament with a medal playoff following the round-robin \nUsing the Franklin X-40 ball \n\n\nAdditional Information\nThursday – Mixed Senior (60+ events)\nFriday – Men’s & Women’s Doubles (60+ events)\nSaturday – Men’s & Women’s Doubles (under 60 events) / Wheelchair Doubles (gender-neutral and geared for 3.0/3.5 skills)\nSunday – Mixed Doubles (under 60 events) \nOutdoor Skill/Age tournament on tennis surface \nFormat:\nALL Round Robin with playoffs for Gold/Silver/Bronze. All games/matches are win by 2\nMost Round Robins are 1 to 15 but may change based on the number of players in the event. If an event has 7 or 8 teams\, round-robin matches will be 1 to 11 by 2.\nTop 4 teams go to the playoff (Lead in matches are 1 to 15 with the Gold Match with the option of 2/3-11w/2 or 1 to 15. Bronze Match 1 to 15.\nTD may combine brackets as needed to ensure quality play.\nTournament may close at any time if maximum daily numbers are met (even if some events appear to have openings) \nPickleball Is Great reserves the right to refuse service at anytime \nDUPR scores NOT reported. \n\n\nRefund Policy\nNo refund policy \n\n\nVenue Information\n\n\n\nMonument Valley Park\n170 W Cache La Poudre St\nColorado Springs\nColorado 80903\nUnited States\nSurface Type: Tennis Hardcourt Surface\nPlay Area Type: Outdoor Non-Covered\nNet Type: Portable\nBall Used: Franklin X-40\nNumber of Courts: 15\nParking: No Fee\n\n\n\n\nDetails\n\n\n\nOfficiated Type→ None\n\n\n\n\nMax Events Per Registration→ 2\n\n\n\n\nCost Includes→ Unlimited Events\n\n\n\n\nGuaranteed Games Per Event→ 3\n\n\n\n\nAllow Pets→ Yes\n\n\n\n\nAllow Food→ Yes\n\n\n\n\nAllow Dish to Pass→ No\n\n\n\n\nAllow Grill→ No
URL:https://pickleballisgreat.com/tournament/2024-rocky-mountain-state-games-by-pig/
ATTACH;FMTTYPE=image/jpeg:https://pickleballisgreat.com/wp-content/uploads/2024/04/cef62db3-e319-47bb-8bce-28e12c54075d_logo.jpg
END:VEVENT
BEGIN:VEVENT
DTSTART;VALUE=DATE:20240719
DTEND;VALUE=DATE:20240722
DTSTAMP:20260422T093046
CREATED:20240409T074022Z
LAST-MODIFIED:20240409T074022Z
UID:10000057-1721347200-1721606399@pickleballisgreat.com
SUMMARY:2024 3rd Annual Willamette Valley by PIG - a USSP Circuit event
DESCRIPTION:Description\nThis is the third annual Willamette Valley by Pickleball Is Great.\nThis is a USSP (50+) tournament. Format is Age/Skill (5 year breaks) – no membership is required\, but if you have your USSP membership number in your profile\, you will get a $10 Refund.\nInstructions for adding your membership number to your profile – https://www.usseniorpickleball.com/pb-ussp-training \nRegister: https://pickleballbrackets.com/ptd.aspx?eid=a54a0952-7415-4da5-b934-0789728d44b6 \nAll Round Robin with playoffs for Gold/Silver/Bronze Medals\nFRIDAY Women’s Doubles & Men’s MINI Singles\nSATURDAY Mixed Doubles\nSUNDAY Men’s Doubles & Women’s MINI Singles \nNo Membership in any association is required for registration. \nThis tournament is US Senior Pickleball approved. \nTo join USSP\, go to USSeniorPickleball.com\, only $20 per year. Multi-year payment discounts available. \nUSSP members will receive a $10 rebate of the registration fee and are eligible for points and prizes. Go to the USSP website listed above for more information on the points system. \nMINIMUM PAY FOR ALL REFEREES IS $10 PER MATCH – must register online \n\n\nAdditional Information\nALL ROUND ROBIN WITH PLAYOFFS OF THE TOP TEAMS \n**planned format\n4\, 5\, & 6 teams in Pool/Round Robin – games are 1 to 15 win by 2\n7 & 8 teams in Pool/Round Robin – games are 1 to 11 win by 2\nAll lead in games (to the playoffs) are 1 to 15 win by 2\nBronze Matches 1 to 15 win by 2\nGold Matches are the players choice of 2 out of 3 to 11 win by 2 OR 1 to 15 win by 2 \nScores will not automatically be reported to DUPR. \nPickleball Is Great reserves the right to refuse service at anytime \nThere is a daily player limit that may cause registration to stop with no notice for an event or the whole day. \n\n\nRefund Policy\n$15 withdraw fee for all.\nNo refunds after July 10. \nUp to a 50% refund for weather related cancellations \n\n\nVenue Information\n\n\n\nLinn Benton Community College\nLBCC\n6500 Pacific Blvd SW\nAlbany\nOregon 97321\nUnited States\nSurface Type: Tennis Hardcourt Surface\nPlay Area Type: Outdoor Non-Covered\nNet Type: Portable\nBall Used: Franklin X-40\nNumber of Courts: 8\nParking: No Fee\n\n\n\n\nDetails\n\n\n\nOfficiated Type→ None\n\n\n\n\nMax Events Per Registration→ 3\n\n\n\n\nCost Includes→ 0 Events\n\n\n\n\nGuaranteed Games Per Event→ 3\n\n\n\n\nAllow Pets→ No\n\n\n\n\nAllow Food→ No\n\n\n\n\nAllow Dish to Pass→ No\n\n\n\n\nAllow Grill→ No
URL:https://pickleballisgreat.com/tournament/2024-3rd-annual-willamette-valley-by-pig-a-ussp-circuit-event/
ATTACH;FMTTYPE=image/jpeg:https://pickleballisgreat.com/wp-content/uploads/2024/04/a54a0952-7415-4da5-b934-0789728d44b6_logo.jpg
END:VEVENT
BEGIN:VEVENT
DTSTART;VALUE=DATE:20240719
DTEND;VALUE=DATE:20240722
DTSTAMP:20260422T093046
CREATED:20240420T180901Z
LAST-MODIFIED:20240420T183900Z
UID:10000068-1721347200-1721606399@pickleballisgreat.com
SUMMARY:2024 MONTANA STATE CHAMPIONSHIP - UPASC BY PIG
DESCRIPTION:Description\n“United Pickleball State Championship” by the United Pickleball Association (UPA) \nRegister: https://pickleballbrackets.com/ptd.aspx?eid=7d13d113-6535-45c5-b8b5-bd3254edd600 \nWhich state has the best pickleball players? \nThe answer will be revealed soon enough\, courtesy of the inaugural United Pickleball State Championship (UPSC)\, a set of tournaments conducted across all 50 states in the country. The Gold Medalists from each of these tournaments will automatically secure invitations to the year-end United States Championship in Dallas\, TX\, and all event fees will be waived. \nCome the United States Championship\, a Champions Division will feature all the champions from each division nationwide battling against each other for pickleball supremacy. \nWhy Should I play in the State Championship Series? \nParticipating in the United Pickleball State Championship (UPSC) offers players a unique and thrilling opportunity to showcase their skills on a bigger stage\, contributing to the vibrant and growing pickleball community. The series\, spanning all 50 states\, provides an inclusive platform for players of varying ages and skill levels to engage in spirited competition while fostering camaraderie among enthusiasts across the nation. The chance to compete in the largest pickleball tournament in each state ensures a diverse and competitive field\, creating an environment that encourages players to push their limits and improve their game. \nMoreover\, the prospect of earning a coveted spot in the year-end United States Championship in Dallas\, TX adds an extra layer of excitement and motivation. With all event fees waived for medalists from each state\, the State Championship Series is not only a celebration of skill but also a rewarding experience for those who excel in their divisions. The Champions Division at the United States Championship brings together the best players from across the country\, offering a grand stage for the ultimate showdown and the quest for pickleball supremacy. Whether you’re a seasoned competitor or a newcomer to the sport\, the UPSC promises a memorable journey filled with competition\, sportsmanship\, and the chance to etch your name in the annals of pickleball history. \nChampions Division\nParticipants who secure skill-level gold at a state championship are eligible for a complimentary event fee to the United States Championship in Dallas\, TX. This exclusive offer recognizes and rewards excellence in the Champions Division and ensures the best possible competition. This United States Championship will take place from November 4th to the 9th.\nGold – 100% ( Free event Registration )\nSilver – 50% off\nBronze 33% off \nDivisions Offered\nWe are excited to offer a range of divisions to cater to players of varying age groups and skill levels: \nSkill Levels: 3.0\, 3.5\, 4.0\, 4.5\, 5.0\nAge Groups: 18U\, 19+\, 35+\, 50+\, 60+\, 70+\nPlaying Divisions: MD\, WD\, MXD\, MS\, WS \nRegistration Starts\nMarch = Early Registration = $45 + event fees\nApril & May = Registration = $60 + event fees\nJune = Late Registration = $75 + event fees\nJuly = Very Late Registration = $90 + event fees \nAll Doubles Events are $20 each\nAll Singles Events are $35 each \n\n\nAdditional Information\n7/19/24 Friday – Men’s Singles & Women’s Doubles\n7/20/24 Saturday Mixed Doubles\n7/21/24 Sunday Men’s Doubles & Women’s Singles \nPlayers will utilize “World Pickleball” rating (WPR) from their player profile – If there is no WPR\, then the “Pickleball Brackets” rating (PBR) is use. Lastly\, Self rating is used and the responsibility of the player to set at a skill that is NOT lower than their DUPR or UTPR \nFormat Details – “Round Robin with Playoffs” \n“Pool” play followed by playoffs of the top teams – usually the top 4 \nIf there are fewer than 3 teams/players will be moved into a combined bracket.\nDouble Round Robin 1 to 15 win by 2 for 3 teams\nGames: 1 to 15 win by 2 for brackets 4\, 5\, or 6 teams\nGames: 1 to 11 win by 2 for brackets with 6 or 7 teams\n8 or more teams will be split into pools with the top 2 teams go to a playoff round \nPickleball Is Great reserves the right to refuse service at anytime\nTournament Director may need to combine and adjust brackets as needed. \n\n\nRefund Policy\nCANCELLATION DEADLINE: 6/30/24\nIf you withdraw before the CANCELLATION DEADLINE above\, you will be issued a refund (with a $15 processing fee deducted). Refunds will be issued at the conclusion of the tournament. \n\n\nLinked\n\nBelow is a list of tournaments related to this one. Click on them to view details.\nUPA State Championship Series\n\n\n\n2024 ILLINOIS STATE CHAMPIONSHIP – UPASC BY PIG\nJune 21\, 2024\n\n\n\n\n\n\n\n2024 IOWA STATE CHAMPIONSHIP – UPASC BY PIG\nJune 21\, 2024\n\n\n\n\n\n\n\n2024 WYOMING STATE CHAMPIONSHIP – UPSC BY PIG\nJuly 12\, 2024\n\n\n\n\n\n\n\n2024 MONTANA STATE CHAMPIONSHIP – UPASC BY PIG\nJuly 19\, 2024\n\n\n\n\n\n\n\n2024 WISCONSIN STATE CHAMPIONSHIP – UPASC BY PIG\nAugust 9\, 2024\n\n\n\n\n\n\n\n2024 OHIO STATE CHAMPIONSHIP – UPSC BY PIG\nAugust 16\, 2024\n\n\n\n\n\n\n\n2024 OREGON STATE CHAMPIONSHIP – UPASC BY PIG\nAugust 23\, 2024\n\n\n\n\n\n\n\n2024 NEW MEXICO STATE CHAMPIONSHIP – UPSC BY PIG\nAugust 23\, 2024\n\n\n\n\n\n\n\n2024 LOUISIANA STATE CHAMPIONSHIP – UPSC BY PIG\nSeptember 6\, 2024\n\n\n\n\n\n\n\n2024 PENNSYLVANIA STATE CHAMPIONSHIP – UPSC BY PIG\nSeptember 13\, 2024\n\n\n\n\n\n\n\n\n\nVenue Information\n\n\n\nPEAK Missoula @ The Racquet Club\nPEAK\n4990 Buckhouse Rd\nMissoula\nMontana 59804\nUnited States\nSurface Type: Tennis Hardcourt Surface\nPlay Area Type: Indoor & Outdoor\nNet Type: Permanent & Portable\nBall Used: Franklin X40\nNumber of Courts: 12\nParking: No Fee\n\n\n\n\nDetails\n\n\n\nOfficiated Type→ None\n\n\n\n\nMax Events Per Registration→ 3\n\n\n\n\nCost Includes→ 0 Events\n\n\n\n\nGuaranteed Games Per Event→ 3\n\n\n\n\nAllow Pets→ No\n\n\n\n\nAllow Food→ No\n\n\n\n\nAllow Dish to Pass→ No\n\n\n\n\nAllow Grill→ No
URL:https://pickleballisgreat.com/tournament/2024-montana-state-championship-upasc-by-pig/
ATTACH;FMTTYPE=image/jpeg:https://pickleballisgreat.com/wp-content/uploads/2024/04/Montana-State-Championships.jpg
END:VEVENT
END:VCALENDAR