BEGIN:VCALENDAR
VERSION:2.0
PRODID:-//Pickleball Is Great - ECPv6.15.18//NONSGML v1.0//EN
CALSCALE:GREGORIAN
METHOD:PUBLISH
X-WR-CALNAME:Pickleball Is Great
X-ORIGINAL-URL:https://pickleballisgreat.com
X-WR-CALDESC:Events for Pickleball Is Great
REFRESH-INTERVAL;VALUE=DURATION:PT1H
X-Robots-Tag:noindex
X-PUBLISHED-TTL:PT1H
BEGIN:VTIMEZONE
TZID:UTC
BEGIN:STANDARD
TZOFFSETFROM:+0000
TZOFFSETTO:+0000
TZNAME:UTC
DTSTART:20230101T000000
END:STANDARD
END:VTIMEZONE
BEGIN:VEVENT
DTSTART;VALUE=DATE:20240730
DTEND;VALUE=DATE:20240805
DTSTAMP:20260422T080604
CREATED:20240420T205642Z
LAST-MODIFIED:20240420T205642Z
UID:10000070-1722297600-1722815999@pickleballisgreat.com
SUMMARY:2024 Seattle Metro Classic
DESCRIPTION:Description\nWA State’s premier outdoor tournament in fun\, festive environment\, with perfect PNW summer weather and the company of friends. The Seattle Metro is a favorite of local\, regional and traveling players! \nRegister: https://pickleballbrackets.com/ptd.aspx?eid=a5cb3e8f-a1b3-4581-a218-4c6089c101c9 \nNon-sanctioned double-elimination format. Mens/Womens/Mixed 12+\,35+\,50+\,60+ skill events with cash prize Opens* and Senior Opens*. \nPlayers may register for maximum of 1 gendered and 1 mixed event. \n*Open and Senior Open events require minimum DUPR rating of 4.5 to register. \nAnnual fundraiser for the Seattle Metro Pickleball Association. \n\n\nAdditional Information\n2024 PLANNED SCHEDULE **updated 2/7/24 \nTuesday\, July 30\nSenior Men’s Doubles 50+\nSenior Men’s Doubles 60+\nSenior Men’s Doubles Open 50+ (4.5+ DUPR Required) \nWednesday\, July 31\nSenior Mixed Doubles 50+\nSenior Mixed Doubles 60+\nSenior Mixed Doubles Open 50+ (4.5+ DUPR Required) \nThursday\, August 1\nSenior Women’s Doubles 50+\nSenior Women’s Doubles 60+\nSenior Women’s Doubles Open 50+ (4.5+ DUPR Required)\nBORDER BATTLE EXHIBITION EVENT \nFriday\, August 2\nMen’s Doubles 12+ & 35+\nMen’s Doubles Open 12+ (4.5+ DUPR Required) \nSaturday\, August 3\nMixed Doubles 12+ & 35+\nMixed Doubles Open 12+ (4.5+ DUPR Required) \nSunday\, August 4\nWomen’s Doubles 12+ & 35+\nWomen’s Doubles Open 12+ (4.5+ DUPR Required) \nFEES \nRegistration / per player: $ 75\nSkill Event / per event: $ 15\nOpen Event / per event: $ 40 \nREGISTRATION RULES (Applies to ALL events\, Skill and Open) \n~Players can only register for ONE “mixed doubles” and ONE “gender doubles” event. (2 events total for entire tournament) \n~Players should self-rate when registering. We are not officially using the DUPR rating system. However\,\nif you register below your published DUPR rating\, we will automatically move you up to what your rating is (or the waitlist if that division is full). \n~Partner not required at time of registration for any event. (PLEASE read details for limited time before moving to waitlist) \n~Payment is required at time of registration. \n~Any player that does not have a partner registered with 30 days of their initial registration will be moved\nto the waitlist. \n~If a player needs to change their partner due to injury or unexpected circumstances\, they can do so up to 7 days prior to the start of the tournament. Players needing to change partners need to contact the tournament director to do so. \n~Waitlisted teams that are complete will be added to the active roster once space becomes available or if a division is expanded. \nADDITIONAL OPEN EVENT RULES (Applies to ALL Open events) \n~Teams who register for any Open division will be temporarily moved to the waitlist until tournament director verifies both players have the required DUPR rating (4.5+) to compete in the Open event. Verification will take up to 72 hours and both players need to be registered before the director moves the team to the active roster. \nWe reserves all rights to refuse service for any reason. \n\n\nPrize Money\nOPEN DIVISION PLAY AND PAYOUT POLICY \nPrizes will be only be awarded and distributed equally amongst Open Divisions\, with prizes offered for 1st\, 2nd \, 3rd and 4th place\, so long at the division has a minimum of 8 teams.  If the division has less than 8 teams\, prizes will be prorated as follows: \n8 or more teams in an Open division – Double elimination format. Prizes will be awarded for 1st\, 2nd\, 3rd and 4th place at 100%. \n6-7 teams in an Open division – Double elimination or round robin format (tournament director discretion). Prizes will be awarded for 1st\, 2nd and 3rd place at 75%. \n4 – 5 teams in an Open division -  Open division will be either of the following formats (decided by tournament director). \nPlay in a Round Robin Format within their division\, with prizes awarded at 60%. \nCombine with the other Open division age group. (ie. Combine 50+ and 19+) Prizes will be awarded to the top 3 teams at 100%\, so long as the combined divisions have at least 8 teams. \nLess than 4 teams – Open division will be combined with the other Open division age group.  (ie. Combine 50+ and 19+). \nIf the combined divisions have at least 8 teams\, the format will be double elimination with prizes awarded to the top 3 teams at 100%. \nIf the combined division is only 6-7 total teams\, prizes will be prorated to 75% with format decided by tournament director. \nIf the combined division is only 4-5 total teams\, prizes will be prorated to 60% with round robin format. \nTeams in any Open division with less than 4 teams will have the option to withdraw for a full refund. \n\n\nRefund Policy\n$20 Admin fee minimum for all withdrawals \nREFUND DEADLINE\nJuly 1st – Deadline to receive a refund for registration or event fees is July 1st. \nNo refunds will be given after July 1st\, unless your event is combined with another age/skill group or cancelled. In this case\, the tournament director will contact you to notify of changes and you will have the opportunity to request a refund or stay in your division. \nWEATHER CANCELATION POLICY\nIf any event is cancelled due to weather\, there will be up to a 50% refund. \n\n\nVenue Information\n\n\n\nShoreview Park\, Shoreline\, WA\n700 NW Innis Arden Way\nShoreline\nWashington 98177\nUnited States\nSurface Type: Tennis Hardcourt Surface\nPlay Area Type: Outdoor Non-Covered\nNet Type: Permanent & Portable\nBall Used: Selkirk Pro S1\nNumber of Courts: 18\nParking: No Fee\nLimited Parking at venue\, overflow parking at Shoreline Community College. Please carpool and arrive extra early for your scheduled start time.\n\n\n\n\nDetails\n\n\n\nOfficiated Type→ Medal Matches\n\n\n\n\nMax Events Per Registration→ 2\n\n\n\n\nCost Includes→ 0 Events\n\n\n\n\nGuaranteed Games Per Event→ 2\n\n\n\n\nAllow Pets→ Yes\n\n\n\n\nAllow Food→ Yes\n\n\n\n\nAllow Dish to Pass→ No\n\n\n\n\nAllow Grill→ No\n\n\n\n\n\nParking\nLimited Parking at venue\, overflow parking at Shoreline Community College. Please carpool and arrive extra early for your scheduled start time.
URL:https://pickleballisgreat.com/tournament/2024-seattle-metro-classic/
ATTACH;FMTTYPE=image/jpeg:https://pickleballisgreat.com/wp-content/uploads/2024/04/a5cb3e8f-a1b3-4581-a218-4c6089c101c9_logo.jpg
END:VEVENT
BEGIN:VEVENT
DTSTART;VALUE=DATE:20240731
DTEND;VALUE=DATE:20240804
DTSTAMP:20260422T080604
CREATED:20240420T191510Z
LAST-MODIFIED:20240420T191510Z
UID:10000069-1722384000-1722729599@pickleballisgreat.com
SUMMARY:Core 4 Life 4th Annual Leroy Dewitt Pickleball Tournament by PIG
DESCRIPTION:4th Annual Roy Dewitt Memorial Pickleball Tournament \nShow Low City Campus Gym – 760 E McNeil\, Show Low\, AZ 85901 \nRegister: https://pickleballbrackets.com/ptd.aspx?eid=e37a1321-4958-40d8-9c5c-e92b55e29c68 \n12 outside courts\n3 inside courts (back up) \nRegistration increases the closer we get to the event\nMarch & April $35 per player\nMay & June $50 per player\nJuly $65 per player\nAugust is $80 per player \n$15 FOR EACH EVENT per player \nWe reserve the right to refuse service to anyone. \n\n\nAdditional Information\nWednesday 7/31/24\nMen’s & Women MINI singles \nThursday 8/1/24\nMen’s and Women’s Doubles 50-59\, 60-69\, 70+ \nFriday 8/2/24\nMixed Doubles 8-12\,13-18\, 19-34\, 35-49\, 50-59\, 60-69\, 70+ \nSaturday 8/3/24\nMen’s and Women’s Doubles 8-12\,13-18\, 19-34\, 35+\nOpen play Saturday night with “Leroy & Grandma” ***3 players per team * tag team style**** \n\n\nRefund Policy\n$15 admin fee for all refunds\nonly 50% after 7/15 for any refund request \nweather refund policy is up to 50% refund with any weather cancellation. \n\n\nLinked\n\n\nBelow is a list of tournaments related to this one. Click on them to view details.\n2024 Arizona PIG Tournaments\n\n\n\n2024 Winter Classic presented by Center Court Pickleball Club Classic @ Gilbert Regional by PIG\nJanuary 11\, 2024\n\n\n\n\n\n\n2024 Tucson Winter Classic USSP & All Ages by PIG\nFebruary 1\, 2024\n\n\n\n\n\n\nPicklefest 2024 in Lake Havasu\nFebruary 23\, 2024\n\n\n\n\n\n\n2024 Robson Ranch Members Only Pickleball Tournament\nFebruary 26\, 2024\n\n\n\n\n\n\n2024 Robson Ranch Desert Slam 11th Annual Pickleball Tournament\nMarch 13\, 2024\n\n\n\n\n\n\n2024 March More Bang for the Buck! @ Arizona Athletic Grounds – USSP Event by PIG\nMarch 26\, 2024\n\n\n\n\n\n\n2024 Spring Classic @Gilbert Regional Park – USSP & ALL AGES by PIG\nApril 20\, 2024\n\n\n\n\n\n\nCore 4 Life 4th Annual Leroy Dewitt Pickleball Tournament by PIG\nJuly 31\, 2024\n\n\n\n\n\n  \n\n\nVenue Information\n\n\n\nShow Low City Campus Gym\nCore 4 Life\n760 E McNeil\nShow Low\nArizona 85901\nUnited States\nSurface Type: Not Specified\nPlay Area Type: Indoor & Outdoor\nNet Type: Permanent & Portable\nBall Used: TBD\nNumber of Courts: 12\nParking: No Fee\n\n\n\n\nDetails\n\n\n\nOfficiated Type→ None\n\n\n\n\nMax Events Per Registration→ 3\n\n\n\n\nCost Includes→ 0 Events\n\n\n\n\nGuaranteed Games Per Event→ 3\n\n\n\n\nAllow Pets→ Yes\n\n\n\n\nAllow Food→ Yes\n\n\n\n\nAllow Dish to Pass→ No\n\n\n\n\nAllow Grill→ No
URL:https://pickleballisgreat.com/tournament/core-4-life-4th-annual-leroy-dewitt-pickleball-tournament-by-pig/
ATTACH;FMTTYPE=image/jpeg:https://pickleballisgreat.com/wp-content/uploads/2024/04/e37a1321-4958-40d8-9c5c-e92b55e29c68_logo.jpg
END:VEVENT
END:VCALENDAR