BEGIN:VCALENDAR
VERSION:2.0
PRODID:-//Pickleball Is Great - ECPv6.15.18//NONSGML v1.0//EN
CALSCALE:GREGORIAN
METHOD:PUBLISH
X-ORIGINAL-URL:https://pickleballisgreat.com
X-WR-CALDESC:Events for Pickleball Is Great
REFRESH-INTERVAL;VALUE=DURATION:PT1H
X-Robots-Tag:noindex
X-PUBLISHED-TTL:PT1H
BEGIN:VTIMEZONE
TZID:UTC
BEGIN:STANDARD
TZOFFSETFROM:+0000
TZOFFSETTO:+0000
TZNAME:UTC
DTSTART:20230101T000000
END:STANDARD
END:VTIMEZONE
BEGIN:VEVENT
DTSTART;VALUE=DATE:20240807
DTEND;VALUE=DATE:20240812
DTSTAMP:20260422T080855
CREATED:20240421T000559Z
LAST-MODIFIED:20240421T000559Z
UID:10000074-1722988800-1723420799@pickleballisgreat.com
SUMMARY:2024 Founders Tournament
DESCRIPTION:Description\n***please join the waitlist if your division is full*** \nSave the Date – Aug 8-11\, 2024!\nRegister: https://pickleballbrackets.com/ptd.aspx?eid=c5c60518-7186-4040-a7eb-ea2939f33325 \n**We sell out every year. Brackets will close early if we hit our daily population limit. 60 teams a day. Your registration is incomplete until paid & your partners as well. Please be prepared. \nAUGUST 7\, 2024 – WOODEN PADDLE TOURNAMENT\, SENIORS MIXED DOUBLES 60+ & 70+\nPlay pickleball like it was originally played. Participants get a limited edition wooden paddle. The wood paddle will be in the afternoon after the Senior Mixed Doubles events. \nAUGUST 8\, 2024 – SENIORS MEN’S & WOMEN’S DOUBLES 60+ & 70+\nAUGUST 9\, 2024 – WOMEN’S DOUBLES 8-49 & 50+\nAUGUST 10\, 2024 – MIXED DOUBLES 8-49 & 50+\nAUGUST 11\, 2024 – MEN’S DOUBLES 8-49 & 50+ \nBainbridge Island\, WA is the birthplace of Pickleball ! \n\n\nAdditional Information\nFormat\nThis is a skill/age tournament.\nThis tournament will be all round-robin with a shootout of the top THREE or FOUR teams (to be determined by time/number of players within the event) for gold\, silver\, & bronze medals (for a non-pool event). Winning teams are determined by: \n1. Round-robin win/loss record\n2. If two teams tied\, head-to-head with those teams involved\n3. If three or more teams tied\, point differential of all games played. \nIf an event has 8 or more teams\, the event may be divided into two pools with the top two teams from each pool taking part within the shootout. \nThe top team from Pool 1 will play second team from Pool 2 and the top team from Pool 2 will play second team from Pool 1. The winning teams will play each other for gold/silver. Losing teams will play each other for bronze. \nBrackets may be combined or split as needed. \nPartner tip – If you are playing with a partner in a higher/lower skill or higher/lower age – please remember to register in the highest skill and lowest age. \nPickleball Is Great reserves the right to refuse service and refund any player at anytime. \n\n\nRefund Policy\nWithdrawals before registration closes July 31\, 2024 will incur a $15 admin fee. \nAny refund after 7/31/24 will be at 50% \nWeather Refund policy is up to 50% \n\n\nVenue Information\n\n\n\nBattle Point Park\n11299 Arrow Point Dr NE\nBainbridge Island\nWashington 98110\nUnited States\nSurface Type: Pickleball Hardcourt Surface\nPlay Area Type: Outdoor Non-Covered\nNet Type: Portable\nBall Used: Franklin X40 – Yellow\nNumber of Courts: 12\nParking: No Fee\nNo overnight parking allowed\n\n\n\n\nDetails\n\n\n\nOfficiated Type→ Unique Per Event\n\n\n\n\nMax Events Per Registration→ 5\n\n\n\n\nCost Includes→ 0 Events\n\n\n\n\nGuaranteed Games Per Event→ 3\n\n\n\n\nAllow Pets→ Yes\n\n\n\n\nAllow Food→ Yes\n\n\n\n\nAllow Dish to Pass→ No\n\n\n\n\nAllow Grill→ No\n\n\n\n\n\nParking\nNo overnight parking allowed
URL:https://pickleballisgreat.com/tournament/2024-founders-tournament/
ATTACH;FMTTYPE=image/png:https://pickleballisgreat.com/wp-content/uploads/2024/04/c5c60518-7186-4040-a7eb-ea2939f33325_logo.png
END:VEVENT
END:VCALENDAR