BEGIN:VCALENDAR
VERSION:2.0
PRODID:-//Pickleball Is Great - ECPv6.15.18//NONSGML v1.0//EN
CALSCALE:GREGORIAN
METHOD:PUBLISH
X-WR-CALNAME:Pickleball Is Great
X-ORIGINAL-URL:https://pickleballisgreat.com
X-WR-CALDESC:Events for Pickleball Is Great
REFRESH-INTERVAL;VALUE=DURATION:PT1H
X-Robots-Tag:noindex
X-PUBLISHED-TTL:PT1H
BEGIN:VTIMEZONE
TZID:UTC
BEGIN:STANDARD
TZOFFSETFROM:+0000
TZOFFSETTO:+0000
TZNAME:UTC
DTSTART:20230101T000000
END:STANDARD
END:VTIMEZONE
BEGIN:VEVENT
DTSTART;VALUE=DATE:20240815
DTEND;VALUE=DATE:20240820
DTSTAMP:20260422T080603
CREATED:20240421T001213Z
LAST-MODIFIED:20240421T001259Z
UID:10000075-1723680000-1724111999@pickleballisgreat.com
SUMMARY:2024 Oregon Senior Games a USSP Circuit Event by PIG
DESCRIPTION:Description\nAug 15-19 – this will be a USSP event this year. No membership required\, but if you are a current USSP member\, make sure your membership number is in your pickleballbrackets.com profile to receive $10 off at registration. You MUST have your membership number in your profile before you register to get the $10 off! \nRegister: https://pickleballbrackets.com/ptd.aspx?eid=efe299e1-d0ef-4213-8f77-339617515ed2 \nThis is a qualifying year for the Senior Games. All 1st\, 2nd\, 3rd and 4th place winners in each age/skill division at the 2024 Oregon Senior Games will qualify for the 2025 National Senior Games. \nFun Round Robin format WITH playoffs for Gold/Silver/Bronze for Recreational (2.5 to 3.5) and Advanced (4.0 to 5.0) events for players 50 and above. Age events each 5 years within the two skill events (recreational and advanced). TD may combine age brackets as needed to ensure quality play. \nEarly registration $45 + $15/event (through May 31)\nBeginning June 1\, registration will increase to $60 + $15/event \nPlayers will self-rate and cannot play lower than their USA Pickleball Tournament Player Rating (UTPR). Players may only play up in skill .5 from their profile rating. Tournament Director reserves the right to correct underrated players. \nUsing the Franklin X-40 ball \n\n\nAdditional Information\nThursday – Women’s Doubles\nFriday – Men’s Doubles\nSaturday – Mixed Doubles (Recreational 2.5-3.5)\nSunday – Mixed Doubles (Advanced 4.0+)\nMonday – Men’s & Women’s Singles (full court) \nOutdoor Age/Skill tournament on tennis surface.\nAge/Skill – age groups as primary determinate within skill events (recreational or advanced) \nFormat:\nALL Round Robin with playoffs for Gold/Silver/Bronze. All games/matches are win by 2\nMost Round Robins are 1 to 15 but may change based on the number of players in the event. If an event has 7 or 8 teams\, round-robin matches will be 1 to 11 by 2.\nTop 4 teams go to the playoff (Lead in matches are 1 to 15 with the Gold Match with the option of 2/3-11w/2 or 1 to 15. Bronze Match 1 to 15.\nTD may combine brackets as needed to ensure quality play.\nTournament may close at any time if maximum daily numbers are met (even if some events appear to have openings) \nDUPR scores NOT reported. \nPickleball Is Great reserves the right to refuse service at anytime. \n\n\nRefund Policy\n$10 Admin fee minimum for all withdrawals. No refunds after July 10th \nIf any event is cancelled due to weather\, there will be up to a 50% refund \n\n\nVenue Information\n\n\n\nLinn Benton Community College\n6500 Pacific Blvd SW\nAlbany\nOregon 97321\nUnited States\nSurface Type: Tennis Hardcourt Surface\nPlay Area Type: Outdoor Non-Covered\nNet Type: Portable\nBall Used: Franklin X-40\nNumber of Courts: 12\nParking: No Fee\n\n\n\n\nDetails\n\n\n\nOfficiated Type→ None\n\n\n\n\nMax Events Per Registration→ 3\n\n\n\n\nCost Includes→ 0 Events\n\n\n\n\nGuaranteed Games Per Event→ 3\n\n\n\n\nAllow Pets→ Yes\n\n\n\n\nAllow Food→ Yes\n\n\n\n\nAllow Dish to Pass→ No\n\n\n\n\nAllow Grill→ No
URL:https://pickleballisgreat.com/tournament/4256/
ATTACH;FMTTYPE=image/jpeg:https://pickleballisgreat.com/wp-content/uploads/2024/04/efe299e1-d0ef-4213-8f77-339617515ed2_logo.jpg
END:VEVENT
BEGIN:VEVENT
DTSTART;VALUE=DATE:20240816
DTEND;VALUE=DATE:20240819
DTSTAMP:20260422T080603
CREATED:20240510T033918Z
LAST-MODIFIED:20240602T200420Z
UID:10000099-1723766400-1724025599@pickleballisgreat.com
SUMMARY:2024 Spokane Summer Open @ Power Pickleball Club by PIG
DESCRIPTION:Description\n5/7/24 – ** Dates for this tournament have been moved to Aug 16-18 ** We apologize for any inconvenience \nRegister: https://pickleballbrackets.com/ptd.aspx?eid=c4bd1065-be15-4f34-94b1-10c6b179eeab \nRound Robin format (skill/age) WITH playoffs for Gold/Silver/Bronze for skills 3.0-4.5+. Age brackets will be determined following the close of registration\, but will strive to be close to under 50\, 50-59\, & 60+ events. TD may combine brackets as needed to ensure quality play. \nPlayers will self rate and can not play lower than their USA Pickleball Tournament Player Rating (UTPR). Players may only play up in skill .5 from their profile rating. Tournament Director reserves the right to correct underrated players. \nBall – Selkirk Pro S1\nPickleball Is Great reserves the right to refuse service at anytime \n\n\nAdditional Information\nIndoor Skill/Age tournament on tennis surface \nPartner must register within 7 days or be moved to the waitlist \nPayment is required to register (payment is per person) – $45 early registration + $15/event through April 15th.\nBeginning April 16\, registration will be $60 + $15/event\nAfter deadline\, registration increases to $75 + $15/event\nDeadline – June 30th \n8/16/24 – Friday – Men’s Doubles\n8/17/24 – Saturday – Mixed Doubles\n8/18/24 – Sunday – Women’s Doubles \nFormat:\nALL Round Robin with playoffs for Gold/Silver/Bronze. All games/matches are win by 2\nMost Round Robins are 1 to 15 but may change based on the number of players in the event. If an event has 7 or 8 teams\, round-robin matches will be 1 to 11 by 2.\nTop 4 teams go to the playoff (Lead in matches are 1 to 15 with the Gold Match with the option of 2/3-11w/2 or 1 to 15. Bronze Match 1 to 15.\nTD may combine brackets as needed to ensure quality play. \nTD may combine brackets as needed to ensure quality play.\nReporting scores to DUPR will be the player’s responsibility. Scores not automatically reported. \n\n\nRefund Policy\n$10 Admin fee minimum for all withdrawals\nNo refunds after close of registration \nIf any event is cancelled due to weather there will be up to a 50% refund \n\n\nVenue Information\n\n\n\nPower Pickleball Club\n2818 N. Sullivan\nSpokane\nWashington 99202\nUnited States\nSurface Type: Tennis Hardcourt Surface\nPlay Area Type: Indoor & Outdoor\nNet Type: Permanent\nBall Used: Selkirk Pro S1\nNumber of Courts: 16\nParking: No Fee\n\nLocated just off I-90\, north of the Spokane River on Sullivan Road\, Power Pickleball Club is a simple trip from anywhere in Spokane and Kootenai County. With ample onsite parking and a variety of co-located services\, Power Pickleball Club is easy to get to and hard to leave! \nOur (11) indoor courts feature SportMaster cushioned hardcourts\, expert LSI sports lighting\, and top-of-the-line professional nets. To ensure play is safe and uninterrupted\, each court is larger than the USAPickleball minimum standard and is fully contained by permanent fencing and gates. \nOur (5) outdoor courts are also oversized\, individually fenced\, professionally lit and surfaced. We are also ecstatic to offer the community a championship-sized court that is large enough to host adaptive/wheelchair play. \n\n\n\n\n\nDetails\n\n\n\nOfficiated Type→ None\n\n\n\n\nMax Events Per Registration→ Unlimited\n\n\n\n\nCost Includes→ 0 Events\n\n\n\n\nGuaranteed Games Per Event→ 3\n\n\n\n\nAllow Pets→ No\n\n\n\n\nAllow Food→ No\n\n\n\n\nAllow Dish to Pass→ No\n\n\n\n\nAllow Grill→ No
URL:https://pickleballisgreat.com/tournament/2024-spokane-summer-open-power-pickleball-club-by-pig/
ATTACH;FMTTYPE=image/jpeg:https://pickleballisgreat.com/wp-content/uploads/2024/05/Spokane-Summer-Open-PIG-600x315-1.jpg
END:VEVENT
BEGIN:VEVENT
DTSTART;VALUE=DATE:20240816
DTEND;VALUE=DATE:20240819
DTSTAMP:20260422T080603
CREATED:20240510T034718Z
LAST-MODIFIED:20240510T034718Z
UID:10000100-1723766400-1724025599@pickleballisgreat.com
SUMMARY:2024 OHIO STATE CHAMPIONSHIP - UPSC BY PIG
DESCRIPTION:Description\n“United Pickleball State Championship” by the United Pickleball Association (UPA) \nRegister: https://pickleballbrackets.com/ptd.aspx?eid=5bdd72e2-ebd7-4b45-9616-c76f03d6dd17 \nWhich state has the best pickleball players? \nThe answer will be revealed soon enough\, courtesy of the inaugural United Pickleball State Championship (UPSC)\, a set of tournaments conducted across all 50 states in the country. The Gold Medalists from each of these tournaments will automatically secure invitations to the year-end United States Championship in Dallas\, TX\, and all event fees will be waived. \nCome the United States Championship\, a Champions Division will feature all the champions from each division nationwide battling against each other for pickleball supremacy. \nWhy Should I play in the State Championship Series? \nParticipating in the United Pickleball State Championship (UPSC) offers players a unique and thrilling opportunity to showcase their skills on a bigger stage\, contributing to the vibrant and growing pickleball community. The series\, spanning all 50 states\, provides an inclusive platform for players of varying ages and skill levels to engage in spirited competition while fostering camaraderie among enthusiasts across the nation. The chance to compete in the largest pickleball tournament in each state ensures a diverse and competitive field\, creating an environment that encourages players to push their limits and improve their game. \nMoreover\, the prospect of earning a coveted spot in the year-end United States Championship in Dallas\, TX adds an extra layer of excitement and motivation. With all event fees waived for medalists from each state\, the State Championship Series is not only a celebration of skill but also a rewarding experience for those who excel in their divisions. The Champions Division at the United States Championship brings together the best players from across the country\, offering a grand stage for the ultimate showdown and the quest for pickleball supremacy. Whether you’re a seasoned competitor or a newcomer to the sport\, the UPSC promises a memorable journey filled with competition\, sportsmanship\, and the chance to etch your name in the annals of pickleball history. \nChampions Division\nParticipants who secure skill-level gold at a state championship are eligible for a complimentary event fee to the United States Championship in Dallas\, TX. This exclusive offer recognizes and rewards excellence in the Champions Division and ensures the best possible competition. This United States Championship will take place from November 4th to the 9th.\nGold – 100% ( Free event Registration )\nSilver – 50% off\nBronze 33% off \nDivisions Offered\nWe are excited to offer a range of divisions to cater to players of varying age groups and skill levels: \nSkill Levels: 3.0\, 3.5\, 4.0\, 4.5\, 5.0\nAge Groups: 18U\, 19+\, 35+\, 50+\, 60+\, 70+\nPlaying Divisions: MD\, WD\, MXD\, MS\, WS \nRegistration Starts\nApril = Early Registration = $55 + event fees\nMay/June/July = Registration = $70 + event fees\nAugust 1st to 7th = Late Registration = $85 + event fees \nAll Doubles Events are $15 each\nAll Singles Events are $25 each \n\n\nAdditional Information\n8/16/24 Friday – Men’s Singles & Women’s Doubles\n8/17/24 Saturday Mixed Doubles\n8/18/24 Sunday Men’s Doubles & Women’s Singles \nPlayers will utilize “World Pickleball” rating (WPR) from their player profile – If there is no WPR\, then the “Pickleball Brackets” rating (PBR) is use. Lastly\, Self rating is used and the responsibility of the player to set at a skill that is NOT lower than their DUPR or UTPR \nFormat Details – “Round Robin with Playoffs” \n“Pool” play followed by playoffs of the top teams – usually the top 4 \nIf there are fewer than 3 teams/players will be moved into a combined bracket.\nDouble Round Robin 1 to 15 win by 2 for 3 teams\nGames: 1 to 15 win by 2 for brackets 4\, 5\, or 6 teams\nGames: 1 to 11 win by 2 for brackets with 6 or 7 teams\n8 or more teams will be split into pools with the top 2 teams go to a playoff round \nPickleball Is Great reserves the right to refuse service at anytime\nTournament Director may need to combine and adjust brackets as needed. \n\n\nRefund Policy\nCANCELLATION DEADLINE: 7/31/24\nIf you withdraw before the CANCELLATION DEADLINE above\, you will be issued a refund (with a $15 processing fee deducted). Refunds will be issued at the conclusion of the tournament. \n\n\nLinked\n\n\nBelow is a list of tournaments related to this one. Click on them to view details.\nUPA State Championship Series\n\n\n\n2024 ILLINOIS STATE CHAMPIONSHIP – UPASC BY PIG\nJune 21\, 2024\n\n\n\n\ngo to tourney \n\n\n\n\n2024 IOWA STATE CHAMPIONSHIP – UPASC BY PIG\nJune 21\, 2024\n\n\n\n\ngo to tourney \n\n\n\n\n2024 WYOMING STATE CHAMPIONSHIP – UPSC BY PIG\nJuly 12\, 2024\n\n\n\n\ngo to tourney \n\n\n\n\n2024 MONTANA STATE CHAMPIONSHIP – UPASC BY PIG\nJuly 19\, 2024\n\n\n\n\ngo to tourney \n\n\n\n\n2024 WISCONSIN STATE CHAMPIONSHIP – UPASC BY PIG\nAugust 9\, 2024\n\n\n\n\ngo to tourney \n\n\n\n\n2024 OHIO STATE CHAMPIONSHIP – UPSC BY PIG\nAugust 16\, 2024\n\n\n\n\ngo to tourney \n\n\n\n\n2024 OREGON STATE CHAMPIONSHIP – UPASC BY PIG\nAugust 23\, 2024\n\n\n\n\ngo to tourney \n\n\n\n\n2024 NEW MEXICO STATE CHAMPIONSHIP – UPSC BY PIG\nAugust 23\, 2024\n\n\n\n\ngo to tourney \n\n\n\n\n2024 LOUISIANA STATE CHAMPIONSHIP – UPSC BY PIG\nSeptember 6\, 2024\n\n\n\n\ngo to tourney \n\n\n\n\n2024 PENNSYLVANIA STATE CHAMPIONSHIP – UPSC BY PIG\nSeptember 13\, 2024\n\n\n\n\ngo to tourney \n\n\n  \n\n\nVenue Information\n\n\n\nPaddle Taps\n535 Lakeview Plaza Blvd\nWorthington\nOhio 43085\nUnited States\nSurface Type: Tennis Hardcourt Surface\nPlay Area Type: Indoor Air Conditioned\nNet Type: Permanent\nBall Used: Franklin X40\nNumber of Courts: 17\nParking: No Fee\n\n\n\n\nDetails\n\n\n\nOfficiated Type→ None\n\n\n\n\nMax Events Per Registration→ 3\n\n\n\n\nCost Includes→ 0 Events\n\n\n\n\nGuaranteed Games Per Event→ 3\n\n\n\n\nAllow Pets→ No\n\n\n\n\nAllow Food→ No\n\n\n\n\nAllow Dish to Pass→ No\n\n\n\n\nAllow Grill→ No
URL:https://pickleballisgreat.com/tournament/2024-ohio-state-championship-upsc-by-pig/
END:VEVENT
BEGIN:VEVENT
DTSTART;VALUE=DATE:20240816
DTEND;VALUE=DATE:20240819
DTSTAMP:20260422T080603
CREATED:20240510T043231Z
LAST-MODIFIED:20240616T142428Z
UID:10000102-1723766400-1724025599@pickleballisgreat.com
SUMMARY:2024 Trails End Challenge by PIG
DESCRIPTION:Description\nRound Robin format WITH playoffs for Gold/Silver/Bronze for skills 3.0-4.0+. Age brackets to be determined by registration but similar to (under 50\, 50-59\, & 60+). TD may combine brackets as needed to ensure quality play. \nRegister: https://pickleballbrackets.com/ptd.aspx?eid=f448c90e-d215-4ddc-9bec-445331a38279 \nPlayers will self rate and cannot play lower than their USA Pickleball Tournament Player Rating (UTPR). Players may only play up in skill .5 from their profile rating. Tournament Director reserves the right to correct underrated players. \nOutdoor Skill/Age tournament on tennis surface. If any event is cancelled due to weather there will be up to a 50% refund \nUsing the X-40 ball \n\n\nAdditional Information\nPayment is required to register – Early registration flat rate of $50 (includes up to 2 events) through June 15. Standard registration $60 begins June 16 \nPartner must register within 7 days or be moved to the waitlist\n(Age breaks based on registration\, but will strive to be close to under 50\, 50+\, 60+) \nFriday\, Aug 16 – Women’s Doubles\nSaturday\, Aug 17 – Mixed Doubles\nSunday\, Aug 18 – Men’s Doubles \nCurrent Hillendale Pickleball Club members to receive a special $10 discount code via email \nFormat:\nALL Round Robin with playoffs for Gold/Silver/Bronze. All games/matches are win by 2\nMost Round Robins are 1 to 15 but may change based on the number of players in the event. If an event has 7 or 8 teams\, round-robin matches will be 1 to 11 by 2.\nTop 4 teams go to the playoff (Lead in matches are 1 to 15 with the Gold Match with the option of 2/3-11w/2 or 1 to 15. Bronze Match 1 to 15. \nTD may combine brackets as needed to ensure quality play. \nPickleball Is Great reserves the right to refuse service at anytime. \n\n\nRefund Policy\n$10 Admin fee minimum for all withdrawals \nIf any event is cancelled due to weather\, there will be up to a 50% refund \nDeadline is 8/7/24 for any refund requests \n\n\nVenue Information\n\n\n\nHillendale Park\n19260 Clairmont Way\nOregon City\nOregon 97045\nUnited States\nSurface Type: Tennis Hardcourt Surface\nPlay Area Type: Outdoor Non-Covered\nNet Type: Portable\nBall Used: Franklin X40\nNumber of Courts: 8\nParking: No Fee\nno overnight parking\n\n\n\n\nDetails\n\n\n\nOfficiated Type→ None\n\n\n\n\nMax Events Per Registration→ 2\n\n\n\n\nCost Includes→ 2 Events\n\n\n\n\nGuaranteed Games Per Event→ 3\n\n\n\n\nAllow Pets→ Yes\n\n\n\n\nAllow Food→ Yes\n\n\n\n\nAllow Dish to Pass→ No\n\n\n\n\nAllow Grill→ No
URL:https://pickleballisgreat.com/tournament/2024-trails-end-challenge-by-pig/
ATTACH;FMTTYPE=image/jpeg:https://pickleballisgreat.com/wp-content/uploads/2024/05/f448c90e-d215-4ddc-9bec-445331a38279_logo.jpg
END:VEVENT
BEGIN:VEVENT
DTSTART;VALUE=DATE:20240817
DTEND;VALUE=DATE:20240819
DTSTAMP:20260422T080603
CREATED:20240421T001816Z
LAST-MODIFIED:20240421T001816Z
UID:10000076-1723852800-1724025599@pickleballisgreat.com
SUMMARY:2nd Annual Covington Summer Slam Pickleball by PIG
DESCRIPTION:Description\nFun Round Robin format WITH playoffs for Gold/Silver/Bronze for skills 3.0-4.5+. Final age brackets to be determined by registration but similar to (under 50\, 50-59\, & 60+). TD may combine brackets as needed to ensure quality play. \nRegister: https://pickleballbrackets.com/ptd.aspx?eid=14f9d93d-87dc-4039-bab4-e1939735c8a9 \nPlayers will self rate and cannot play lower than their USA Pickleball Tournament Player Rating (UTPR). Players may only play up in skill .5 from their profile rating. Tournament Director reserves the right to correct underrated players. \nUsing the X-40 ball \n\n\nAdditional Information\nSaturday – Mixed Doubles\nSunday – Men’s & Women’s Doubles \nOutdoor Skill/Age tournament on tennis surface. \nPayment is required to register (free unisex T-shirt included with registration)\nEarly registration – $50 + $15/event through May 31\nStandard registration – $60 + $15/event through July 31\nLate registration – $70 + $15/event begins Aug 1 \nScores will not be reported to DUPR\nPickleball Is Great reserves the right to refuse service at anytime. \n\n\nRefund Policy\n$10 Admin fee minimum for all withdrawals \nIf any event is cancelled due to weather\, there will be up to a 50% refund\nDeadline is 8/8/24 for any refund \n\n\nVenue Information\n\n\n\nKentwood High School tennis courts\n25800 164th Ave SE\nCovington\nWashington 98042\nUnited States\nSurface Type: Tennis Hardcourt Surface\nPlay Area Type: Outdoor Non-Covered\nNet Type: Portable\nBall Used: Franklin X-40\nNumber of Courts: 12\nParking: No Fee\n\n\n\n\nDetails\n\n\n\nOfficiated Type→ None\n\n\n\n\nMax Events Per Registration→ 2\n\n\n\n\nCost Includes→ 0 Events\n\n\n\n\nGuaranteed Games Per Event→ 3\n\n\n\n\nAllow Pets→ Yes\n\n\n\n\nAllow Food→ Yes\n\n\n\n\nAllow Dish to Pass→ No\n\n\n\n\nAllow Grill→ No
URL:https://pickleballisgreat.com/tournament/2nd-annual-covington-summer-slam-pickleball-by-pig/
ATTACH;FMTTYPE=image/jpeg:https://pickleballisgreat.com/wp-content/uploads/2024/04/14f9d93d-87dc-4039-bab4-e1939735c8a9_logo.jpg
END:VEVENT
END:VCALENDAR