BEGIN:VCALENDAR
VERSION:2.0
PRODID:-//Pickleball Is Great - ECPv6.15.18//NONSGML v1.0//EN
CALSCALE:GREGORIAN
METHOD:PUBLISH
X-ORIGINAL-URL:https://pickleballisgreat.com
X-WR-CALDESC:Events for Pickleball Is Great
REFRESH-INTERVAL;VALUE=DURATION:PT1H
X-Robots-Tag:noindex
X-PUBLISHED-TTL:PT1H
BEGIN:VTIMEZONE
TZID:UTC
BEGIN:STANDARD
TZOFFSETFROM:+0000
TZOFFSETTO:+0000
TZNAME:UTC
DTSTART:20230101T000000
END:STANDARD
END:VTIMEZONE
BEGIN:VEVENT
DTSTART;VALUE=DATE:20240823
DTEND;VALUE=DATE:20240826
DTSTAMP:20260422T080917
CREATED:20240421T002555Z
LAST-MODIFIED:20240421T002555Z
UID:10000077-1724371200-1724630399@pickleballisgreat.com
SUMMARY:2024 NEW MEXICO STATE CHAMPIONSHIP - UPSC BY PIG
DESCRIPTION:Description\n“United Pickleball State Championship” by the United Pickleball Association (UPA) \nRegister: https://pickleballbrackets.com/ptd.aspx?eid=83f1bdf8-95d2-4b51-a556-d8b1ae0618ff \nWhich state has the best pickleball players? \nThe answer will be revealed soon enough\, courtesy of the inaugural United Pickleball State Championship (UPSC)\, a set of tournaments conducted across all 50 states in the country. The Gold Medalists from each of these tournaments will automatically secure invitations to the year-end United States Championship in Dallas\, TX\, and all event fees will be waived. \nCome the United States Championship\, a Champions Division will feature all the champions from each division nationwide battling against each other for pickleball supremacy. \nWhy Should I play in the State Championship Series? \nParticipating in the United Pickleball State Championship (UPSC) offers players a unique and thrilling opportunity to showcase their skills on a bigger stage\, contributing to the vibrant and growing pickleball community. The series\, spanning all 50 states\, provides an inclusive platform for players of varying ages and skill levels to engage in spirited competition while fostering camaraderie among enthusiasts across the nation. The chance to compete in the largest pickleball tournament in each state ensures a diverse and competitive field\, creating an environment that encourages players to push their limits and improve their game. \nMoreover\, the prospect of earning a coveted spot in the year-end United States Championship in Dallas\, TX adds an extra layer of excitement and motivation. With all event fees waived for medalists from each state\, the State Championship Series is not only a celebration of skill but also a rewarding experience for those who excel in their divisions. The Champions Division at the United States Championship brings together the best players from across the country\, offering a grand stage for the ultimate showdown and the quest for pickleball supremacy. Whether you’re a seasoned competitor or a newcomer to the sport\, the UPSC promises a memorable journey filled with competition\, sportsmanship\, and the chance to etch your name in the annals of pickleball history. \nChampions Division\nParticipants who secure skill-level gold at a state championship are eligible for a complimentary event fee to the United States Championship in Dallas\, TX. This exclusive offer recognizes and rewards excellence in the Champions Division and ensures the best possible competition. This United States Championship will take place from November 4th to the 9th.\nGold – 100% ( Free event Registration )\nSilver – 50% off\nBronze 33% off \nDivisions Offered\nWe are excited to offer a range of divisions to cater to players of varying age groups and skill levels: \nSkill Levels: 3.0\, 3.5\, 4.0\, 4.5\, 5.0\nAge Groups: 18U\, 19+\, 35+\, 50+\, 60+\, 70+\nPlaying Divisions: MD\, WD\, MXD\, MS\, WS \nRegistration Starts\nMarch = Early Registration = $45 + event fees\nApril & May = Registration = $60 + event fees\nJune = Late Registration = $75 + event fees\nJuly = Very Late Registration = $90 + event fees \nAll Doubles Events are $20 each\nAll Singles Events are $35 each \n\n\nAdditional Information\nPlayers will utilize “World Pickleball” rating (WPR) from their player profile – If there is no WPR\, then the “Pickleball Brackets” rating (PBR) is use. Lastly\, Self rating is used and the responsibility of the player to set at a skill that is NOT lower than their DUPR or UTPR \nFormat Details – “Round Robin with Playoffs” \n“Pool” play followed by playoffs of the top teams – usually the top 4 \nIf there are fewer than 3 teams/players will be moved into a combined bracket.\nDouble Round Robin 1 to 15 win by 2 for 3 teams\nGames: 1 to 15 win by 2 for brackets 4\, 5\, or 6 teams\nGames: 1 to 11 win by 2 for brackets with 6 or 7 teams\n8 or more teams will be split into pools with the top 2 teams go to a playoff round \nPickleball Is Great reserves the right to refuse service at anytime\nTournament Director may need to combine and adjust brackets as needed. \n\n\nRefund Policy\nCANCELLATION DEADLINE: 8/15/24\nIf you withdraw before the CANCELLATION DEADLINE above\, you will be issued a refund (with a $15 processing fee deducted). Refunds will be issued at the conclusion of the tournament. \n\n\nLinked\n\nBelow is a list of tournaments related to this one. Click on them to view details.\nUPA State Championship Series\n\n\n\n2024 ILLINOIS STATE CHAMPIONSHIP – UPASC BY PIG\nJune 21\, 2024\n\n\n\n\n\n\n2024 IOWA STATE CHAMPIONSHIP – UPASC BY PIG\nJune 21\, 2024\n\n\n\n\n\n\n2024 WYOMING STATE CHAMPIONSHIP – UPSC BY PIG\nJuly 12\, 2024\n\n\n\n\n\n\n2024 MONTANA STATE CHAMPIONSHIP – UPASC BY PIG\nJuly 19\, 2024\n\n\n\n\n\n\n2024 WISCONSIN STATE CHAMPIONSHIP – UPASC BY PIG\nAugust 9\, 2024\n\n\n\n\n\n\n2024 OHIO STATE CHAMPIONSHIP – UPSC BY PIG\nAugust 16\, 2024\n\n\n\n\n\n\n\n2024 OREGON STATE CHAMPIONSHIP – UPASC BY PIG\nAugust 23\, 2024\n\n\n\n\n\n\n2024 NEW MEXICO STATE CHAMPIONSHIP – UPSC BY PIG\nAugust 23\, 2024\n\n\n\n\n\n\n2024 LOUISIANA STATE CHAMPIONSHIP – UPSC BY PIG\nSeptember 6\, 2024\n\n\n\n\n\n\n2024 PENNSYLVANIA STATE CHAMPIONSHIP – UPSC BY PIG\nSeptember 13\, 2024\n\n\n\n\n  \n\n\nVenue Information\n\n\n\nThe Oasis Facility @ Canyon Club\n911 4 Hills Rd SE\nAlbuquerque\nNew Mexico 87123\nUnited States\nSurface Type: Tennis Hardcourt Surface\nPlay Area Type: Outdoor Non-Covered\nNet Type: Permanent & Portable\nBall Used: Franklin X40\nNumber of Courts: 20\nParking: No Fee\n\n\n\n\nDetails\n\n\n\nOfficiated Type→ Unique Per Event\n\n\n\n\nMax Events Per Registration→ 3\n\n\n\n\nCost Includes→ 0 Events\n\n\n\n\nGuaranteed Games Per Event→ 3\n\n\n\n\nAllow Pets→ No\n\n\n\n\nAllow Food→ No\n\n\n\n\nAllow Dish to Pass→ No\n\n\n\n\nAllow Grill→ No
URL:https://pickleballisgreat.com/tournament/2024-new-mexico-state-championship-upsc-by-pig/
ATTACH;FMTTYPE=image/png:https://pickleballisgreat.com/wp-content/uploads/2024/04/83f1bdf8-95d2-4b51-a556-d8b1ae0618ff_logo.png
END:VEVENT
BEGIN:VEVENT
DTSTART;VALUE=DATE:20240823
DTEND;VALUE=DATE:20240826
DTSTAMP:20260422T080917
CREATED:20240421T003110Z
LAST-MODIFIED:20240626T184816Z
UID:10000078-1724371200-1724630399@pickleballisgreat.com
SUMMARY:2024 Mercer Island Rotary Pickleball Tournament by PIG
DESCRIPTION:Description\nThe Mercer Island Rotary Club ran a successful Half Marathon for 35+ years and following the pandemic\, we turned our attention to Pickleball and are excited to bring you the first Annual Mercer Island Rotary Club Pickleball Tournament. Rotarians are colleagues and friends connected by the strong desire of Service Above Self. We lead hands on service projects and fundraisers to support local organizations working on housing & food security and this Pickleball Tournament is a fundraiser and we thank you for your support. We lead and sponsor both local projects and projects around the world with both financial help and direct hands-on support. The real work of the club is done by volunteering with others with a shared passion to improve lives here and abroad. We look forward to seeing you on our new pickleball courts August 23-25\, 2024. \nRegister: https://pickleballbrackets.com/ptd.aspx?eid=4bf04a4b-4a28-4373-9413-8350136f7e35 \nRound Robin format (skill/age) WITH playoffs for Gold/Silver/Bronze for skills 3.0-4.5+. Age brackets will be determined following the close of registration\, but will strive to be close to under 50 & 50+ events. \nPlayers will self rate and can not play lower than their USA Pickleball Tournament Player Rating (UTPR)\nTournament Director reserves the right to correct underrated players. \nFriday – Women’s Doubles\nSaturday – Mixed Doubles\nSunday – Men’s Doubles \n\n\nAdditional Information\nPayment is required to register – Early registration $60 + $15/event through May 15. Standard registration $75 + $15/event through Aug 14. Registrations made after the deadline\, Aug 14th\, will be $90 + $15/event.\nPricing is per person \nFormat:\nALL Round Robin with playoffs for Gold/Silver/Bronze. All games/matches are win by 2\nMost Round Robins are 1 to 15 but may change based on the number of players in the event. If an event has 7 or 8 teams\, round-robin matches will be 1 to 11 by 2.\nTop 4 teams go to the playoff (Lead in matches are 1 to 15 with the Gold Match with the option of 2/3-11w/2 or 1 to 15. Bronze Match 1 to 15. \nTournament Director may combine brackets as needed to ensure quality play.\nTournament may close at any time if maximum daily numbers are met (even if some events appear to have openings) \nUsing the Franklin X-40 ball \nDUPR scores NOT reported. \nPickleball Is Great reserves the right to refuse service at anytime. \n\n\nRefund Policy\nAll refunds will have a $15 refund fee \nIf any event is cancelled due to weather there will be up to a 50% refund \n\n\nVenue Information\n\n\n\nLuther Burbank Park\n2040 84th Ave SE\nMercer Island\nWashington 98040\nUnited States\nSurface Type: Pickleball Hardcourt Surface\nPlay Area Type: Outdoor Non-Covered\nNet Type: Permanent\nBall Used: Franklin X-40\nNumber of Courts: 8\nParking: No Fee\n\n\n\n\nDetails\n\n\n\nOfficiated Type→ None\n\n\n\n\nMax Events Per Registration→ 2\n\n\n\n\nCost Includes→ 0 Events\n\n\n\n\nGuaranteed Games Per Event→ 3\n\n\n\n\nAllow Pets→ No\n\n\n\n\nAllow Food→ No\n\n\n\n\nAllow Dish to Pass→ No\n\n\n\n\nAllow Grill→ No
URL:https://pickleballisgreat.com/tournament/2024-mercer-island-rotary-pickleball-tournament-by-pig/
ATTACH;FMTTYPE=image/jpeg:https://pickleballisgreat.com/wp-content/uploads/2024/04/4bf04a4b-4a28-4373-9413-8350136f7e35_logo.jpg
END:VEVENT
BEGIN:VEVENT
DTSTART;VALUE=DATE:20240823
DTEND;VALUE=DATE:20240826
DTSTAMP:20260422T080917
CREATED:20240510T041711Z
LAST-MODIFIED:20240510T042008Z
UID:10000101-1724371200-1724630399@pickleballisgreat.com
SUMMARY:2024 OREGON STATE CHAMPIONSHIP - UPASC BY PIG
DESCRIPTION:Description\n“United Pickleball State Championship” by the United Pickleball Association (UPA) \nRegister: https://pickleballbrackets.com/ptd.aspx?eid=76607a58-357d-478a-8e56-13a5c4830ed0 \nWhich state has the best pickleball players? \nThe answer will be revealed soon enough\, courtesy of the inaugural United Pickleball State Championship (UPSC)\, a set of tournaments conducted across all 50 states in the country. The Gold Medalists from each of these tournaments will automatically secure invitations to the year-end United States Championship in Dallas\, TX\, and all event fees will be waived. \nCome the United States Championship\, a Champions Division will feature all the champions from each division nationwide battling against each other for pickleball supremacy. \nWhy Should I play in the State Championship Series? \nParticipating in the United Pickleball State Championship (UPSC) offers players a unique and thrilling opportunity to showcase their skills on a bigger stage\, contributing to the vibrant and growing pickleball community. The series\, spanning all 50 states\, provides an inclusive platform for players of varying ages and skill levels to engage in spirited competition while fostering camaraderie among enthusiasts across the nation. The chance to compete in the largest pickleball tournament in each state ensures a diverse and competitive field\, creating an environment that encourages players to push their limits and improve their game. \nMoreover\, the prospect of earning a coveted spot in the year-end United States Championship in Dallas\, TX adds an extra layer of excitement and motivation. With all event fees waived for medalists from each state\, the State Championship Series is not only a celebration of skill but also a rewarding experience for those who excel in their divisions. The Champions Division at the United States Championship brings together the best players from across the country\, offering a grand stage for the ultimate showdown and the quest for pickleball supremacy. Whether you’re a seasoned competitor or a newcomer to the sport\, the UPSC promises a memorable journey filled with competition\, sportsmanship\, and the chance to etch your name in the annals of pickleball history. \nChampions Division\nParticipants who secure skill-level gold at a state championship are eligible for a complimentary event fee to the United States Championship in Dallas\, TX. This exclusive offer recognizes and rewards excellence in the Champions Division and ensures the best possible competition. This United States Championship will take place from November 4th to the 9th.\nGold – 100% ( Free event Registration )\nSilver – 50% off\nBronze 33% off \nDivisions Offered\nWe are excited to offer a range of divisions to cater to players of varying age groups and skill levels: \nSkill Levels: 3.0\, 3.5\, 4.0\, 4.5\, 5.0\nAge Groups: 18U\, 19+\, 35+\, 50+\, 60+\, 70+\nPlaying Divisions: MD\, WD\, MXD\, MS\, WS \nRegistration Starts\nApril = Early Registration = $45 + event fees\nMay / June / July = Registration = $60 + event fees\nAugust 1st = Late Registration = $75 + event fees\nAugust 15th = Very Late Registration = $90 + event fees \nAll Doubles Events are $20 each\nAll Singles Events are $35 each \n\n\nAdditional Information\nPlayers will utilize “World Pickleball” rating (WPR) from their player profile – If there is no WPR\, then the “Pickleball Brackets” rating (PBR) is use. Lastly\, Self rating is used and the responsibility of the player to set at a skill that is NOT lower than their DUPR or UTPR \nFormat Details – “Round Robin with Playoffs” \n“Pool” play followed by playoffs of the top teams – usually the top 4 \nIf there are fewer than 3 teams/players will be moved into a combined bracket.\nDouble Round Robin 1 to 15 win by 2 for 3 teams\nGames: 1 to 15 win by 2 for brackets 4\, 5\, or 6 teams\nGames: 1 to 11 win by 2 for brackets with 6 or 7 teams\n8 or more teams will be split into pools with the top 2 teams go to a playoff round \nPickleball Is Great reserves the right to refuse service at anytime\nTournament Director may need to combine and adjust brackets as needed. \n\n\nRefund Policy\nCANCELLATION DEADLINE: 8/15/24\nIf you withdraw before the CANCELLATION DEADLINE above\, you will be issued a refund (with a $15 processing fee deducted). Refunds will be issued at the conclusion of the tournament. \n\n\nLinked\n\nBelow is a list of tournaments related to this one. Click on them to view details.\nUPA State Championship Series\n\n\n\n2024 ILLINOIS STATE CHAMPIONSHIP – UPASC BY PIG\nJune 21\, 2024\n\n\n\n\n\n\n\n2024 IOWA STATE CHAMPIONSHIP – UPASC BY PIG\nJune 21\, 2024\n\n\n\n\n\n\n\n2024 WYOMING STATE CHAMPIONSHIP – UPSC BY PIG\nJuly 12\, 2024\n\n\n\n\n\n\n\n2024 MONTANA STATE CHAMPIONSHIP – UPASC BY PIG\nJuly 19\, 2024\n\n\n\n\n\n\n\n2024 WISCONSIN STATE CHAMPIONSHIP – UPASC BY PIG\nAugust 9\, 2024\n\n\n\n\n\n\n\n2024 OHIO STATE CHAMPIONSHIP – UPSC BY PIG\nAugust 16\, 2024\n\n\n\n\n\n\n\n2024 OREGON STATE CHAMPIONSHIP – UPASC BY PIG\nAugust 23\, 2024\n\n\n\n\n\n\n\n2024 NEW MEXICO STATE CHAMPIONSHIP – UPSC BY PIG\nAugust 23\, 2024\n\n\n\n\n\n\n\n2024 LOUISIANA STATE CHAMPIONSHIP – UPSC BY PIG\nSeptember 6\, 2024\n\n\n\n\n\n\n\n2024 PENNSYLVANIA STATE CHAMPIONSHIP – UPSC BY PIG\nSeptember 13\, 2024\n\n\n\n\n\n  \n\n\nVenue Information\n\n\n\nTHE PREMIER PICKLEBALL CLUB\nTHE PPC\n2405 SW FIRST STREET\nREDMOND\nOregon 97556\nUnited States\nSurface Type: Tennis Hardcourt Surface\nPlay Area Type: Indoor Air Conditioned\nNet Type: Portable\nBall Used: Franklin X40\nNumber of Courts: 18\nParking: No Fee\nNo over night parking\n\n\n\n\nAmenities\n\n\n\nLodging\nSCP Redmond Hotel\nView Details\nMiles From Tourney: 1.90\n521 SW 6th St Ste 100\nRedmond\nOregon 97756\nUnited States\n\nNext-level wellness amenities\, field-to-fork dining\, proximity to natural landmarks\, and an emphasis on locally sourced goods – welcome to Soul Community Planet. \nAnd we are taking our sustainability efforts to the next level\, we are proudly now EarthCheck Bronze certified. \n\n\n\n\n\nDetails\n\n\n\nOfficiated Type→ Unique Per Event\n\n\n\n\nMax Events Per Registration→ 3\n\n\n\n\nCost Includes→ 0 Events\n\n\n\n\nGuaranteed Games Per Event→ 3\n\n\n\n\nAllow Pets→ No\n\n\n\n\nAllow Food→ No\n\n\n\n\nAllow Dish to Pass→ No\n\n\n\n\nAllow Grill→ No
URL:https://pickleballisgreat.com/tournament/2024-oregon-state-championship-upasc-by-pig/
ATTACH;FMTTYPE=image/png:https://pickleballisgreat.com/wp-content/uploads/2024/05/76607a58-357d-478a-8e56-13a5c4830ed0_logo.png
END:VEVENT
BEGIN:VEVENT
DTSTART;VALUE=DATE:20240823
DTEND;VALUE=DATE:20240826
DTSTAMP:20260422T080917
CREATED:20240615T201911Z
LAST-MODIFIED:20240615T201911Z
UID:10000115-1724371200-1724630399@pickleballisgreat.com
SUMMARY:2024 Idaho Senior Games Pickleball
DESCRIPTION:*****************We suggest all players register at IDAHO SENIOR GAMES website first*********************\nhttps://www.idahoseniorgames.org/\n!!!!!!!!!!!!!!!!!!!!!!!!!!!!!!!!!!!!!!!!!!!!!!!!!!!!!!!!!!!!!!!!!!!!!!!!!!!!!!!!!!!!!!!!!!!!!!!!!!!!!!!!!!!!!!!!!!!!!!!!!!!!!!!!!!!!!!!!!!!!!!!!!!!!!!!!!!!!!!!!!!!!!!!!!!!!!!!!!!!!!!!!!!!!!!!!!!!!!!!!!!!!!!!!!!!!!!!!!!!!!!!!!!!!!!!!!!!!!!!!!!!!!!!!!!!!!!!!!!!!!!!!!!!!!!!!!!!!!!!!!!!!!!!!!!!!!!!!!!!!!!!!!!!!!!!!!!!!!!!!!!!!!!!!!!!!!!!!!!!!!!!!!!!!!!!!!!!!!!!!!!!!!!!!!!!!!!!!!!!!!!!!!!!!!!!!!!!!!!!!!!!!!!!!!!!!!!!!!!!!!!!!!!!!!!!! \nThe Idaho Senior Games have been an important part of active seniors’ lives since 1989. Our games is a social\, recreational and competitive experience designed to encourage health and fitness among men and women over the age of 50\, at all fitness levels. \nThe Idaho Senior Games is an Associate Member of the National Senior Games Association (NSGA). Our athletes can qualify to participate in the National Senior Games event held every other year. The 2025 National Event is scheduled for Des Moines Iowa in July. \nOur organization is coordinated by a State Director\, a Board of Directors and a dedicated volunteer staff. Our goal is to put on the best State Games in the country! \nRegister: https://pickleballbrackets.com/ptd.aspx?eid=cb97f300-fd1a-4cc9-9e03-06266f4bf91b \n\n\nAdditional Information\nFriday August 23rd\, Men’s Singles & Women’s Doubles\nSaturday August 24th\, Mixed Doubles\nSunday August 25th\, Women’s Singles & Men’s Doubles \nThere are only 3 skill level\nAdvanced (4.0+)\nIntermediate (3.5)\nRecreational (3.0 and under) \n5 year age groups \nRound Robin Brackets (3 Minimum Teams) \n3 teams or players will play a double round robin\, 1 to 15\, win by 2.\n4 and 5 teams or players will play a single round robin\, 2 out of 3 to 11\, win by 2.\n6 and 7 teams or players are a single round robin 1 to 15 win by 2\n8 or more teams will be split into pools – the top 2 from each pool with have a playoff \nBrackets with Fewer than 3 teams\n1 or 2 teams or players will be moved into a combined bracket. The number of teams or players will determine the format of play. \nThe Round Robin results must be determined following the USA Pickleball Rulebook: \nRule12.C.3. Round Robin. \nAll players or teams play each other. Games may use any of the approved tournament scoring options. (See Rule 12.B.) \nThe winner is determined based on number of matches won. If two or more teams are tied: \n12.C.3.a. First tie-breaker: head-to-head matches won. \n12.C.3.b. Second tie-breaker: point differential of all games played. (e.g.\, Team A won Match 1 11-8\, 11-4\, so they would have a point differential of +10. Team A then wins the second match 11-9\, 2-11\, 11-6. For this round\, they would have a point differential of -2. This would give them a total for the day of +8.)\n12.C.3.c. Third tie-breaker: head-to-head point differential. \n12.C.3.d. Fourth tie-breaker: point differential against next-highest team. (e.g.\, If the teams are tied for second\, use point differentials against the first-place team.) \nIf there are “unbalanced pools”\, point differential may be used instead of head to head. \n\n\nRefund Policy\nNo Refunds after 8/20 \nIf a refund may be given for family or medical emergencies only. A $10.00 administrative fee will be charged for all refunds \n\n\nVenue Information\n\n\n\nThe Flying Pickle\n1135 N. Hickory\nBoise\nIdaho 83642\nUnited States\nSurface Type: Tennis Hardcourt Surface\nPlay Area Type: Indoor Air Conditioned\nNet Type: Portable\nBall Used: Franklin X-40\nNumber of Courts: 18\nParking: No Fee\nno overnight parking\n\n\n\n\nDetails\n\n\n\nOfficiated Type→ Unique Per Event\n\n\n\n\nMax Events Per Registration→ 3\n\n\n\n\nCost Includes→ 0 Events\n\n\n\n\nGuaranteed Games Per Event→ 3\n\n\n\n\nAllow Pets→ No\n\n\n\n\nAllow Food→ No\n\n\n\n\nAllow Dish to Pass→ No\n\n\n\n\nAllow Grill→ No
URL:https://pickleballisgreat.com/tournament/2024-idaho-senior-games-pickleball/
ATTACH;FMTTYPE=image/png:https://pickleballisgreat.com/wp-content/uploads/2024/06/cb97f300-fd1a-4cc9-9e03-06266f4bf91b_logo.png
END:VEVENT
BEGIN:VEVENT
DTSTART;VALUE=DATE:20240823
DTEND;VALUE=DATE:20240827
DTSTAMP:20260422T080917
CREATED:20240506T045711Z
LAST-MODIFIED:20240506T045711Z
UID:10000095-1724371200-1724716799@pickleballisgreat.com
SUMMARY:End of Summer Bash @ ETC
DESCRIPTION:Description\nRound Robin format (skill/age) WITH playoffs for Gold/Silver/Bronze for skills 3.0-5.0+. Age brackets will be determined following the close of registration\, but will strive to be close to under 50\, 50-59\, & 60+ events. \nRegister: https://pickleballbrackets.com/ptd.aspx?eid=438506f0-e160-49bf-8c1e-db82ab7dfec3 \nPlayers will self-rate and cannot play lower than their USA Pickleball Tournament Player Rating (UTPR). Players may only play up in skill .5 from their profile rating. Tournament Director reserves the right to correct underrated players. \nIndoor play on up to 16 temporary courts on a tennis surface \nUsing the Franklin X-40 ball\nPickleball Is Great reserves the right to refuse service at anytime \n\n\nAdditional Information\nFriday – Senior (50+/60+) Men’s & Women’s Doubles\nSaturday – Men’s & Women’s Doubles (under 50 events)\nSunday – Mixed Doubles\nMonday – Singles (full-court) \nIndoor Skill/Age tournament on tennis surface \nEarly Registration $60 + $15/event through May 15\nStandard Registration $65 + $15/event May 16 – July 31\nLate Registration $75 + $15/event beginning Aug 1 \n$15 per event fee. Payment is required to register – Prices will increase as we approach the event. \nFormat:\nALL Round Robin games/matches are win by 2.\nMost Round Robins are 1 to 15 but may change based on the number of players in the event. If an event has 7 or 8 teams\, round-robin matches will be 1 to 11 by 2.\nTop 4 teams go to the playoff (Lead in matches are 1 to 15 with the Gold Match with the option of 2 out of 3 to 11 or 1 to 15. Bronze Match 1 to 15. \nTD may combine brackets as needed to ensure quality play.\nTournament may close at any time if maximum daily numbers are met (even if some events appear to have openings) \nDUPR Results Submission – Results WILL NOT be submitted to DUPR. \n\n\nRefund Policy\n$10 Admin fee minimum for all withdrawals\nNo refunds after close of registration \nIf any event is cancelled due to unforeseen circumstances\, there will be up to a 50% refund \n\n\nVenue Information\n\n\n\nEastside Tennis Center\n10822 117th Pl NE\nKirkland\nWashington 98033\nUnited States\nSurface Type: Tennis Hardcourt Surface\nPlay Area Type: Indoor\nNet Type: Portable\nBall Used: Franklin X40\nNumber of Courts: 16\nParking: No Fee\n\n\n\n\nDetails\n\n\n\nOfficiated Type→ None\n\n\n\n\nMax Events Per Registration→ 4\n\n\n\n\nCost Includes→ 0 Events\n\n\n\n\nGuaranteed Games Per Event→ 3\n\n\n\n\nAllow Pets→ No\n\n\n\n\nAllow Food→ No\n\n\n\n\nAllow Dish to Pass→ No\n\n\n\n\nAllow Grill→ No
URL:https://pickleballisgreat.com/tournament/end-of-summer-bash-etc/
ATTACH;FMTTYPE=image/jpeg:https://pickleballisgreat.com/wp-content/uploads/2024/05/c3.jpg
END:VEVENT
END:VCALENDAR