BEGIN:VCALENDAR
VERSION:2.0
PRODID:-//Pickleball Is Great - ECPv6.15.18//NONSGML v1.0//EN
CALSCALE:GREGORIAN
METHOD:PUBLISH
X-ORIGINAL-URL:https://pickleballisgreat.com
X-WR-CALDESC:Events for Pickleball Is Great
REFRESH-INTERVAL;VALUE=DURATION:PT1H
X-Robots-Tag:noindex
X-PUBLISHED-TTL:PT1H
BEGIN:VTIMEZONE
TZID:UTC
BEGIN:STANDARD
TZOFFSETFROM:+0000
TZOFFSETTO:+0000
TZNAME:UTC
DTSTART:20230101T000000
END:STANDARD
END:VTIMEZONE
BEGIN:VEVENT
DTSTART;VALUE=DATE:20240905
DTEND;VALUE=DATE:20240909
DTSTAMP:20260422T080937
CREATED:20240409T074516Z
LAST-MODIFIED:20240607T033503Z
UID:10000058-1725494400-1725839999@pickleballisgreat.com
SUMMARY:2024 4th Annual North Idaho Shootout
DESCRIPTION:Description\nCheck out the new venue at PEAK in Post Falls\, featuring up to 16 dedicated\, individually fenced courts (8 indoor / 8 outdoor)!\nLots of player perks including free breakfast\, lunch\, and beer garden \nFun Round Robin format WITH playoffs for Gold/Silver/Bronze for skills 3.0-5.0+. TD may combine brackets as needed to ensure quality play. \nRegister: https://pickleballbrackets.com/ptd.aspx?eid=b2ab341a-6c81-40a7-afc1-0f0eaa207c01 \nPlayers will self rate and cannot play lower than their USA Pickleball Tournament Player Rating (UTPR). Tournament Director reserves the right to correct underrated players. \nNo Membership in any association is required for registration.\nThis tournament is US Senior Pickleball approved. \nUsing the Selkirk Competition ball \n\n\nAdditional Information\nUSSP SENIOR Doubles Days are Thursday and Friday; SENIOR mini-singles events will be Sunday. Format is Age/Skill (5-year breaks) – no membership is required\, but if you have your USSP membership number in your profile\, you will get a $10 Refund.\nInstructions for adding your membership number to your profile – https://www.usseniorpickleball.com/pb-ussp-training \nThursday (Age/Skill events) – SENIOR Men’s and Women’s Doubles (50+ events)\nFriday (Age/Skill events) – SENIOR Mixed Doubles (50+ events) / (Skill/Age) Men’s and Women’s FULL Singles (under 50 events)\nSaturday (Skill/Age events) – all ages MDs and WDs\nSunday (Skill/Age events) – all ages Mixed Doubles / SENIOR (Age/Skill events) Men’s & Women’s MINI Singles \nPricing increase as we approach the tournament\, so sign up early to capture the best pricing. Payment is required at registration. \n$55 + $15/event through June 30\nBeginning July 1\, pricing increases to $65 + $15/event \nIndoor tournament on tennis surface. \n\n\nRefund Policy\n$10 Admin fee minimum for all withdrawals \nIf any event is cancelled due to weather\, there will be up to a 50% refund\nDeadline is 8/28/24 for any refund \n\n\nVenue Information\n\n\n\nPEAK Health & Wellness Center\n4425 N Fennecus\nPost Falls\nIdaho 83854\nUnited States\nSurface Type: Tennis Hardcourt Surface\nPlay Area Type: Indoor & Outdoor\nNet Type: Permanent\nBall Used: Selkirk Competition\nNumber of Courts: 16\nParking: No Fee\n\n\n\n\nDetails\n\n\n\nOfficiated Type→ None\n\n\n\n\nMax Events Per Registration→ 4\n\n\n\n\nCost Includes→ 0 Events\n\n\n\n\nGuaranteed Games Per Event→ 3\n\n\n\n\nAllow Pets→ No\n\n\n\n\nAllow Food→ No\n\n\n\n\nAllow Dish to Pass→ No\n\n\n\n\nAllow Grill→ No
URL:https://pickleballisgreat.com/tournament/2024-4th-annual-north-idaho-shootout/
ATTACH;FMTTYPE=image/jpeg:https://pickleballisgreat.com/wp-content/uploads/2024/04/North-Idaho-Shootout-PIG-600x315-1.jpg
END:VEVENT
BEGIN:VEVENT
DTSTART;VALUE=DATE:20240906
DTEND;VALUE=DATE:20240909
DTSTAMP:20260422T080937
CREATED:20240502T040348Z
LAST-MODIFIED:20240502T040348Z
UID:10000082-1725580800-1725839999@pickleballisgreat.com
SUMMARY:2024 4th Annual Rogue Rotary Pickleball Fest by PIG
DESCRIPTION:Description\nSave the Date! (Sept 6-8)\nFun Round Robin format WITH playoffs for Gold/Silver/Bronze for skills 3.0-4.5+. TD may combine brackets as needed to ensure quality play. \nRegister: https://pickleballbrackets.com/ptd.aspx?eid=8fe873dc-9b36-4ac3-9006-acdd89c1be2f \nFree t-shirt if you register by Aug 15th \nFlat rate of $55 for early registration (through Jun 30) good for up to 2 events\nBeginning July 1\, flat rate registration will increase to $65\nAny registrations after the deadline (beginning Aug 29) will be $75 \nPlayers will self rate and cannot play lower than their USA Pickleball Tournament Player Rating (UTPR). Players may only play up in skill .5 from their profile rating. Tournament Director reserves the right to correct underrated players. \nUsing the Franklin X-40 ball \n\n\nAdditional Information\nFriday – Women’s Doubles\nSaturday – Mixed Doubles\nSunday – Men’s Doubles \nOutdoor Skill/Age tournament on tennis surface. \nFormat:\nALL Round Robin with playoffs for Gold/Silver/Bronze. All games/matches are win by 2\nMost Round Robins are 1 to 15 but may change based on the number of players in the event. If an event has 7 or 8 teams\, round-robin matches will be 1 to 11 by 2.\nTop 4 teams go to the playoff (Lead in matches are 1 to 15 with the Gold Match with the option of 2/3-11w/2 or 1 to 15. Bronze Match 1 to 15.\nTD may combine brackets as needed to ensure quality play. \nScores will not automatically be uploaded to DUPR. At this time it will be the player’s responsibility to report their own scores \n\n\nRefund Policy\n$10 Admin fee minimum for all withdrawals \nIf any event is cancelled due to weather\, there will be up to a 50% refund\nDeadline is 8/28/24 for any refund \n\n\nVenue Information\n\n\n\nFichtner-Mainwaring Park\n334 Holmes Ave\nMedford\nOregon 97501\nUnited States\nSurface Type: Tennis Hardcourt Surface\nPlay Area Type: Outdoor Non-Covered\nNet Type: Portable\nBall Used: Franklin X-40\nNumber of Courts: 15\nParking: No Fee\n\n\n\n\nDetails\n\n\n\nOfficiated Type→ None\n\n\n\n\nMax Events Per Registration→ 2\n\n\n\n\nCost Includes→ Unlimited Events\n\n\n\n\nGuaranteed Games Per Event→ 3\n\n\n\n\nAllow Pets→ Yes\n\n\n\n\nAllow Food→ Yes\n\n\n\n\nAllow Dish to Pass→ No\n\n\n\n\nAllow Grill→ No
URL:https://pickleballisgreat.com/tournament/2024-4th-annual-rogue-rotary-pickleball-fest-by-pig/
ATTACH;FMTTYPE=image/jpeg:https://pickleballisgreat.com/wp-content/uploads/2024/05/8fe873dc-9b36-4ac3-9006-acdd89c1be2f_logo.jpg
END:VEVENT
BEGIN:VEVENT
DTSTART;VALUE=DATE:20240906
DTEND;VALUE=DATE:20240909
DTSTAMP:20260422T080937
CREATED:20240502T040951Z
LAST-MODIFIED:20240502T041303Z
UID:10000083-1725580800-1725839999@pickleballisgreat.com
SUMMARY:2024 LOUISIANA STATE CHAMPIONSHIP - UPSC BY PIG
DESCRIPTION:Description\n“United Pickleball State Championship” by the United Pickleball Association (UPA) \nRegister: https://pickleballbrackets.com/ptd.aspx?eid=5d3bdbf7-845e-4ba4-a1fe-7b9723d189ef \nWhich state has the best pickleball players? \nThe answer will be revealed soon enough\, courtesy of the inaugural United Pickleball State Championship (UPSC)\, a set of tournaments conducted across all 50 states in the country. The Gold Medalists from each of these tournaments will automatically secure invitations to the year-end United States Championship in Dallas\, TX\, and all event fees will be waived. \nCome the United States Championship\, a Champions Division will feature all the champions from each division nationwide battling against each other for pickleball supremacy. \nWhy Should I play in the State Championship Series? \nParticipating in the United Pickleball State Championship (UPSC) offers players a unique and thrilling opportunity to showcase their skills on a bigger stage\, contributing to the vibrant and growing pickleball community. The series\, spanning all 50 states\, provides an inclusive platform for players of varying ages and skill levels to engage in spirited competition while fostering camaraderie among enthusiasts across the nation. The chance to compete in the largest pickleball tournament in each state ensures a diverse and competitive field\, creating an environment that encourages players to push their limits and improve their game. \nMoreover\, the prospect of earning a coveted spot in the year-end United States Championship in Dallas\, TX adds an extra layer of excitement and motivation. With all event fees waived for medalists from each state\, the State Championship Series is not only a celebration of skill but also a rewarding experience for those who excel in their divisions. The Champions Division at the United States Championship brings together the best players from across the country\, offering a grand stage for the ultimate showdown and the quest for pickleball supremacy. Whether you’re a seasoned competitor or a newcomer to the sport\, the UPSC promises a memorable journey filled with competition\, sportsmanship\, and the chance to etch your name in the annals of pickleball history. \nChampions Division\nParticipants who secure skill-level gold at a state championship are eligible for a complimentary event fee to the United States Championship in Dallas\, TX. This exclusive offer recognizes and rewards excellence in the Champions Division and ensures the best possible competition. This United States Championship will take place from November 4th to the 9th.\nGold – 100% ( Free event Registration )\nSilver – 50% off\nBronze 33% off \nDivisions Offered\nWe are excited to offer a range of divisions to cater to players of varying age groups and skill levels: \nSkill Levels: 3.0\, 3.5\, 4.0\, 4.5\, 5.0\nAge Groups: 18U\, 19+\, 35+\, 50+\, 60+\, 70+\nPlaying Divisions: MD\, WD\, MXD\, MS\, WS \nRegistration Starts\nApril = Early Registration = $45 + event fees\nMay / June/ July = Registration = $60 + event fees\nAugust = Late Registration = $75 + event fees\nSeptember = Very Late Registration = $90 + event fees \nAll Doubles Events are $20 each\nAll Singles Events are $35 each \n\n\nAdditional Information\nPlayers will utilize “World Pickleball” rating (WPR) from their player profile – If there is no WPR\, then the “Pickleball Brackets” rating (PBR) is use. Lastly\, Self rating is used and the responsibility of the player to set at a skill that is NOT lower than their DUPR or UTPR \nFormat Details – “Round Robin with Playoffs” \n“Pool” play followed by playoffs of the top teams – usually the top 4 \nIf there are fewer than 3 teams/players will be moved into a combined bracket.\nDouble Round Robin 1 to 15 win by 2 for 3 teams\nGames: 1 to 15 win by 2 for brackets 4\, 5\, or 6 teams\nGames: 1 to 11 win by 2 for brackets with 6 or 7 teams\n8 or more teams will be split into pools with the top 2 teams go to a playoff round \nPickleball Is Great reserves the right to refuse service at anytime\nTournament Director may need to combine and adjust brackets as needed. \n\n\nRefund Policy\nCANCELLATION DEADLINE: 8/31/24\nIf you withdraw before the CANCELLATION DEADLINE above\, you will be issued a refund (with a $15 processing fee deducted). Refunds will be issued at the conclusion of the tournament. \n\n\nLinked\n\nBelow is a list of tournaments related to this one. Click on them to view details.\nUPA State Championship Series\n\n\n\n2024 ILLINOIS STATE CHAMPIONSHIP – UPASC BY PIG\nJune 21\, 2024\n\n\n\n\n\n\n\n2024 IOWA STATE CHAMPIONSHIP – UPASC BY PIG\nJune 21\, 2024\n\n\n\n\n\n\n\n2024 WYOMING STATE CHAMPIONSHIP – UPSC BY PIG\nJuly 12\, 2024\n\n\n\n\n\n\n\n2024 MONTANA STATE CHAMPIONSHIP – UPASC BY PIG\nJuly 19\, 2024\n\n\n\n\n\n\n\n2024 WISCONSIN STATE CHAMPIONSHIP – UPASC BY PIG\nAugust 9\, 2024\n\n\n\n\n\n\n2024 OHIO STATE CHAMPIONSHIP – UPSC BY PIG\nAugust 16\, 2024\n\n\n\n\n\n\n2024 OREGON STATE CHAMPIONSHIP – UPASC BY PIG\nAugust 23\, 2024\n\n\n\n\n\n\n2024 NEW MEXICO STATE CHAMPIONSHIP – UPSC BY PIG\nAugust 23\, 2024\n\n\n\n\n\n\n2024 LOUISIANA STATE CHAMPIONSHIP – UPSC BY PIG\nSeptember 6\, 2024\n\n\n\n\n\n\n2024 PENNSYLVANIA STATE CHAMPIONSHIP – UPSC BY PIG\nSeptember 13\, 2024\n\n\n\n\n  \n\n\nVenue Information\n\n\n\nHilton New Orleans Riverside\n2 Poydras Street\nNew Orleans\nLouisiana 70130\nUnited States\nSurface Type: Tennis Hardcourt Surface\nPlay Area Type: Indoor Air Conditioned\nNet Type: Portable\nBall Used: Franklin X40\nNumber of Courts: 16\nParking: Paid Parking\n\n\n\n\nAmenities\n\n\n\nLodging\nHilton New Orleans Riverside\n2 Poydras Street\nNew Orleans\nLouisiana 70130\nUnited States\n\n\n\n\nDetails\n\n\n\nOfficiated Type→ Unique Per Event\n\n\n\n\nMax Events Per Registration→ 3\n\n\n\n\nCost Includes→ 0 Events\n\n\n\n\nGuaranteed Games Per Event→ 3\n\n\n\n\nAllow Pets→ No\n\n\n\n\nAllow Food→ No\n\n\n\n\nAllow Dish to Pass→ No\n\n\n\n\nAllow Grill→ No
URL:https://pickleballisgreat.com/tournament/2024-louisiana-state-championship-upsc-by-pig/
ATTACH;FMTTYPE=image/png:https://pickleballisgreat.com/wp-content/uploads/2024/05/5d3bdbf7-845e-4ba4-a1fe-7b9723d189ef_logo.png
END:VEVENT
END:VCALENDAR