BEGIN:VCALENDAR
VERSION:2.0
PRODID:-//Pickleball Is Great - ECPv6.15.18//NONSGML v1.0//EN
CALSCALE:GREGORIAN
METHOD:PUBLISH
X-ORIGINAL-URL:https://pickleballisgreat.com
X-WR-CALDESC:Events for Pickleball Is Great
REFRESH-INTERVAL;VALUE=DURATION:PT1H
X-Robots-Tag:noindex
X-PUBLISHED-TTL:PT1H
BEGIN:VTIMEZONE
TZID:UTC
BEGIN:STANDARD
TZOFFSETFROM:+0000
TZOFFSETTO:+0000
TZNAME:UTC
DTSTART:20230101T000000
END:STANDARD
END:VTIMEZONE
BEGIN:VEVENT
DTSTART;VALUE=DATE:20240919
DTEND;VALUE=DATE:20240923
DTSTAMP:20260422T081057
CREATED:20240502T042953Z
LAST-MODIFIED:20240502T042953Z
UID:10000085-1726704000-1727049599@pickleballisgreat.com
SUMMARY:2024 Blue Hole Bash - USSP & ALL AGES by PIG
DESCRIPTION:Description\nAll Round Robin with playoffs for Gold/Silver/Bronze Medals \nRegister: https://pickleballbrackets.com/ptd.aspx?eid=8d0f2936-ec75-4a23-85cb-4589c361073f \nUSSP Senior Days are Thursday and Friday. Format is Age/Skill (5 year breaks) – no membership is required\, but if you have your USSP membership number in your profile\, you will get a $10 Refund.\nInstructions for adding your membership number to your profile – https://www.usseniorpickleball.com/pb-ussp-training \nThursday (Age/Skill events) = SENIOR (50+) Mixed Doubles (50+\,55+\,60+\,65+\,70+\,75+\,80+)\nFriday (Age/Skill events) = SENIOR (50+) Men’s & Women’s Doubles (50+\,55+\,60+\,65+\,70+\,75+\,80+)\nSaturday (Skill/Age events) = 19+\,30+\,40+ Men’s & Women’s Doubles Mixed Doubles\nSunday (Skill/Age events) = 19+\,30+\,40+Mixed Doubles \nEarly registration $45 + $15/event through Jun 15\nRegistration $60 + $15/event through Sept 10\nLate registration $75 + $15 for registrations after the Sept 10 deadline \nNo Membership in any association is required for registration. \nThis tournament is US Senior Pickleball approved. \nTo join USSP\, go to USSeniorPickleball.com\, only $20 per year. Multi-year payment discounts available. \nUSSP members will receive a $10 rebate of the registration fee and are eligible for points and prizes. Go to the USSP website listed above for more information on the points system. \n\n\nAdditional Information\nALL ROUND ROBIN WITH PLAYOFFS OF THE TOP TEAMS \n**planned format\n4\, 5\, & 6 teams in Pool/Round Robin – games are 1 to 15 win by 2\n7 & 8 teams in Pool/Round Robin – games are 1 to 11 win by 2\nAll lead in games (to the playoffs) are 1 to 15 win by 2\nBronze Matches 1 to 15 win by 2\nGold Matches are the players choice of 2 out of 3 to 11 win by 2 OR 1 to 15 win by 2 \nScores will not automatically be reported to DUPR. \nPickleball Is Great reserves the right to refuse service at anytime \nThere is a daily player limit that may cause registration to stop with no notice for an event or the whole day. \n\n\nRefund Policy\nAll refunds have a $10 admin fee \nAll refund requests after 9/10/24 will be 50% at most \nWeather refund policy is up to 50% refund if your event is impacted by weather \n\n\nVenue Information\n\n\n\nCarrie Blake Park\n202 N Blake St\nSequim\nWashington 98382\nUnited States\nSurface Type: Tennis Hardcourt Surface\nPlay Area Type: Not Specified\nNet Type: Permanent\nBall Used: Franklin X40\nNumber of Courts: 8\nParking: No Fee\n\n\n\n\nDetails\n\n\n\nOfficiated Type→ Unique Per Event\n\n\n\n\nMax Events Per Registration→ 4\n\n\n\n\nCost Includes→ 0 Events\n\n\n\n\nGuaranteed Games Per Event→ 3\n\n\n\n\nAllow Pets→ No\n\n\n\n\nAllow Food→ No\n\n\n\n\nAllow Dish to Pass→ No\n\n\n\n\nAllow Grill→ No
URL:https://pickleballisgreat.com/tournament/2024-blue-hole-bash-ussp-all-ages-by-pig/
ATTACH;FMTTYPE=image/jpeg:https://pickleballisgreat.com/wp-content/uploads/2024/05/8d0f2936-ec75-4a23-85cb-4589c361073f_logo.jpg
END:VEVENT
BEGIN:VEVENT
DTSTART;VALUE=DATE:20240920
DTEND;VALUE=DATE:20240923
DTSTAMP:20260422T081057
CREATED:20240409T075152Z
LAST-MODIFIED:20240409T075152Z
UID:10000059-1726790400-1727049599@pickleballisgreat.com
SUMMARY:2024 6th Annual Paddling For Childhood Cancer by PIG
DESCRIPTION:***Save the Date – Sept 20-22*** More info coming soon! \nRound Robin format WITH playoffs for Gold/Silver/Bronze for skills 3.0-4.5+. Proceeds go toward helping families battling childhood cancer. Check us out – https://www.paddlingforchildhoodcancer.com/ \nRegister: https://pickleballbrackets.com/ptd.aspx?eid=7d9f7511-a2da-4865-b747-42b678176c68 \nPlayers will self rate and can not play lower than their USA Pickleball Tournament Player Rating (UTPR). Players may only play up in skill .5 from their profile rating. Tournament Director reserves the right to correct underrated players. \nUsing the X-40 ball \n\n\nAdditional Information\nPayment is required to register\nDeadline – Sept 11 \nTD may combine brackets as needed to ensure quality play. \n\n\nRefund Policy\n$10 Admin fee minimum for all withdrawals\nNo refunds after close of registration \nIf any event is cancelled due to weather there will be up to a 50% refund \n\n\nVenue Information\n\n\n\nHenley High School\n8345 Hwy 39\nKlamath Falls\nOregon 97603\nUnited States\nSurface Type: Tennis Hardcourt Surface\nPlay Area Type: Outdoor Non-Covered\nNet Type: Portable\nBall Used: Franklin X-40\nNumber of Courts: 8\nParking: No Fee\n\n\n\n\nDetails\n\n\n\nOfficiated Type→ None\n\n\n\n\nMax Events Per Registration→ 2\n\n\n\n\nCost Includes→ Unlimited Events\n\n\n\n\nGuaranteed Games Per Event→ 3\n\n\n\n\nAllow Pets→ No\n\n\n\n\nAllow Food→ No\n\n\n\n\nAllow Dish to Pass→ No\n\n\n\n\nAllow Grill→ No
URL:https://pickleballisgreat.com/tournament/2024-6th-annual-paddling-for-childhood-cancer-by-pig/
ATTACH;FMTTYPE=image/jpeg:https://pickleballisgreat.com/wp-content/uploads/2024/04/7d9f7511-a2da-4865-b747-42b678176c68_logo.jpg
END:VEVENT
BEGIN:VEVENT
DTSTART;VALUE=DATE:20240920
DTEND;VALUE=DATE:20240923
DTSTAMP:20260422T081057
CREATED:20240502T043422Z
LAST-MODIFIED:20240502T043422Z
UID:10000086-1726790400-1727049599@pickleballisgreat.com
SUMMARY:2nd Annual Sun Valley Pickleball Classic by PIG
DESCRIPTION:Description\nSave the Date for the 2nd Annual Sun Valley Classic! Sept 20-22 \nRegister: https://pickleballbrackets.com/ptd.aspx?eid=ab9eb516-1a65-4383-a1da-36b7accbd712 \nRound Robin format WITH playoffs for Gold/Silver/Bronze for skills 3.0-4.5+. Final age brackets will be determined following the close of registration. \nPlayers will self rate and can not play lower than their USA Pickleball Tournament Player Rating (UTPR). Tournament Director reserves the right to correct underrated players. \nOutdoor Skill/Age tournament on tennis surface\nDUPR scores are not reported \nUsing the Franklin X-40 ball \n\n\nAdditional Information\nEach player is responsible to register and pay –\nRegistration – $75 (includes 1st event) / $25 for 2nd event through Aug 31.\nBeginning Sept 1\, registration will be $85 (includes 1st event) / $25 for each additional event.\nDeadline – Sept 11 \nOptional hat for purchase $15 \nThursday evening – drop-in play and social event\nFriday – Women’s Doubles / Men’s Singles (full court) / Gender-Neutral Doubles social event\nSaturday – Mixed Doubles\nSunday – Men’s Doubles / Women’s Singles (full court) \nSocial gender-neutral doubles event for first time tournament players on Friday\, Sept 20. Check out the tournament through the eyes of this fun\, social event geared for skill level 3.0 and under. You may NOT also enter the WD/MD or singles events if you choose to play in this gender-neutral doubles event. You may only choose to add the Saturday mixed event. \nFormat:\nALL Round Robin games/matches are win by 2.\nMost Round Robins are 1 to 15 but may change based on the number of players in the event. If an event has 7 or 8 teams\, round-robin matches will be 1 to 11 by 2.\nTop 4 teams go to the playoff (1st & 2nd seeds to play Gold Match. 3rd & 4th seeds to play Bronze Match. \nTD may combine brackets as needed to ensure quality play.\nTournament may close at any time if maximum daily numbers are met (even if some events appear to have openings) \nPickleball Is Great reserves the right to refuse service at anytime. \n\n\nRefund Policy\n$10 Admin fee minimum for all withdrawals\nNo refunds after close of registration \nIf any event is cancelled due to weather there will be up to a 50% refund \n\n\nVenue Information\n\n\n\nSun Valley Resort\n1 Sun Valley Rd\nSun Valley\nIdaho 83353\nUnited States\nSurface Type: Tennis Hardcourt Surface\nPlay Area Type: Outdoor Non-Covered\nNet Type: Portable\nBall Used: Franklin X-40\nNumber of Courts: 10\nParking: No Fee\n\n\n\n\nDetails\n\n\n\nOfficiated Type→ None\n\n\n\n\nMax Events Per Registration→ 3\n\n\n\n\nCost Includes→ 1 Events\n\n\n\n\nGuaranteed Games Per Event→ 3\n\n\n\n\nAllow Pets→ No\n\n\n\n\nAllow Food→ No\n\n\n\n\nAllow Dish to Pass→ No\n\n\n\n\nAllow Grill→ No
URL:https://pickleballisgreat.com/tournament/2nd-annual-sun-valley-pickleball-classic-by-pig/
END:VEVENT
BEGIN:VEVENT
DTSTART;VALUE=DATE:20240920
DTEND;VALUE=DATE:20240923
DTSTAMP:20260422T081057
CREATED:20240511T003808Z
LAST-MODIFIED:20240511T003808Z
UID:10000107-1726790400-1727049599@pickleballisgreat.com
SUMMARY:2024 ARKANSAS STATE CHAMPIONSHIP - UPASC BY PIG
DESCRIPTION:Description\n“United Pickleball State Championship” \nRegister: https://pickleballbrackets.com/ptd.aspx?eid=e6f52d25-f80c-43f7-aeb2-cae5c366499c \nWhich state has the best pickleball players? \nThe answer will be revealed soon enough\, courtesy of the inaugural United Pickleball State Championship (UPSC)\, a set of tournaments conducted across all 50 states in the country. The Gold Medalists from each of these tournaments will automatically secure invitations to the year-end United States Championship in Dallas\, TX\, and all event fees will be waived. \nCome the United States Championship\, a Champions Division will feature all the champions from each division nationwide battling against each other for pickleball supremacy. \nWhy Should I play in the State Championship Series? \nParticipating in the United Pickleball State Championship (UPSC) offers players a unique and thrilling opportunity to showcase their skills on a bigger stage\, contributing to the vibrant and growing pickleball community. The series\, spanning all 50 states\, provides an inclusive platform for players of varying ages and skill levels to engage in spirited competition while fostering camaraderie among enthusiasts across the nation. The chance to compete in the largest pickleball tournament in each state ensures a diverse and competitive field\, creating an environment that encourages players to push their limits and improve their game. \nMoreover\, the prospect of earning a coveted spot in the year-end United States Championship in Dallas\, TX adds an extra layer of excitement and motivation. With all event fees waived for medalists from each state\, the State Championship Series is not only a celebration of skill but also a rewarding experience for those who excel in their divisions. The Champions Division at the United States Championship brings together the best players from across the country\, offering a grand stage for the ultimate showdown and the quest for pickleball supremacy. Whether you’re a seasoned competitor or a newcomer to the sport\, the UPSC promises a memorable journey filled with competition\, sportsmanship\, and the chance to etch your name in the annals of pickleball history. \nChampions Division\nParticipants who secure skill-level gold at a state championship are eligible for a complimentary event fee to the United States Championship in Dallas\, TX. This exclusive offer recognizes and rewards excellence in the Champions Division and ensures the best possible competition. This United States Championship will take place from November 4th to the 9th. \nDivisions Offered\nWe are excited to offer a range of divisions to cater to players of varying age groups and skill levels: \n9/20/24 – Friday – Women’s Doubles + Men’s Singles\n9/21/24 – Saturday – Mixed Doubles\n9/22/24 – Sunday – Men’s Doubles + Women’s Singles \nSkill Levels: 3.0\, 3.5\, 4.0\, 4.5\, 5.0\nAge Groups: 18U\, 19+\, 35+\, 50+\, 60+\, 70+\nPlaying Divisions: MD\, WD\, MXD\, MS\, WS \nRegistration Starts\nMAY = Early Registration = $55 + event fees\nJune & July = Registration = $65 + event fees\nAugust = Late Registration = $75 + event fees\nSeptember = Very Late Registration = $90 + event fees \nAll Doubles Events are $15 each\nAll Singles Events are $30 each \n\n\nAdditional Information\nPlayers will utilize “World Pickleball” rating (WPR) from their player profile – If there is no WPR\, then the “Pickleball Brackets” rating (PBR) is use. Lastly\, Self rating is used and the responsibility of the player to set at a skill that is NOT lower than their DUPR or UTPR \nFormat Details – “Round Robin with Playoffs” \n“Pool” play followed by playoffs of the top teams – usually the top 4 \nIf there are fewer than 3 teams/players will be moved into a combined bracket.\nDouble Round Robin 1 to 15 win by 2 for 3 teams\nGames: 1 to 15 win by 2 for brackets 4\, 5\, or 6 teams\nGames: 1 to 11 win by 2 for brackets with 6 or 7 teams\n8 or more teams will be split into pools with the top 2 teams go to a playoff round \nPickleball Is Great reserves the right to refuse service at anytime\nTournament Director may need to combine and adjust brackets as needed. \n\n\nRefund Policy\nCANCELLATION DEADLINE: 8/31/24\nIf you withdraw before the CANCELLATION DEADLINE above\, you will be issued a refund (with a $15 processing fee deducted). Refunds will be issued at the conclusion of the tournament. \n\n\nVenue Information\n\n\n\nHot Springs Village Pickleball Courts\n209 DeSoto Blvd\nHot Springs Village\nArkansas 71909\nUnited States\nSurface Type: Tennis Hardcourt Surface\nPlay Area Type: Outdoor Non-Covered\nNet Type: Permanent\nBall Used: Franklin X40\nNumber of Courts: 14\nParking: No Fee\n\n\n\n\nDetails\n\n\n\nOfficiated Type→ Unique Per Event\n\n\n\n\nMax Events Per Registration→ 3\n\n\n\n\nCost Includes→ 0 Events\n\n\n\n\nGuaranteed Games Per Event→ 3\n\n\n\n\nAllow Pets→ No\n\n\n\n\nAllow Food→ No\n\n\n\n\nAllow Dish to Pass→ No\n\n\n\n\nAllow Grill→ No
URL:https://pickleballisgreat.com/tournament/2024-arkansas-state-championship-upasc-by-pig/
ATTACH;FMTTYPE=image/png:https://pickleballisgreat.com/wp-content/uploads/2024/05/e6f52d25-f80c-43f7-aeb2-cae5c366499c_logo.png
END:VEVENT
END:VCALENDAR