BEGIN:VCALENDAR
VERSION:2.0
PRODID:-//Pickleball Is Great - ECPv6.15.18//NONSGML v1.0//EN
CALSCALE:GREGORIAN
METHOD:PUBLISH
X-ORIGINAL-URL:https://pickleballisgreat.com
X-WR-CALDESC:Events for Pickleball Is Great
REFRESH-INTERVAL;VALUE=DURATION:PT1H
X-Robots-Tag:noindex
X-PUBLISHED-TTL:PT1H
BEGIN:VTIMEZONE
TZID:UTC
BEGIN:STANDARD
TZOFFSETFROM:+0000
TZOFFSETTO:+0000
TZNAME:UTC
DTSTART:20230101T000000
END:STANDARD
END:VTIMEZONE
BEGIN:VEVENT
DTSTART;VALUE=DATE:20240927
DTEND;VALUE=DATE:20240930
DTSTAMP:20260422T080942
CREATED:20240502T041933Z
LAST-MODIFIED:20240615T203644Z
UID:10000084-1727395200-1727654399@pickleballisgreat.com
SUMMARY:McCall Splash - Fall 2024 by PIG
DESCRIPTION:Description\nThis is the third annual McCall Splash at Payette Lake Tournament! \nWe are thrilled to announce that nine new outdoor pickleball courts will be ready to use for our upcoming tournament! Thank you to everyone who has played in one of our past tournaments and/or contributed to the Valley County Pickleball Courts project. This tournament will be the first of many events planned for our new facility. \nThis fundraiser tournament is hosted by Valley County Pickleball Club (VCPC)\, which manages the day-to-day court operations. VCPC is a nonprofit organization and\, therefore\, all net proceeds from this tournament will be used to manage and maintain the new pickleball facility. \nRegister: https://pickleballbrackets.com/ptd.aspx?eid=80402c85-12be-401d-97a8-2f78f682cebe \nAll Round Robin with playoffs for Gold/Silver/Bronze Medals \n9/13/24 – Women’s 3.0\, 3.5 and 4.0 Doubles\n9/14/24 – Mixed 3.0\, 3.5 and 4.0 plus 4.5 men’s/mixed/women’s Doubles…open/all ages\n9/15/24 – Men’s 3.0\, 3.5 and 4.0 Doubles \n***************************************************************\nVERY IMPORTANT – PLAYER RATINGS: \nThis tournament does NOT use UTPR ratings for registration\, but rather the skill level players put in their Pickleballbrackets.com profile. If you have a different UTPR rating for mixed and gender doubles\, please be sure to indicate your LOWEST rating in your PickleballTournaments.com player skill profile. Remember you can always play UP in skill. \nWe ask that all players respect the integrity of the game and of each event by entering at their most accurate skill level. \nNo membership in any association is required for registration. \nMINIMUM PAY FOR ALL REFEREES IS $10 PER MATCH – must register online \n\n\nAdditional Information\nREGISTRATION & FEES \nEntry fee and one event\, plus $15 if second event \nRegistration Opens: March 31st \nEarly Registration: March 31-May 31 = $45\, plus $15 if second event \nRegistration: June 1 – August 18 = $60\, plus $15 if second event \nLate Registration: Aug 19 – Sept 4 = $75 plus $15 if second event \nRegistration Closes: Wednesday\, September 4th \n3 games guaranteed per event \nPlease note the players may report their own scores to DUPR\, but the organizers will not submit any data. \nPickleball Is Great reserves the right to refuse service at anytime \nThere is a daily player limit that may cause registration to stop with no notice for an event or the whole day. \n\n\nRefund Policy\n$10 withdraw fee for all \nNo refunds after cancellation date \nUp to 50% refund for weather related cancellations \n\n\nVenue Information\n\n\n\nValley County Pickleball Courts\n76 East Lakefork Road\nMcCall\nIdaho 83638\nUnited States\nSurface Type: Tennis Hardcourt Surface\nPlay Area Type: Outdoor Non-Covered\nNet Type: Permanent\nBall Used: Franklin X40 optic Yellow\nNumber of Courts: 9\nParking: No Fee\nOn-site parking available\n\n\n\n\nDetails\n\n\n\nOfficiated Type→ Unique Per Event\n\n\n\n\nMax Events Per Registration→ 3\n\n\n\n\nCost Includes→ 1 Events\n\n\n\n\nGuaranteed Games Per Event→ 3\n\n\n\n\nAllow Pets→ Yes\n\n\n\n\nAllow Food→ Yes\n\n\n\n\nAllow Dish to Pass→ No\n\n\n\n\nAllow Grill→ No
URL:https://pickleballisgreat.com/tournament/mccall-splash-fall-2024-by-pig/
ATTACH;FMTTYPE=image/png:https://pickleballisgreat.com/wp-content/uploads/2024/05/80402c85-12be-401d-97a8-2f78f682cebe_logo-1.png
END:VEVENT
BEGIN:VEVENT
DTSTART;VALUE=DATE:20240927
DTEND;VALUE=DATE:20240930
DTSTAMP:20260422T080942
CREATED:20240511T004230Z
LAST-MODIFIED:20240511T004230Z
UID:10000108-1727395200-1727654399@pickleballisgreat.com
SUMMARY:2024 OKLAHOMA STATE CHAMPIONSHIP - UPSC BY PIG
DESCRIPTION:Description\n“United Pickleball State Championship” by the United Pickleball Association (UPA) \nRegister: https://pickleballbrackets.com/ptd.aspx?eid=0eba345c-b1c8-47ad-af38-910d5623c81e \nWhich state has the best pickleball players? \nThe answer will be revealed soon enough\, courtesy of the inaugural United Pickleball State Championship (UPSC)\, a set of tournaments conducted across all 50 states in the country. The Gold Medalists from each of these tournaments will automatically secure invitations to the year-end United States Championship in Dallas\, TX\, and all event fees will be waived. \nCome the United States Championship\, a Champions Division will feature all the champions from each division nationwide battling against each other for pickleball supremacy. \nWhy Should I play in the State Championship Series? \nParticipating in the United Pickleball State Championship (UPSC) offers players a unique and thrilling opportunity to showcase their skills on a bigger stage\, contributing to the vibrant and growing pickleball community. The series\, spanning all 50 states\, provides an inclusive platform for players of varying ages and skill levels to engage in spirited competition while fostering camaraderie among enthusiasts across the nation. The chance to compete in the largest pickleball tournament in each state ensures a diverse and competitive field\, creating an environment that encourages players to push their limits and improve their game. \nMoreover\, the prospect of earning a coveted spot in the year-end United States Championship in Dallas\, TX adds an extra layer of excitement and motivation. With all event fees waived for medalists from each state\, the State Championship Series is not only a celebration of skill but also a rewarding experience for those who excel in their divisions. The Champions Division at the United States Championship brings together the best players from across the country\, offering a grand stage for the ultimate showdown and the quest for pickleball supremacy. Whether you’re a seasoned competitor or a newcomer to the sport\, the UPSC promises a memorable journey filled with competition\, sportsmanship\, and the chance to etch your name in the annals of pickleball history. \nChampions Division\nParticipants who secure skill-level gold at a state championship are eligible for a complimentary event fee to the United States Championship in Dallas\, TX. This exclusive offer recognizes and rewards excellence in the Champions Division and ensures the best possible competition. This United States Championship will take place from November 4th to the 9th.\nGold – 100% ( Free event Registration )\nSilver – 50% off\nBronze 33% off \nDivisions Offered\nWe are excited to offer a range of divisions to cater to players of varying age groups and skill levels: \nSkill Levels: 3.0\, 3.5\, 4.0\, 4.5\, 5.0\nAge Groups: 18U\, 19+\, 35+\, 50+\, 60+\, 70+\nPlaying Divisions: MD\, WD\, MXD\, MS\, WS \nRegistration Starts\nApril = Early Registration = $50 + event fees\nMay & June = Registration = $65 + event fees\nJuly = Late Registration = $80 + event fees\nAugust = Very Late Registration = $90 + event fees \nAll Doubles Events are $20 each\nAll Singles Events are $35 each \n\n\nAdditional Information\n9/27/24 Friday – Men’s Singles & Women’s Doubles\n9/28/24 Saturday Mixed Doubles\n9/29/24 Sunday Men’s Doubles & Women’s Singles \nPlayers will utilize “World Pickleball” rating (WPR) from their player profile – If there is no WPR\, then the “Pickleball Brackets” rating (PBR) is use. Lastly\, Self rating is used and the responsibility of the player to set at a skill that is NOT lower than their DUPR or UTPR \nFormat Details – “Round Robin with Playoffs” \n“Pool” play followed by playoffs of the top teams – usually the top 4 \nIf there are fewer than 3 teams/players will be moved into a combined bracket.\nDouble Round Robin 1 to 15 win by 2 for 3 teams\nGames: 1 to 15 win by 2 for brackets 4\, 5\, or 6 teams\nGames: 1 to 11 win by 2 for brackets with 6 or 7 teams\n8 or more teams will be split into pools with the top 2 teams go to a playoff round \nPickleball Is Great reserves the right to refuse service at anytime\nTournament Director may need to combine and adjust brackets as needed. \n\n\nRefund Policy\nCANCELLATION DEADLINE: 8/31/24\nIf you withdraw before the CANCELLATION DEADLINE above\, you will be issued a refund (with a $15 processing fee deducted). Refunds will be issued at the conclusion of the tournament. \n\n\nVenue Information\n\n\n\nLIFE TIME\n2563 West Memorial Rd\nOklahoma City\nOklahoma 73134\nUnited States\nSurface Type: Tennis Hardcourt Surface\nPlay Area Type: Indoor Air Conditioned\nNet Type: Permanent & Portable\nBall Used: Franklin X40\nNumber of Courts: 12\nParking: No Fee\nNo overnight parking\n\n\n\n\nDetails\n\n\n\nOfficiated Type→ None\n\n\n\n\nMax Events Per Registration→ 3\n\n\n\n\nCost Includes→ 0 Events\n\n\n\n\nGuaranteed Games Per Event→ 3\n\n\n\n\nAllow Pets→ No\n\n\n\n\nAllow Food→ No\n\n\n\n\nAllow Dish to Pass→ No\n\n\n\n\nAllow Grill→ No
URL:https://pickleballisgreat.com/tournament/2024-oklahoma-state-championship-upsc-by-pig/
ATTACH;FMTTYPE=image/png:https://pickleballisgreat.com/wp-content/uploads/2024/05/0eba345c-b1c8-47ad-af38-910d5623c81e_logo.png
END:VEVENT
END:VCALENDAR