BEGIN:VCALENDAR
VERSION:2.0
PRODID:-//Pickleball Is Great - ECPv6.15.18//NONSGML v1.0//EN
CALSCALE:GREGORIAN
METHOD:PUBLISH
X-ORIGINAL-URL:https://pickleballisgreat.com
X-WR-CALDESC:Events for Pickleball Is Great
REFRESH-INTERVAL;VALUE=DURATION:PT1H
X-Robots-Tag:noindex
X-PUBLISHED-TTL:PT1H
BEGIN:VTIMEZONE
TZID:UTC
BEGIN:STANDARD
TZOFFSETFROM:+0000
TZOFFSETTO:+0000
TZNAME:UTC
DTSTART:20230101T000000
END:STANDARD
END:VTIMEZONE
BEGIN:VEVENT
DTSTART;VALUE=DATE:20241004
DTEND;VALUE=DATE:20241007
DTSTAMP:20260422T054908
CREATED:20240502T043933Z
LAST-MODIFIED:20240502T043933Z
UID:10000087-1728000000-1728259199@pickleballisgreat.com
SUMMARY:11th Annual Pickle Barrel Classic by PIG
DESCRIPTION:Description\nSave the Date! (Oct 4-6) More info coming soon \nRound Robin format (skill/age) WITH playoffs for Gold/Silver/Bronze for skills 3.0-4.5+. Age brackets will be determined following the close of registration\, but will strive to be close to under 50\, 50-59\, & 60+ events. TD may combine brackets as needed to ensure quality play. \nRegister: https://pickleballbrackets.com/ptd.aspx?eid=eaa7ed17-cd13-492b-9233-6c5a9fe5dca6 \nPlayers will self rate and can not play lower than their USA Pickleball Tournament Player Rating (UTPR). Players may only play up in skill .5 from their profile rating. Tournament Director reserves the right to correct underrated players. \nBall – \nPickleball Is Great reserves the right to refuse service at anytime \n\n\nAdditional Information\nIndoor Skill/Age tournament on tennis surface\nPartner must register within 7 days or be moved to the waitlist \nPayment is required to register –\nDeadline – Sept 25th \nFriday – Women’s Doubles / Men’s Singles (full court)\nSaturday – Mixed Doubles\nSunday – Men’s Doubles / Women’s Singles (full court) \nFormat:\nALL Round Robin with playoffs for Gold/Silver/Bronze. All games/matches are win by 2\nMost Round Robins are 1 to 15 but may change based on the number of players in the event. If an event has 7 or 8 teams\, round-robin matches will be 1 to 11 by 2.\nTop 4 teams go to the playoff (Lead in matches are 1 to 15 with the Gold Match with the option of 2/3-11w/2 or 1 to 15. Bronze Match 1 to 15. \nTD may combine brackets as needed to ensure quality play. \n\n\nRefund Policy\n$10 Admin fee minimum for all withdrawals\nNo refunds after close of registration \nIf any event is cancelled due to unforeseen circumstances\, there will be up to a 50% refund \n\n\nVenue Information\n\n\n\nClub Green Meadows\n7703 NE 72nd Av\nVancouver\nWashington 98661\nUnited States\nSurface Type: Tennis Hardcourt Surface\nPlay Area Type: Indoor\nNet Type: Portable\nBall Used: Vega 40 by Neoslick\nNumber of Courts: 14\nParking: No Fee\n\n\n\n\nDetails\n\n\n\nOfficiated Type→ None\n\n\n\n\nMax Events Per Registration→ 3\n\n\n\n\nCost Includes→ 0 Events\n\n\n\n\nGuaranteed Games Per Event→ 3\n\n\n\n\nAllow Pets→ No\n\n\n\n\nAllow Food→ No\n\n\n\n\nAllow Dish to Pass→ No\n\n\n\n\nAllow Grill→ No
URL:https://pickleballisgreat.com/tournament/11th-annual-pickle-barrel-classic-by-pig/
ATTACH;FMTTYPE=image/jpeg:https://pickleballisgreat.com/wp-content/uploads/2024/05/eaa7ed17-cd13-492b-9233-6c5a9fe5dca6_logo.jpg
END:VEVENT
BEGIN:VEVENT
DTSTART;VALUE=DATE:20241004
DTEND;VALUE=DATE:20241007
DTSTAMP:20260422T054908
CREATED:20240502T045131Z
LAST-MODIFIED:20240712T035409Z
UID:10000088-1728000000-1728259199@pickleballisgreat.com
SUMMARY:2024 Wapato Point Resort Fall Pickleball Open by PIG
DESCRIPTION:Description\nRound-robin format with playoffs for Gold/Silver/Bronze Medals\nSkills events 3.0-4.5+ (Age brackets for skills events will be determined following the close of registration\, but will strive to be close to under 50\, 50+\, and even 60+ events as numbers allow.) \nRegister: https://pickleballbrackets.com/ptd.aspx?eid=c4d3656d-a0c2-4ed2-b47d-1bde9042f9f8 \nPlayers will self rate and can not play lower than their USA Pickleball Tournament Player Rating (UTPR). Players may only play up in skill .5 from their profile rating. Tournament Director reserves the right to correct underrated players. \nUsing the Selkirk Pro S1 ball \n\n\nAdditional Information\nEach player is responsible to register and pay –\nEarly registration – $45 + event fee through May 31.\nStandard registration – $60 + event fee through deadline Sept 25.\nAny registration after deadline will be $75 + event fee \nEvent fees:\nSingles events – $25\nDoubles events – $15 \nFriday – Women’s Doubles / Men’s Singles\nSaturday – Mixed Doubles\nSunday – Men’s Doubles / Women’s Singles \nFormat:\nALL Round Robin games/matches are win by 2.\nMost Round Robins are 1 to 15 but may change based on the number of players in the event. If an event has 7 or 8 teams\, round-robin matches will be 1 to 11 by 2.\nTop 4 teams go to the playoff (1st & 2nd seeds to play Gold Match. 3rd & 4th seeds to play Bronze Match. \nTD may combine brackets as needed to ensure quality play.\nTournament may close at any time if maximum daily numbers are met (even if some events appear to have openings) \nOutdoor Skill/Age tournament on tennis surface\nDUPR scores are not reported \nPickleball Is Great reserves the right to refuse service at anytime. \n\n\nRefund Policy\n$15 admin fee for all refunds \n50% Refunds after 9/25/24 \nWeather refunds are up to 50% refunded for any weather related issues. \n\n\nVenue Information\n\n\n\nWapato Point Resort\n1 Wapato Point Pkwy\nManson\nWashington 98831\nUnited States\nSurface Type: Tennis Hardcourt Surface\nPlay Area Type: Outdoor Non-Covered\nNet Type: Permanent & Portable\nBall Used: Selkirk Pro S1\nNumber of Courts: 12\nParking: No Fee\nNo overnight parking\n\n\n\n\nDetails\n\n\n\nOfficiated Type→ Unique Per Event\n\n\n\n\nMax Events Per Registration→ 3\n\n\n\n\nCost Includes→ 0 Events\n\n\n\n\nGuaranteed Games Per Event→ 3\n\n\n\n\nAllow Pets→ No\n\n\n\n\nAllow Food→ No\n\n\n\n\nAllow Dish to Pass→ No\n\n\n\n\nAllow Grill→ No
URL:https://pickleballisgreat.com/tournament/2024-wapato-point-resort-fall-pickleball-open-by-pig/
ATTACH;FMTTYPE=image/jpeg:https://pickleballisgreat.com/wp-content/uploads/2024/05/Wapato-Shake-Bake-PIG-600x315-1.jpg
END:VEVENT
END:VCALENDAR