BEGIN:VCALENDAR
VERSION:2.0
PRODID:-//Pickleball Is Great - ECPv6.15.18//NONSGML v1.0//EN
CALSCALE:GREGORIAN
METHOD:PUBLISH
X-WR-CALNAME:Pickleball Is Great
X-ORIGINAL-URL:https://pickleballisgreat.com
X-WR-CALDESC:Events for Pickleball Is Great
REFRESH-INTERVAL;VALUE=DURATION:PT1H
X-Robots-Tag:noindex
X-PUBLISHED-TTL:PT1H
BEGIN:VTIMEZONE
TZID:UTC
BEGIN:STANDARD
TZOFFSETFROM:+0000
TZOFFSETTO:+0000
TZNAME:UTC
DTSTART:20230101T000000
END:STANDARD
END:VTIMEZONE
BEGIN:VEVENT
DTSTART;VALUE=DATE:20241011
DTEND;VALUE=DATE:20241014
DTSTAMP:20260422T054744
CREATED:20240926T203210Z
LAST-MODIFIED:20240926T203210Z
UID:10000120-1728604800-1728863999@pickleballisgreat.com
SUMMARY:2024 Skagit Valley Harvest Tournament
DESCRIPTION:Description\nRegister: https://pickleballbrackets.com/ptd.aspx?eid=b6f6013b-7df6-4c99-956c-c4deb159b3f7 \n**Update 9/14/24 630am – All Events for Friday Women’s Doubles are now full – All new registrations will go to the waiting list to fill as there are openings after 10/1** Please notice the flexible age groups to improve games per player** \n**Update 9/2/24 630pm – All Events for Sunday Mens Doubles are now full – All new registrations will go to the waiting list to fill as there are openings after 10/1** Please notice the flexible age groups to improve games per player** \n**UPDATE 8/23/24 830AM – All Events for Saturday Mixed Doubles are now full – All new registrations will go to the waiting list to fill as there are openings after 10/1** Please notice the flexible age groups to improve games per player** \n#######new dates 10/11 to 10/13######## 08/07/24 830am \nThird Annual Harvest Fest @ The Blackburn Pavilion on the Skagit Valley College Campus. \n***important – ONLY 2 EVENTS PER PLAYER – this is because we are only using 10 courts*** \n**Please note registration may close suddenly once the daily attendance is hit – then all new registration will go to the waitlist** \nAll Round Robin with playoffs for Gold / Silver / Bronze Medals for the top 3 finishers \nFriday 10/11/24 – Women’s Doubles (49 and under\, 50-59\, 60-69\, 70+)\nSaturday 10/12/24 – Mixed Doubles (49 and under\, 50-59\, 60-69\, 70+)\nSunday 10/13/24 – Men’s Doubles (49 and under\, 50-59\, 60-69\, 70+) \nEarly Bird Registration starts 8/07/24 = $50 + event fees\nRegular Registration starts 8/21/24 = $65 + event fees\nLate Registration starts 10/01/24 = $80 + event fees \n$20 per event \nPayment Due at Registration – non refundable service fee from Pickleball Inc at check out…\n$5 per event up to $10 per player… \n\n\nAdditional Information\nAfter the first player registers their partner has the following time to register or they will be placed on the waiting list: 7Days \n“Our goal is to provide referees for all medal matches” – please sign up online to help make this happen \nCome enjoy the new Blackburn Pickleball Pavilion @ Skagit Valley College @ 2405 E. College Way\, Mount Vernon\, WA 98273 \n***** facility map to help you https://athletics.skagit.edu/documents/2023/4/21/SVC_Map_w_Blackburn_Pickleball_Pavillion__1_.pdf \n\n\nWeather\nWe are ready to go!! registration is open. \n\n\nRefund Policy\n$20 Administrative Fee for all refunds \nAfter 9/30 all refunds are 50% \nNo refunds after 10/7 \n\n\nVenue Information\n\n\n\nBlackburn Pavilion\n2405 E College Way\nMount Vernon\nWashington 98273\nUnited States\nSurface Type: Pickleball Hardcourt Surface\nPlay Area Type: Outdoor Covered\nNet Type: Permanent\nBall Used: Franklin X40\nNumber of Courts: 10\nParking: No Fee\n\n\n\n\nDetails\n\n\n\nOfficiated Type→ Unique Per Event\n\n\n\n\nMax Events Per Registration→ 3\n\n\n\n\nCost Includes→ 0 Events\n\n\n\n\nGuaranteed Games Per Event→ 3\n\n\n\n\nAllow Pets→ Yes\n\n\n\n\nAllow Food→ No\n\n\n\n\nAllow Dish to Pass→ No\n\n\n\n\nAllow Grill→ Yes
URL:https://pickleballisgreat.com/tournament/2024-skagit-valley-harvest-tournament/
ATTACH;FMTTYPE=image/png:https://pickleballisgreat.com/wp-content/uploads/2024/09/b6f6013b-7df6-4c99-956c-c4deb159b3f7_logo.png
END:VEVENT
END:VCALENDAR