BEGIN:VCALENDAR
VERSION:2.0
PRODID:-//Pickleball Is Great - ECPv6.15.18//NONSGML v1.0//EN
CALSCALE:GREGORIAN
METHOD:PUBLISH
X-WR-CALNAME:Pickleball Is Great
X-ORIGINAL-URL:https://pickleballisgreat.com
X-WR-CALDESC:Events for Pickleball Is Great
REFRESH-INTERVAL;VALUE=DURATION:PT1H
X-Robots-Tag:noindex
X-PUBLISHED-TTL:PT1H
BEGIN:VTIMEZONE
TZID:UTC
BEGIN:STANDARD
TZOFFSETFROM:+0000
TZOFFSETTO:+0000
TZNAME:UTC
DTSTART:20240101T000000
END:STANDARD
END:VTIMEZONE
BEGIN:VTIMEZONE
TZID:America/Phoenix
BEGIN:STANDARD
TZOFFSETFROM:-0700
TZOFFSETTO:-0700
TZNAME:MST
DTSTART:20240101T000000
END:STANDARD
END:VTIMEZONE
BEGIN:VEVENT
DTSTART;VALUE=DATE:20250206
DTEND;VALUE=DATE:20250209
DTSTAMP:20260422T005335
CREATED:20241106T034628Z
LAST-MODIFIED:20241106T034628Z
UID:10000140-1738800000-1739059199@pickleballisgreat.com
SUMMARY:La Paz\, Baja\, Mexico - Come to play a SENIOR tournament\, stay to experience La Paz
DESCRIPTION:Description\nWe are proud to host the first annual Seniors Pickleball Tournament. This SSIPA tournament is for ages 50 and up. We are located just outside beautiful La Paz in El Centenario\, Baja California Sur\, Mexico. \nRegister: https://pickleballbrackets.com/ptd.aspx?eid=1dd4eb3e-6377-4603-b5b7-72250cad6ab7 \nRegistration Closes: January 15\, 2025 – Some groups/categories may close prior\, when the tournament committee deems the event is full. \nTournament Dates:\nThursday\, February 6\, 2025 – Women’s Doubles / Men’s Singles\nFriday\, February 7\, 2025 – Mixed Doubles + Fiesta\nSaturday\, February 8\, 2025 – Men’s Doubles / Women’s Singles\nSunday\, February 9\, 2025 – Funday \nThe tournament director reserves the right to review\, and possibly alter the rating of players who self-rate below or above their actual rating. The tournament director reserves the right to merge or split brackets based on event registration. \nIn doubles events\, at least one of the partners must be at the correct skill level. (based on the player’s rating on the day of registration) \nFORMAT\n1. Round Robin format by skill level and age brackets. \n2. The first 5 teams to complete registration will be entered into the event. In some cases\, the event may be expanded when other categories are folded. Your fully registered team must be listed on the waitlist to be considered. eg. (4.0 women ages 60-64). If the Tournament Director decides to expand the group to 8 teams\, the first 3 teams on the wait list will be admitted to the event. \n3. Age/skill events with fewer than 3 teams will not run. In some cases\, the Tournament Director may combine events (with another age/skill event) to form a merged event. (eg. 3.5 men ages 50-59)\n4. If two events are merged due to a lack of registrations\, only ONE set of medals/awards will be awarded \nSKILL LEVELS\n3.0\, 3.5\, 4.0\, 4.5 & 5.0 \nNote: 2.5 players can play in 3.0 events. \nAGE CATEGORIES\n50-54\, 55-59\, 60-64\, 65-69\, 70-74\, 75+ \nQUESTIONS: Send an email to pickleballisgreat@gmail.com (always preferred over phone) \n\n\nAdditional Information\nFORMAT\nRound Robin format\, one game to 15\, win by 2\, no cap \nPools of 4 or 5 teams. If only one pool – the top 4 teams advance to the medal round \nPLAYOFFS FORMAT AFTER ROUND ROBINS\n#1 vs #2 for Gold/Silver\, best 2 out of 3 to 11\, win by 2\, no cap\n#3 vs #4 for Bronze\, one game to 15\, win by 2\, no cap \nIn the case when there are pools of 8\, 10 or 12\, the top 2 teams from each pool advance to the\nmedal round \nPreliminary playoff: POOL A2 vs POOL B1\, POOL B2 vs POOL A1 \nWinners of preliminary playoff matches play for Gold/Silver\, best 2 out of 3 to 11\, win by 2\, no cap \nLosers of preliminary playoff matches play for Bronze\, one game to 15\, win by 2\, no cap \n\n\nRefund Policy\nAll refunds will have a $15 administrative fee\nRegistrants withdrawing after December 31\, 2024 may only receive a 50% refund \n\n\nVenue Information\n\n\n\nSan Juan Club Deportivo\, El Centenario\, La Paz\, Baja\, Mexico\n13k west of La Paz on Hwy\nEl Centenario\, La Paz\nBaja California Sur 23205\nMexico\nSurface Type: Pickleball Hardcourt Surface\nPlay Area Type: Outdoor Non-Covered\nNet Type: Permanent & Portable\nBall Used: Franklin X-40\nNumber of Courts: 13\nParking: No Fee\n\n\n\n\nDetails\n\n\n\nOfficiated Type→ None\n\n\n\n\nMax Events Per Registration→ 4\n\n\n\n\nCost Includes→ 0 Events\n\n\n\n\nGuaranteed Games Per Event→ 3\n\n\n\n\nAllow Pets→ No\n\n\n\n\nAllow Food→ No\n\n\n\n\nAllow Dish to Pass→ No\n\n\n\n\nAllow Grill→ No
URL:https://pickleballisgreat.com/tournament/la-paz-baja-mexico-come-to-play-a-senior-tournament-stay-to-experience-la-paz/
ATTACH;FMTTYPE=image/png:https://pickleballisgreat.com/wp-content/uploads/2024/11/1dd4eb3e-6377-4603-b5b7-72250cad6ab7_logo.png
END:VEVENT
BEGIN:VEVENT
DTSTART;VALUE=DATE:20250206
DTEND;VALUE=DATE:20250209
DTSTAMP:20260422T005335
CREATED:20250123T013001Z
LAST-MODIFIED:20250123T013800Z
UID:10000148-1738800000-1739059199@pickleballisgreat.com
SUMMARY:2025 Winter Classic @GRP
DESCRIPTION:Tournament Description\n\n\n\nWelcome to the next Pickleball Is Great event at Gilbert Regional Park. 16 individually fenced courts\n\nAll skill and ages welcome\n\nRegister: https://pickleballtournaments.com/tournaments/2025-winter-classic-at-grp-all-ages-ussp-event-by-pig\n\n\nUSSP Senior events are a Age/Skill format (5 year breaks) – no membership is required\, but if you have your USSP membership number in your profile\, you will get a $10 rebate/discount.\n\nInstructions for adding your membership number to your profile – https://www.usseniorpickleball.com/pb-ussp-training\n\n2/6/25 Thursday – Women’s Doubles + Men’s Singles\n2/7/24 Friday – Mixed Doubles\n2/8/24 Saturday – Men’s Doubles + Women’s Singles\n\n\nVery Fun All Round Robin format WITH playoffs\n(non-sanctioned USA Pickleball)\n\nWe are using DUPR or your self rating\n\nTournament fees :\nEarly Registration ends 12/31/24 = $50 + EVENT FEES\nRegistration ends 1/31/25 = $65 + EVENT FEES\nLate Registration starts 2/1/25 = $80 + EVENT FEES\n\n***if you do not have a partner in 14 days\, you will move to the waitlist – when you find a partner\, we can move you back into the draw…\n\nDoubles events are $15 each\nSingles events are $25 each\n\nThe ball is FRANKLIN X-40\n\nPickleball Is Great reserves the right to refuse service\n\n\n\n\n\nAdditional Information\n\n\n\nALL ROUND ROBIN WITH PLAYOFFS OF THE TOP TEAMS\n\n**planned format\n4 & 5 & 6 teams in Pool/Round Robin – games are 1 to 15 win by 2\n7 & 8 & 9 teams in Pool/Round Robin – games are 1 to 11 win by 2\nAll lead in games (to the playoffs) are 1 to 15 win by 2\nBronze Matches 1 to 15 win by 2\nGold Matches are the players choice of 2 out of 3 to 11 win by 2 OR 1 to 15 win by 2\n\nUSSP Senior events format is Age/Skill (5 year breaks) – no membership is required\, but if you have your USSP membership number in your profile\, you will get a $10 rebate/discount\n\nThe “Under 50” Format is Skill/Age\n\n\n\n\n\n\n\nRefund Policy\nAll refunds will have a $15 fee before the end of registration Feb 1\, 2025\n\nAny refund after that will be 50% of the fees paid.\n\nIf any event is cancelled due to weather there will be up to a 50% refund\n\n\nPickleball Is Great reserves the right to refuse service at anytime\n\n\n\n\n\n\nVenue Details\n\n\n\n\n\nGilbert Regional Park\n\n\n3005 e queen creek rd\nGilbert\, Arizona\, 85298\nUnited States\n\n\n\nParking Information\nParking Fee: No Fee\nNo overnight parking\n\n\n\nAmenities\n\n\nSurface Type: Tennis Hardcourt Surface\n\n\nNumber of courts: 12\n\n\nBall used: Franklin x-40\n\n\nPlay area type: Outdoor Non-Covered\n\n\nNet type: Portable
URL:https://pickleballisgreat.com/tournament/2025-winter-classic-grp/
ATTACH;FMTTYPE=image/webp:https://pickleballisgreat.com/wp-content/uploads/2025/01/5b83c8e7-8cb7-4f66-9fbc-a16694049ed8_Logo.webp
END:VEVENT
END:VCALENDAR