BEGIN:VCALENDAR
VERSION:2.0
PRODID:-//Pickleball Is Great - ECPv6.15.18//NONSGML v1.0//EN
CALSCALE:GREGORIAN
METHOD:PUBLISH
X-WR-CALNAME:Pickleball Is Great
X-ORIGINAL-URL:https://pickleballisgreat.com
X-WR-CALDESC:Events for Pickleball Is Great
REFRESH-INTERVAL;VALUE=DURATION:PT1H
X-Robots-Tag:noindex
X-PUBLISHED-TTL:PT1H
BEGIN:VTIMEZONE
TZID:UTC
BEGIN:STANDARD
TZOFFSETFROM:+0000
TZOFFSETTO:+0000
TZNAME:UTC
DTSTART:20240101T000000
END:STANDARD
END:VTIMEZONE
BEGIN:VEVENT
DTSTART;VALUE=DATE:20250307
DTEND;VALUE=DATE:20250310
DTSTAMP:20260421T222246
CREATED:20241104T013142Z
LAST-MODIFIED:20241104T013142Z
UID:10000134-1741305600-1741564799@pickleballisgreat.com
SUMMARY:2025 March PNW PIG Chase by PIG
DESCRIPTION:Description\nRound Robin format (skill/age) WITH playoffs for Gold/Silver/Bronze for skills 3.0-4.5+. Age brackets will be determined following the close of registration\, but will strive to be close to under 50\, 50-59\, & 60+ events. \nPlayers will self-rate and cannot play lower than their Pickleball Brackets Rating (PBR). Players may only play up in skill .5 from their profile rating. Tournament Director reserves the right to correct underrated players. \nIndoor play on up to 11 temporary courts on a tennis surface \nUsing the Franklin X40 ball\nPickleball Is Great reserves the right to refuse service at anytime \n\n\nAdditional Information\nPayment is required to register – Early registration $45 + $15/event through Dec 31. Standard registration $60 + $15/event through Feb 26. After registration closes (beginning Feb 27)\, late registration will be $75 + $15/event. \nRegister: https://pickleballbrackets.com/ptd.aspx?eid=3a5b2961-e8dc-4f25-9096-fd0ccf2a6836 \nPartner must register within 7 days or be moved to the waitlist\n(Final age breaks based on registration\, but will strive to be close to under 50\, 50+\, 60+) \nFriday – Women’s Doubles – play to start at 12pm\nSaturday – Mixed Doubles\nSunday – Men’s Doubles \nFormat:\nALL Round Robin with playoffs for Gold/Silver/Bronze. All games/matches are win by 2\nMost Round Robins are 1 to 15 but may change based on the number of players in the event. If an event has 7 or 8 teams\, round-robin matches will be 1 to 11 by 2.\nTop 4 teams go to the playoff (Lead in matches are 1 to 15 with the Gold Match with the option of 2/3-11w/2 or 1 to 15. Bronze Match 1 to 15.\nTD may combine brackets as needed to ensure quality play.\nTournament may close at any time if maximum daily numbers are met (even if some events appear to have openings) \nIndoor Skill/Age tournament on tennis surface \n$15 per event fee. Payment is required to register – Prices will increase as we approach the event. \nPickleball Is Great reserves the right to refuse service at anytime. \n\n\nRefund Policy\n$10 Admin fee minimum for all withdrawals\nNo refunds after close of registration \nIf any event is cancelled due to weather there will be up to a 50% refund \n\n\nVenue Information\n\n\n\nBabette Horenstein Tennis Center\n15707 SW Walker\nBeaverton\nOregon 97006\nUnited States\nSurface Type: Tennis Hardcourt Surface\nPlay Area Type: Indoor & Outdoor\nNet Type: Portable\nBall Used: Frankline X40\nNumber of Courts: 11\nParking: No Fee\n\n\n\n\nDetails\n\n\n\nOfficiated Type→ None\n\n\n\n\nMax Events Per Registration→ 2\n\n\n\n\nCost Includes→ 0 Events\n\n\n\n\nGuaranteed Games Per Event→ 3\n\n\n\n\nAllow Pets→ No\n\n\n\n\nAllow Food→ No\n\n\n\n\nAllow Dish to Pass→ No\n\n\n\n\nAllow Grill→ No
URL:https://pickleballisgreat.com/tournament/2025-march-pnw-pig-chase-by-pig/
ATTACH;FMTTYPE=image/jpeg:https://pickleballisgreat.com/wp-content/uploads/2024/11/3a5b2961-e8dc-4f25-9096-fd0ccf2a6836_logo.jpg
END:VEVENT
BEGIN:VEVENT
DTSTART;VALUE=DATE:20250307
DTEND;VALUE=DATE:20250310
DTSTAMP:20260421T222246
CREATED:20250124T034034Z
LAST-MODIFIED:20250124T034034Z
UID:10000152-1741305600-1741564799@pickleballisgreat.com
SUMMARY:2025 ARIZONA Amateur Pickleball Championships powered by Carvana PPA Tour & PIG
DESCRIPTION:Tournament Description\n\n\n\n“Amateur Pickleball State Championship Series” powered by the Carvana PPA Tour!\n\nRegister: https://pickleballtournaments.com/tournaments/2025-arizona-amateur-pickleball-championships-powered-by-carvana-ppa-tour-and-pig\n\n\nWhich state has the best pickleball players in 2025?\n\nThe answer will be revealed soon with a set of tournaments conducted across all 50 states. Come to the World Championships where the Champions Division will feature all the medalists from each division nationwide battling against each other for pickleball supremacy.\n\nWhy should I play in the Amateur Pickleball State Championship Series?\n\nParticipating in the Amateur Pickleball State Championship Series powered by the Carvana PPA Tour offers players a unique and thrilling opportunity to showcase their skills on a bigger stage\, contributing to the vibrant and growing pickleball community.\n\nThe series\, spanning all 50 states\, provides an inclusive platform for players of varying ages and skill levels to engage in spirited competition while fostering camaraderie among enthusiasts across the nation.\n\nThe prospect of earning a coveted spot in the year-end World Championships in Dallas\, TX adds an extra layer of excitement and motivation. The Champions Division brings together the best players from across the world\, offering a grand stage for the ultimate showdown and the quest for pickleball supremacy.\n\nChampions Division\nParticipants who secure skill-level gold at a state championship are eligible for a complimentary registration fee to the 2025 Worlds Championship. This exclusive offer recognizes and rewards excellence in the Champions Division and ensures the best possible competition.\n\nGold: Free Registration\nSilver: 50% off Registration\nBronze: 25% Registration\n\nDivisions Offered\nWe are excited to offer a range of divisions to cater to players of varying age groups and skill levels:\n\nSkill Levels: 3.0\, 3.5\, 4.0\, 4.5\, 5.0\nAge Groups: 18U\, 19+\, 35+\, 50+\, 60+\, 70+\nPlaying Divisions: MD\, WD\, MXD\, MS\, WS\n\nRegistration Starts\nEarly Registration (Jan/ Feb 15) = $65 + event fees\nRegistration (Feb 16) = $80 + event fees\nLate Registration (March) = $95 + event fees\n\nAll Doubles Events are $20 each\nAll Singles Events are $35 each\n\n\n\n\n\nAdditional Information\n\n\n\nPlayers will utilize “DUPR” rating from their player profile\n\nFriday\, Mar 7 – Women’s Doubles / Men’s Singles\nSaturday\, Mar 8 – Mixed Doubles\nSunday\, Mar 9 – Men’s Doubles / Women’s Singles\n\nFormat:\nALL Round Robin with playoffs for Gold/Silver/Bronze. All games/matches are win by 2\n\nMost Round Robins are 1 to 15 but may change based on the number of players in the event. If an event has 7 or 8 teams\, round-robin matches may be 1 to 11 by 2.\nTop 4 teams go to the playoff (Lead in matches are 1 to 15 with the Gold Match with the option of 2/3-11w/2 or 1 to 15. Bronze Match 1 to 15.\n\nTD may combine brackets as needed to ensure quality play.\nTournament may close at any time if maximum daily numbers are met (even if some events appear to have openings)\n\n\n\n\n\nRefund Policy\n\n\n\nCANCELLATION DEADLINE: 2/26/25\nIf you withdraw before the CANCELLATION DEADLINE above\, you will be issued a refund (with a $20 processing fee deducted). Refunds will be issued at the conclusion of the tournament.\n\n\n\n\n\n\nVenue Details\n\n\n\n\n\nAZ Athletic Grounds\n\n\n6321 S Ellsworth Rd\nMesa\, Arizona\, 85212\nUnited States\n\n\n\nParking Information\nParking Fee: No Fee\nNO OVERNIGHT PARKING\n\n\n\nAmenities\n\n\nSurface Type: Tennis Hardcourt Surface\n\n\nNumber of courts: 41\n\n\nBall used: Franklin X40\n\n\nPlay area type: Outdoor Non-Covered\n\n\nNet type: Permanent\n\n\nBall website: Click here
URL:https://pickleballisgreat.com/tournament/2025-arizona-amateur-pickleball-championships-powered-by-carvana-ppa-tour-pig/
ATTACH;FMTTYPE=image/jpeg:https://pickleballisgreat.com/wp-content/uploads/2025/01/Pickleball-State-Championship-Series.jpg
END:VEVENT
END:VCALENDAR