BEGIN:VCALENDAR
VERSION:2.0
PRODID:-//Pickleball Is Great - ECPv6.15.18//NONSGML v1.0//EN
CALSCALE:GREGORIAN
METHOD:PUBLISH
X-WR-CALNAME:Pickleball Is Great
X-ORIGINAL-URL:https://pickleballisgreat.com
X-WR-CALDESC:Events for Pickleball Is Great
REFRESH-INTERVAL;VALUE=DURATION:PT1H
X-Robots-Tag:noindex
X-PUBLISHED-TTL:PT1H
BEGIN:VTIMEZONE
TZID:America/Phoenix
BEGIN:STANDARD
TZOFFSETFROM:-0700
TZOFFSETTO:-0700
TZNAME:MST
DTSTART:20240101T000000
END:STANDARD
END:VTIMEZONE
BEGIN:VTIMEZONE
TZID:UTC
BEGIN:STANDARD
TZOFFSETFROM:+0000
TZOFFSETTO:+0000
TZNAME:UTC
DTSTART:20240101T000000
END:STANDARD
END:VTIMEZONE
BEGIN:VEVENT
DTSTART;VALUE=DATE:20250313
DTEND;VALUE=DATE:20250316
DTSTAMP:20260421T222135
CREATED:20250202T041711Z
LAST-MODIFIED:20250307T171843Z
UID:10000165-1741824000-1742083199@pickleballisgreat.com
SUMMARY:**Cancelled** Drive the Ball for St. Vincent de Paul FUNdraiser Pickleball Tournament
DESCRIPTION:Tournament Description\n\n\n\nPickleball for a purpose\n\nThe Society of St. Vincent de Paul harnesses the power of community and partnerships to feed\, clothe\, house and heal individuals and families in our community who have nowhere else to turn for help. As important\, SVdP provides meaningful opportunities for volunteers to serve their neighbors in need with love and compassion\n\nRegister: https://pickleballtournaments.com/tournaments/drive-the-ball-for-st-vincent-de-paul-fundraiser-pickleball-tournament-1\n\nSkills – 3.0 to 5.0\nAges – all 10 year brackets\n\nThursday 3/13/25\nWOMEN’S DOUBLES\n\nFriday 3/14/25\nMixed DOUBLES\n\nSAURDAY 3/15/25\nMEN’S DOUBLES\n\n12/1/24 – 2/15/25 $60 early registration INCLUDES one event (second event$10)\n2/16/25 – 3/1/25 $15 dollar increase in registration fee\n\nRound Robin format (skill/age) WITH playoffs for Gold/Silver/Bronze. Age brackets will be determined following the close of registration\, but will strive to be 19+30+40+50+60+70+\n\nTD may combine brackets as needed to ensure quality play.\n\nPlayers will self rate and can not play lower than their DUPR). Players may only play up in skill 1.0 from their profile rating. Tournament Director reserves the right to correct underrated players.\n\nUsing the Franklin X-40 ball\n\nPickleball Is Great reserves the right to refuse service at anytime\n\n\n\n\n\nAdditional Information\n\n\n\nOutdoor Skill/Age tournament on tennis surface\n\nPartner must register within 7 days or be moved to the waitlist\n\nFormat:\nALL Round Robin with playoffs for Gold/Silver/Bronze. All games/matches are win by 2\nMost Round Robins are 1 to 15 but may change based on the number of players in the event. If an event has 7 or 8 teams\, round-robin matches will be 1 to 11 by 2.\nTop 4 teams go to the playoff (Lead in matches are 1 to 15 with the Gold Match with the option of 2/3-11w/2 or 1 to 15. Bronze Match 1 to 15.\n\nTD may combine brackets as needed to ensure quality play.\n\n\n\n\n\nRefund Policy\n\n\n\n$15 Admin Fee for any withdrawal\n\n\n\n\n\n\nVenue Details\n\n\n\n\n\nDave White Regional Park-Pickleball Courts\n\n\n2121 N Thornton Rd\nCasa Grande\, Arizona\, 85122\nUnited States\n\n\n\nParking Information\nParking Fee: No Fee\nNo overnight parking\n\n\n\nAmenities\n\n\nSurface Type: Synthetic / Acrylic\n\n\nNumber of courts: 12\n\n\nBall used: Franklin X-40\n\n\nPlay area type: Outdoor Non-Covered\n\n\nNet type: Portable\n\n\nBall website: Click here
URL:https://pickleballisgreat.com/tournament/drive-the-ball-for-st-vincent-de-paul-fundraiser-pickleball-tournament/
ATTACH;FMTTYPE=image/png:https://pickleballisgreat.com/wp-content/uploads/2024/11/fd196a10-1291-4a20-8ee6-a32d9cc4f0b2_logo.png
END:VEVENT
BEGIN:VEVENT
DTSTART;VALUE=DATE:20250314
DTEND;VALUE=DATE:20250317
DTSTAMP:20260421T222135
CREATED:20241107T002706Z
LAST-MODIFIED:20241107T002706Z
UID:10000142-1741910400-1742169599@pickleballisgreat.com
SUMMARY:2025 WSC Shamrock Shootout by PIG
DESCRIPTION:Description\nRound Robin format (skill/age) WITH playoffs for Gold/Silver/Bronze for skills 3.0-4.5+. Final age brackets will be determined following the close of registration\, but will strive to be close to under 50\, 50+ events. \nRegister: https://pickleballbrackets.com/ptd.aspx?eid=2bb85cff-8978-4a75-ab34-6a887afdc7e5 \nPlayers will self-rate and cannot play lower than their Pickleball Brackets Rating (PBR). Players may only play up in skill .5 from their profile rating. Tournament Director reserves the right to correct underrated players. \nIndoor Skill/Age tournament on up to 8 temporary pickleball courts \nUsing the Franklin X40 ball\nPickleball Is Great reserves the right to refuse service at anytime \n\n\nAdditional Information\nPayment is required to register – Early registration $65 + $15/event through Dec 31. Standard registration $80 + $15/event through March 5. After registration closes (beginning March 6)\, late registration will be $90 + $15/event. \nPartner must register within 7 days or be moved to the waitlist\n(Final age breaks based on registration\, but will strive to be close to under 50\, 50+) \nFriday – Women’s Doubles\nSaturday – Mixed Doubles\nSunday – Men’s Doubles \nFormat:\nALL Round Robin with playoffs for Gold/Silver/Bronze. All games/matches are win by 2\nMost Round Robins are 1 to 15 but may change based on the number of players in the event. If an event has 7 or 8 teams\, round-robin matches will be 1 to 11 by 2.\nTop 4 teams go to the playoff (Lead in matches are 1 to 15 with the Gold Match with the option of 2/3-11w/2 or 1 to 15. Bronze Match 1 to 15.\nTD may combine brackets as needed to ensure quality play.\nTournament may close at any time if maximum daily numbers are met (even if some events appear to have openings) \n\n\nRefund Policy\n$10 Admin fee minimum for all withdrawals\nNo refunds after close of registration \nIf any event is cancelled due to weather there will be up to a 50% refund \n\n\nVenue Information\n\n\n\nWoodinville Sports Club\n15327 140th Pl NE\nWoodinville\nWashington 98072\nUnited States\nSurface Type: Tennis Hardcourt Surface\nPlay Area Type: Indoor\nNet Type: Portable\nBall Used: Franklin X40\nNumber of Courts: 8\nParking: No Fee\nNo overnight parking\n\n\n\n\nDetails\n\n\n\nOfficiated Type→ None\n\n\n\n\nMax Events Per Registration→ 2\n\n\n\n\nCost Includes→ 0 Events\n\n\n\n\nGuaranteed Games Per Event→ 3\n\n\n\n\nAllow Pets→ No\n\n\n\n\nAllow Food→ No\n\n\n\n\nAllow Dish to Pass→ No\n\n\n\n\nAllow Grill→ No
URL:https://pickleballisgreat.com/tournament/2025-wsc-shamrock-shootout-by-pig/
ATTACH;FMTTYPE=image/png:https://pickleballisgreat.com/wp-content/uploads/2024/11/2bb85cff-8978-4a75-ab34-6a887afdc7e5_logo.png
END:VEVENT
BEGIN:VEVENT
DTSTART;VALUE=DATE:20250314
DTEND;VALUE=DATE:20250317
DTSTAMP:20260421T222135
CREATED:20241107T003113Z
LAST-MODIFIED:20241107T003113Z
UID:10000143-1741910400-1742169599@pickleballisgreat.com
SUMMARY:4th Annual St Patty's Day Duel by PIG
DESCRIPTION:Description\nRound Robin format (skill/age) WITH playoffs for Gold/Silver/Bronze for skills 3.0-5.0. Age brackets will be determined following the close of registration\, but will strive to be close to under 50\, 50-59\, & 60+ events. \nRegister: https://pickleballbrackets.com/ptd.aspx?eid=7063a099-9143-4782-8286-8df7af410450 \nPlayers will self rate and can not play lower than their Pickleball Brackets Rating (PBR)\nTournament Director reserves the right to correct underrated players. \nFriday – Women’s Doubles / Men’s Mini-Singles\nSaturday – Mixed Doubles\nSunday – Men’s Doubles / Women’s Mini-Singles \n\n\nAdditional Information\nPayment is required to register – Early registration $45 + $15/event through Dec 31 Standard registration $60 + $15/event through Mar 5. After registration closes (beginning Mar 7)\, late registration will be $75 + $15/event.\nPayment is per person and players are ultimately responsible to secure their own partner. \nFormat:\nALL Round Robin with playoffs for Gold/Silver/Bronze. All games/matches are win by 2\nMost Round Robins will be 1 to 15 but may change based on the number of players in the event. If an event has 7 or 8 teams\, round-robin matches will be 1 to 11 by 2.\nTop 4 teams go to the playoff (Lead in matches are 1 to 15 with the Gold Match with the option of 2/3-11w/2 or 1 to 15. Bronze Match 1 to 15.\nTD may combine brackets as needed to ensure quality play.\nTournament may close at any time if maximum daily numbers are met (even if some events appear to have openings) \nUsing the Franklin X-40 ball \n\n\nRefund Policy\n$10 Admin fee minimum for all withdrawals \nIf any event is cancelled due to weather there will be up to a 50% refund\nDeadline is 3/5/25 for refund \n\n\nVenue Information\n\n\n\nYakima Tennis Center\n2505 Fruitvale Blvd\nYakima\nWashington 98902\nUnited States\nSurface Type: Tennis & Concrete\nPlay Area Type: Indoor Air Conditioned\nNet Type: Portable\nBall Used: Franklin X40\nNumber of Courts: 10\nParking: No Fee\n\n\n\n\nDetails\n\n\n\nOfficiated Type→ None\n\n\n\n\nMax Events Per Registration→ 3\n\n\n\n\nCost Includes→ 0 Events\n\n\n\n\nGuaranteed Games Per Event→ 3\n\n\n\n\nAllow Pets→ No\n\n\n\n\nAllow Food→ No\n\n\n\n\nAllow Dish to Pass→ No\n\n\n\n\nAllow Grill→ No
URL:https://pickleballisgreat.com/tournament/4th-annual-st-pattys-day-duel-by-pig/
ATTACH;FMTTYPE=image/jpeg:https://pickleballisgreat.com/wp-content/uploads/2024/11/7063a099-9143-4782-8286-8df7af410450_logo.jpg
END:VEVENT
END:VCALENDAR