BEGIN:VCALENDAR
VERSION:2.0
PRODID:-//Pickleball Is Great - ECPv6.15.18//NONSGML v1.0//EN
CALSCALE:GREGORIAN
METHOD:PUBLISH
X-WR-CALNAME:Pickleball Is Great
X-ORIGINAL-URL:https://pickleballisgreat.com
X-WR-CALDESC:Events for Pickleball Is Great
REFRESH-INTERVAL;VALUE=DURATION:PT1H
X-Robots-Tag:noindex
X-PUBLISHED-TTL:PT1H
BEGIN:VTIMEZONE
TZID:America/Chicago
BEGIN:DAYLIGHT
TZOFFSETFROM:-0600
TZOFFSETTO:-0500
TZNAME:CDT
DTSTART:20240310T080000
END:DAYLIGHT
BEGIN:STANDARD
TZOFFSETFROM:-0500
TZOFFSETTO:-0600
TZNAME:CST
DTSTART:20241103T070000
END:STANDARD
BEGIN:DAYLIGHT
TZOFFSETFROM:-0600
TZOFFSETTO:-0500
TZNAME:CDT
DTSTART:20250309T080000
END:DAYLIGHT
BEGIN:STANDARD
TZOFFSETFROM:-0500
TZOFFSETTO:-0600
TZNAME:CST
DTSTART:20251102T070000
END:STANDARD
BEGIN:DAYLIGHT
TZOFFSETFROM:-0600
TZOFFSETTO:-0500
TZNAME:CDT
DTSTART:20260308T080000
END:DAYLIGHT
BEGIN:STANDARD
TZOFFSETFROM:-0500
TZOFFSETTO:-0600
TZNAME:CST
DTSTART:20261101T070000
END:STANDARD
END:VTIMEZONE
BEGIN:VEVENT
DTSTART;VALUE=DATE:20250321
DTEND;VALUE=DATE:20250324
DTSTAMP:20260421T222136
CREATED:20250203T024356Z
LAST-MODIFIED:20250203T024356Z
UID:10000166-1742515200-1742774399@pickleballisgreat.com
SUMMARY:Dinkers PIG Chase (Series 1) USSP & All Ages by PIG
DESCRIPTION:Tournament Description\n\n\n\nUSSP Circuit Event plus All Ages.\n\nNo membership in any association is required for registration.\n\nThis tournament is US Senior Pickleball approved.\nTo join USSP\, go to USSeniorpickleball.com\, only $20 per year. Multi-year payment discounts available.\n\n\nRegister: https://pickleballtournaments.com/tournaments/dinkers-pig-chase-series-1-ussp-and-all-ages-by-pig\n\n\nUSSP members will receive a $10 discount off the registration fee and are eligible for points and prizes. Go to the USSP website listed above for more information on the points system. Your membership number must be linked in your pickleballbrackets.com profile to receive the discount at time of registration.\n\nLocation: Dinkers Pickleball Club 719 S. Interstate 35E Denton\, TX 76205\nwww.dinkerspbc.com 940-312-6221 – 15 Court Indoor Dedicated Pickleball Club\n\nRound Robin format (skill/age) WITH playoffs for Gold/Silver/Bronze for skills 3.0-4.5+.\nFinal age brackets will be determined following the close of registration.\n.\nPlayers cannot play lower than their Self Player Rating or their DUPR Rating (USSP rating for USSP Players). Players may only play up in skill 1.0 from their profile rating. Tournament Director reserves the right to correct underrated players.\n\nUsing the Franklin X-40.\n\nAll paddles must be USAP sanctioned tournament approved.\n\nhttps://equipment.usapickleball.org/paddle-list/\n\n\n\n\n\nAdditional Information\n\n\n\nPayment is required to register – Early Registration\, Thru February 28th\, 2025\, $50+ ($15/event doubles)\, ($20/event singles). Regular Registration Mar 1st-16th\, 2025 $65+($15/event doubles)\, ($20/event singles). Late Registration Mar 17th\, 2025\, and later $75+ ($15/event doubles)\, ($20/event singles).\n\nPartner must register within 7 days or be moved to the wait-list.\n\nFriday = USSP Men’s and Women’s Singles – 12pm start\, All Ages Men’s and Women’s Singles 6pm start\nSaturday – Women’s Doubles\, Men’s Doubles – USSP & All Ages – Start Times will be posted on Mar 17th.\nSunday – Mixed Doubles – USSP & All Ages – Start Times will be posted on Mar 17th\, 2025.\n\nFormat:\nALL Round Robin with playoffs for Gold/Silver/Bronze. All games/matches are win by 2\nMost Round Robins are 1 to 15 but may change based on the number of players in the event. If an event has 7-9 teams\, round-robin matches will be 1 to 11 by 2. 10+ teams -multiple pools\nTop 3-4 teams advance to the playoff if only a 1 pool bracket (All matches are 1 to 15). Top 2 teams advance to the playoffs for multiple pool brackets.\n\nTD may combine brackets as needed to ensure quality play. USSP 50+ will not be combined with the all ages. 50+ players can choose to play either USSP 50+ or All Ages. USSP qualified players can play 1 event USSP\, then play all ages other events if they so choose.\n\nTournament may close at any time if maximum daily numbers are met (even if some events appear to have openings)\n\n\n\n\n\nRefund Policy\n\n\n\nAll refunds will have a $10 Admin fee before Mar 17th\, 2025. No refund of the Pickleball Brackets service fee.\n\nNo refunds after Mar 16th\, 2025.\n\nIf an event is cancelled due to weather there will be up to a 50% refund.\n\nPickleball Is Great reserves the right to refuse service at any time.\n\n\n\n\n\n\nVenue Details\n\n\n\n\n\nDinkers Pickleball Club\n\n\n719 S Interstate 35 East\nDenton\, Texas\, 76205\nUnited States\n\n\n\nParking Information\nParking Fee: No Fee\n\n\n\nAmenities\n\n\nSurface Type: Tennis Hardcourt Surface\n\n\nNumber of courts: 15\n\n\nBall used: Franklin X-40\n\n\nPlay area type: Indoor Air Conditioned\n\n\nNet type: Permanent
URL:https://pickleballisgreat.com/tournament/dinkers-pig-chase-series-1-ussp-all-ages-by-pig/
ATTACH;FMTTYPE=image/jpeg:https://pickleballisgreat.com/wp-content/uploads/2025/02/Dinkers-PB-Club.jpg
END:VEVENT
END:VCALENDAR