BEGIN:VCALENDAR
VERSION:2.0
PRODID:-//Pickleball Is Great - ECPv6.15.18//NONSGML v1.0//EN
CALSCALE:GREGORIAN
METHOD:PUBLISH
X-ORIGINAL-URL:https://pickleballisgreat.com
X-WR-CALDESC:Events for Pickleball Is Great
REFRESH-INTERVAL;VALUE=DURATION:PT1H
X-Robots-Tag:noindex
X-PUBLISHED-TTL:PT1H
BEGIN:VTIMEZONE
TZID:UTC
BEGIN:STANDARD
TZOFFSETFROM:+0000
TZOFFSETTO:+0000
TZNAME:UTC
DTSTART:20240101T000000
END:STANDARD
END:VTIMEZONE
BEGIN:VTIMEZONE
TZID:America/Los_Angeles
BEGIN:DAYLIGHT
TZOFFSETFROM:-0800
TZOFFSETTO:-0700
TZNAME:PDT
DTSTART:20240310T100000
END:DAYLIGHT
BEGIN:STANDARD
TZOFFSETFROM:-0700
TZOFFSETTO:-0800
TZNAME:PST
DTSTART:20241103T090000
END:STANDARD
BEGIN:DAYLIGHT
TZOFFSETFROM:-0800
TZOFFSETTO:-0700
TZNAME:PDT
DTSTART:20250309T100000
END:DAYLIGHT
BEGIN:STANDARD
TZOFFSETFROM:-0700
TZOFFSETTO:-0800
TZNAME:PST
DTSTART:20251102T090000
END:STANDARD
BEGIN:DAYLIGHT
TZOFFSETFROM:-0800
TZOFFSETTO:-0700
TZNAME:PDT
DTSTART:20260308T100000
END:DAYLIGHT
BEGIN:STANDARD
TZOFFSETFROM:-0700
TZOFFSETTO:-0800
TZNAME:PST
DTSTART:20261101T090000
END:STANDARD
END:VTIMEZONE
BEGIN:VTIMEZONE
TZID:America/Chicago
BEGIN:DAYLIGHT
TZOFFSETFROM:-0600
TZOFFSETTO:-0500
TZNAME:CDT
DTSTART:20240310T080000
END:DAYLIGHT
BEGIN:STANDARD
TZOFFSETFROM:-0500
TZOFFSETTO:-0600
TZNAME:CST
DTSTART:20241103T070000
END:STANDARD
BEGIN:DAYLIGHT
TZOFFSETFROM:-0600
TZOFFSETTO:-0500
TZNAME:CDT
DTSTART:20250309T080000
END:DAYLIGHT
BEGIN:STANDARD
TZOFFSETFROM:-0500
TZOFFSETTO:-0600
TZNAME:CST
DTSTART:20251102T070000
END:STANDARD
BEGIN:DAYLIGHT
TZOFFSETFROM:-0600
TZOFFSETTO:-0500
TZNAME:CDT
DTSTART:20260308T080000
END:DAYLIGHT
BEGIN:STANDARD
TZOFFSETFROM:-0500
TZOFFSETTO:-0600
TZNAME:CST
DTSTART:20261101T070000
END:STANDARD
END:VTIMEZONE
BEGIN:VTIMEZONE
TZID:America/Boise
BEGIN:DAYLIGHT
TZOFFSETFROM:-0700
TZOFFSETTO:-0600
TZNAME:MDT
DTSTART:20240310T090000
END:DAYLIGHT
BEGIN:STANDARD
TZOFFSETFROM:-0600
TZOFFSETTO:-0700
TZNAME:MST
DTSTART:20241103T080000
END:STANDARD
BEGIN:DAYLIGHT
TZOFFSETFROM:-0700
TZOFFSETTO:-0600
TZNAME:MDT
DTSTART:20250309T090000
END:DAYLIGHT
BEGIN:STANDARD
TZOFFSETFROM:-0600
TZOFFSETTO:-0700
TZNAME:MST
DTSTART:20251102T080000
END:STANDARD
BEGIN:DAYLIGHT
TZOFFSETFROM:-0700
TZOFFSETTO:-0600
TZNAME:MDT
DTSTART:20260308T090000
END:DAYLIGHT
BEGIN:STANDARD
TZOFFSETFROM:-0600
TZOFFSETTO:-0700
TZNAME:MST
DTSTART:20261101T080000
END:STANDARD
END:VTIMEZONE
BEGIN:VTIMEZONE
TZID:America/New_York
BEGIN:DAYLIGHT
TZOFFSETFROM:-0500
TZOFFSETTO:-0400
TZNAME:EDT
DTSTART:20240310T070000
END:DAYLIGHT
BEGIN:STANDARD
TZOFFSETFROM:-0400
TZOFFSETTO:-0500
TZNAME:EST
DTSTART:20241103T060000
END:STANDARD
BEGIN:DAYLIGHT
TZOFFSETFROM:-0500
TZOFFSETTO:-0400
TZNAME:EDT
DTSTART:20250309T070000
END:DAYLIGHT
BEGIN:STANDARD
TZOFFSETFROM:-0400
TZOFFSETTO:-0500
TZNAME:EST
DTSTART:20251102T060000
END:STANDARD
BEGIN:DAYLIGHT
TZOFFSETFROM:-0500
TZOFFSETTO:-0400
TZNAME:EDT
DTSTART:20260308T070000
END:DAYLIGHT
BEGIN:STANDARD
TZOFFSETFROM:-0400
TZOFFSETTO:-0500
TZNAME:EST
DTSTART:20261101T060000
END:STANDARD
END:VTIMEZONE
BEGIN:VEVENT
DTSTART;VALUE=DATE:20250404
DTEND;VALUE=DATE:20250407
DTSTAMP:20260421T210558
CREATED:20250125T010154Z
LAST-MODIFIED:20250125T010154Z
UID:10000154-1743724800-1743983999@pickleballisgreat.com
SUMMARY:2025 NEVADA Amateur Pickleball Championships powered by Carvana PPA Tour & PIG
DESCRIPTION:Tournament Description\n\n\n\n“Amateur Pickleball State Championship Series” powered by the Carvana PPA Tour!\n\n\nRegister: https://pickleballtournaments.com/tournaments/2025-nevada-amateur-pickleball-championships-powered-by-carvana-ppa-tour-and-pig\n\n\nWhich state has the best pickleball players in 2025?\n\nThe answer will be revealed soon with a set of tournaments conducted across all 50 states. Come to the World Championships where the Champions Division will feature all the medalists from each division nationwide battling against each other for pickleball supremacy.\n\nWhy should I play in the Amateur Pickleball State Championship Series?\n\nParticipating in the Amateur Pickleball State Championship Series powered by the Carvana PPA Tour offers players a unique and thrilling opportunity to showcase their skills on a bigger stage\, contributing to the vibrant and growing pickleball community.\n\nThe series\, spanning all 50 states\, provides an inclusive platform for players of varying ages and skill levels to engage in spirited competition while fostering camaraderie among enthusiasts across the nation.\n\nThe prospect of earning a coveted spot in the year-end World Championships in Dallas\, TX adds an extra layer of excitement and motivation. The Champions Division brings together the best players from across the world\, offering a grand stage for the ultimate showdown and the quest for pickleball supremacy.\n\nChampions Division\nParticipants who secure skill-level gold at a state championship are eligible for a complimentary registration fee to the 2025 Worlds Championship. This exclusive offer recognizes and rewards excellence in the Champions Division and ensures the best possible competition.\n\nGold: Free Registration\nSilver: 50% off Registration\nBronze: 25% Registration\n\nDivisions Offered\nWe are excited to offer a range of divisions to cater to players of varying age groups and skill levels:\n\nSkill Levels: 3.0\, 3.5\, 4.0\, 4.5\, 5.0\nAge Groups: 18U\, 19+\, 35+\, 50+\, 60+\, 70+\nPlaying Divisions: MD\, WD\, MXD\, MS\, WS\n\nRegistration Starts\nEarly Registration (Jan/Feb 15) = $65 + event fees\nRegistration (Feb 16/Mar) = $80 + event fees\nLate Registration (March 27) = $95 + event fees\n\nAll Doubles Events are $20 each\nAll Singles Events are $35 each\n\n\n\n\n\nAdditional Information\n\n\n\nPlayers will utilize “DUPR” rating from their player profile\n\nFriday\, Apr 4 – Women’s Doubles / Men’s Singles\nSaturday\, Apr 5 – Mixed Doubles\nSunday\, Apr 6 – Men’s Doubles / Women’s Singles\n\nFormat:\nALL Round Robin with playoffs for Gold/Silver/Bronze. All games/matches are win by 2\n\nMost Round Robins are 1 to 15 but may change based on the number of players in the event. If an event has 7 or 8 teams\, round-robin matches may be 1 to 11 by 2.\nTop 4 teams go to the playoff (Lead in matches are 1 to 15 with the Gold Match with the option of 2/3-11w/2 or 1 to 15. Bronze Match 1 to 15.\n\nTD may combine brackets as needed to ensure quality play.\nTournament may close at any time if maximum daily numbers are met (even if some events appear to have openings)\n\n\n\n\n\nRefund Policy\n\n\n\nCANCELLATION DEADLINE: 3/26/25\nIf you withdraw before the CANCELLATION DEADLINE above\, you will be issued a refund (with a $20 processing fee deducted). Refunds will be issued at the conclusion of the tournament.\n\n\n\n\n\n\nVenue Details\n\n\n\n\n\nOld Mill Pickleball Complex\n\n\n49 W Old Mill Rd\nMesquite\, Nevada\, 89027\nUnited States\n\n\n\nParking Information\nParking Fee: No Fee\nNO OVERNIGHT PARKING\n\n\n\nAmenities\n\n\nSurface Type: Tennis Hardcourt Surface\n\n\nNumber of courts: 14\n\n\nBall used: Franklin X40\n\n\nPlay area type: Outdoor Non-Covered\n\n\nNet type: Permanent\n\n\nBall website: Click here
URL:https://pickleballisgreat.com/tournament/2025-nevada-amateur-pickleball-championships-powered-by-carvana-ppa-tour-pig/
ATTACH;FMTTYPE=image/jpeg:https://pickleballisgreat.com/wp-content/uploads/2025/01/Pickleball-State-Championship-Series.jpg
END:VEVENT
BEGIN:VEVENT
DTSTART;VALUE=DATE:20250404
DTEND;VALUE=DATE:20250407
DTSTAMP:20260421T210558
CREATED:20250204T003930Z
LAST-MODIFIED:20250204T003930Z
UID:10000168-1743724800-1743983999@pickleballisgreat.com
SUMMARY:2025 OREGON Spring Classic ALL AGES + USSP
DESCRIPTION:Tournament Description\n\n\n\nAll skill and ages welcome\n\nUSSP Senior events are a Age/Skill format (5 year breaks) – no membership is required\, but if you have your USSP membership number in your profile\, you will get a $10 rebate/discount.\n\nRegister: https://pickleballtournaments.com/tournaments/2025-oregon-spring-classic-all-ages-ussp\n\nInstructions for adding your membership number to your profile – https://www.usseniorpickleball.com/pb-ussp-training\n\nRegistration Starts\nEarly Registration (Feb) = $45 + event fees\nRegistration (March) = $60 + event fees\nLate Registration (after deadline) = $75 + event fees\n\nAll Events are $15 each\n\n\n\n\n\nAdditional Information\n\n\n\nPlayers will utilize “USSP” rating from their player profile\n\nFriday\, Apr 4 – Women’s Doubles / Men’s Singles\nSaturday\, Apr 5 – Mixed Doubles\nSunday\, Apr 6 – Men’s Doubles / Women’s Singles\n\nFormat:\nALL Round Robin with playoffs for Gold/Silver/Bronze. All games/matches are win by 2\n\nMost Round Robins are 1 to 15 but may change based on the number of players in the event. If an event has 7 or 8 teams\, round-robin matches may be 1 to 11 by 2.\nTop 4 teams go to the playoff (Lead in matches are 1 to 15 with the Gold Match with the option of 2/3-11w/2 or 1 to 15. Bronze Match 1 to 15.\n\nTD may combine brackets as needed to ensure quality play.\nTournament may close at any time if maximum daily numbers are met (even if some events appear to have openings)\n\n\n\n\n\nRefund Policy\n\n\n\nCANCELLATION DEADLINE: 3/26/25\nIf you withdraw before the CANCELLATION DEADLINE above\, you will be issued a refund (with a $20 processing fee deducted). Refunds will be issued at the conclusion of the tournament.\n\n\n\n\n\n\nVenue Details\n\n\n\n\n\nThe Premier Pickleball Club\n\n\n2405 SW First St\nRedmond\, Oregon\, 97556\nUnited States\n\n\n\nParking Information\nParking Fee: No Fee\n\n\n\nAmenities\n\n\nSurface Type: Pickleball Hardcourt Surface\n\n\nNumber of courts: 9\n\n\nBall used: Franklin X40\n\n\nPlay area type: Indoor\n\n\nNet type: Portable\n\n\nBall website: Click here
URL:https://pickleballisgreat.com/tournament/2025-oregon-spring-classic-all-ages-ussp/
ATTACH;FMTTYPE=image/jpeg:https://pickleballisgreat.com/wp-content/uploads/2025/02/Oregon-Spring-Classic.jpg
END:VEVENT
BEGIN:VEVENT
DTSTART;VALUE=DATE:20250404
DTEND;VALUE=DATE:20250407
DTSTAMP:20260421T210558
CREATED:20250204T004355Z
LAST-MODIFIED:20250214T191207Z
UID:10000169-1743724800-1743983999@pickleballisgreat.com
SUMMARY:2025 ILLINOIS #1 Amateur Pickleball Championships powered by Carvana PPA Tour & PIG
DESCRIPTION:Tournament Description\n\n\n\n“Amateur Pickleball State Championship Series” powered by the Carvana PPA Tour!\n\nRegister: https://pickleballtournaments.com/tournaments/2025-illinois-amateur-pickleball-championships-powered-by-carvana-ppa-tour-and-pig\n\nWhich state has the best pickleball players in 2025?\n\nThe answer will be revealed soon with a set of tournaments conducted across all 50 states. Come to the World Championships where the Champions Division will feature all the medalists from each division nationwide battling against each other for pickleball supremacy.\n\nWhy should I play in the Amateur Pickleball State Championship Series?\n\nParticipating in the Amateur Pickleball State Championship Series powered by the Carvana PPA Tour offers players a unique and thrilling opportunity to showcase their skills on a bigger stage\, contributing to the vibrant and growing pickleball community.\n\nThe series\, spanning all 50 states\, provides an inclusive platform for players of varying ages and skill levels to engage in spirited competition while fostering camaraderie among enthusiasts across the nation.\n\nThe prospect of earning a coveted spot in the year-end World Championships in Dallas\, TX adds an extra layer of excitement and motivation. The Champions Division brings together the best players from across the world\, offering a grand stage for the ultimate showdown and the quest for pickleball supremacy.\n\nChampions Division\nParticipants who secure skill-level gold at a state championship are eligible for a complimentary registration fee to the 2025 Worlds Championship. This exclusive offer recognizes and rewards excellence in the Champions Division and ensures the best possible competition.\n\nGold: Free Registration\nSilver: 50% off Registration\nBronze: 25% Registration\n\nDivisions Offered\nWe are excited to offer a range of divisions to cater to players of varying age groups and skill levels:\n\nSkill Levels: 3.0\, 3.5\, 4.0\, 4.5\, 5.0\nAge Groups: 18U\, 19+\, 35+\, 50+\, 60+\, 70+\nPlaying Divisions: MD\, WD\, MXD\, MS\, WS\n\nRegistration Starts\nEarly Registration (Jan/Feb 15) = $65 + event fees\nRegistration (Feb 16/Mar) = $80 + event fees\nLate Registration (March 27) = $95 + event fees\n\nAll Doubles Events are $20 each\nAll Singles Events are $35 each\n\n\n\n\n\nAdditional Information\n\n\n\nPlayers will utilize “DUPR” rating from their player profile\n\nFriday\, Apr 4 – Women’s Doubles / Men’s Singles\nSaturday\, Apr 5 – Mixed Doubles\nSunday\, Apr 6 – Men’s Doubles / Women’s Singles\n\nFormat:\nALL Round Robin with playoffs for Gold/Silver/Bronze. All games/matches are win by 2\n\nMost Round Robins are 1 to 15 but may change based on the number of players in the event. If an event has 7 or 8 teams\, round-robin matches may be 1 to 11 by 2.\nTop 4 teams go to the playoff (Lead in matches are 1 to 15 with the Gold Match with the option of 2/3-11w/2 or 1 to 15. Bronze Match 1 to 15.\n\nTD may combine brackets as needed to ensure quality play.\nTournament may close at any time if maximum daily numbers are met (even if some events appear to have openings)\n\n\n\n\n\nRefund Policy\n\n\n\nCANCELLATION DEADLINE: 3/26/25\nIf you withdraw before the CANCELLATION DEADLINE above\, you will be issued a refund (with a $20 processing fee deducted). Refunds will be issued at the conclusion of the tournament.\n\n\n\n\n\n\nVenue Details\n\n\n\n\n\nThe PicklR\n\n\n740 Illinois Rte 59\nNaperville\, Illinois\, 60540\nUnited States\n\n\n\nParking Information\nParking Fee: No Fee\n\n\n\nAmenities\n\n\nSurface Type: Tennis Hardcourt Surface\n\n\nNumber of courts: 9\n\n\nBall used: Franklin X40\n\n\nPlay area type: Indoor\n\n\nNet type: Permanent\n\n\nBall website: Click here
URL:https://pickleballisgreat.com/tournament/2025-illinois-amateur-pickleball-championships-powered-by-carvana-ppa-tour-pig/
ATTACH;FMTTYPE=image/jpeg:https://pickleballisgreat.com/wp-content/uploads/2025/01/Pickleball-State-Championship-Series.jpg
END:VEVENT
BEGIN:VEVENT
DTSTART;VALUE=DATE:20250404
DTEND;VALUE=DATE:20250407
DTSTAMP:20260421T210558
CREATED:20250204T004943Z
LAST-MODIFIED:20250204T004943Z
UID:10000170-1743724800-1743983999@pickleballisgreat.com
SUMMARY:2025 NEVADA Amateur Pickleball Championships powered by Carvana PPA Tour & PIG
DESCRIPTION:Tournament Description\n\n\n\n“Amateur Pickleball State Championship Series” powered by the Carvana PPA Tour!\n\n\nRegister: https://pickleballtournaments.com/tournaments/2025-nevada-amateur-pickleball-championships-powered-by-carvana-ppa-tour-and-pig\n\n\nWhich state has the best pickleball players in 2025?\n\nThe answer will be revealed soon with a set of tournaments conducted across all 50 states. Come to the World Championships where the Champions Division will feature all the medalists from each division nationwide battling against each other for pickleball supremacy.\n\nWhy should I play in the Amateur Pickleball State Championship Series?\n\nParticipating in the Amateur Pickleball State Championship Series powered by the Carvana PPA Tour offers players a unique and thrilling opportunity to showcase their skills on a bigger stage\, contributing to the vibrant and growing pickleball community.\n\nThe series\, spanning all 50 states\, provides an inclusive platform for players of varying ages and skill levels to engage in spirited competition while fostering camaraderie among enthusiasts across the nation.\n\nThe prospect of earning a coveted spot in the year-end World Championships in Dallas\, TX adds an extra layer of excitement and motivation. The Champions Division brings together the best players from across the world\, offering a grand stage for the ultimate showdown and the quest for pickleball supremacy.\n\nChampions Division\nParticipants who secure skill-level gold at a state championship are eligible for a complimentary registration fee to the 2025 Worlds Championship. This exclusive offer recognizes and rewards excellence in the Champions Division and ensures the best possible competition.\n\nGold: Free Registration\nSilver: 50% off Registration\nBronze: 25% Registration\n\nDivisions Offered\nWe are excited to offer a range of divisions to cater to players of varying age groups and skill levels:\n\nSkill Levels: 3.0\, 3.5\, 4.0\, 4.5\, 5.0\nAge Groups: 18U\, 19+\, 35+\, 50+\, 60+\, 70+\nPlaying Divisions: MD\, WD\, MXD\, MS\, WS\n\nRegistration Starts\nEarly Registration (Jan/Feb 15) = $65 + event fees\nRegistration (Feb 16/Mar) = $80 + event fees\nLate Registration (March 27) = $95 + event fees\n\nAll Doubles Events are $20 each\nAll Singles Events are $35 each\n\n\n\n\n\nAdditional Information\n\n\n\nPlayers will utilize “DUPR” rating from their player profile\n\nFriday\, Apr 4 – Women’s Doubles / Men’s Singles\nSaturday\, Apr 5 – Mixed Doubles\nSunday\, Apr 6 – Men’s Doubles / Women’s Singles\n\nFormat:\nALL Round Robin with playoffs for Gold/Silver/Bronze. All games/matches are win by 2\n\nMost Round Robins are 1 to 15 but may change based on the number of players in the event. If an event has 7 or 8 teams\, round-robin matches may be 1 to 11 by 2.\nTop 4 teams go to the playoff (Lead in matches are 1 to 15 with the Gold Match with the option of 2/3-11w/2 or 1 to 15. Bronze Match 1 to 15.\n\nTD may combine brackets as needed to ensure quality play.\nTournament may close at any time if maximum daily numbers are met (even if some events appear to have openings)\n\n\n\n\n\nRefund Policy\n\n\n\nCANCELLATION DEADLINE: 3/26/25\nIf you withdraw before the CANCELLATION DEADLINE above\, you will be issued a refund (with a $20 processing fee deducted). Refunds will be issued at the conclusion of the tournament.\n\n\n\n\n\n\nVenue Details\n\n\n\n\n\nOld Mill Pickleball Complex\n\n\n49 W Old Mill Rd\nMesquite\, Nevada\, 89027\nUnited States\n\n\n\nParking Information\nParking Fee: No Fee\nNO OVERNIGHT PARKING\n\n\n\nAmenities\n\n\nSurface Type: Tennis Hardcourt Surface\n\n\nNumber of courts: 14\n\n\nBall used: Franklin X40\n\n\nPlay area type: Outdoor Non-Covered\n\n\nNet type: Permanent\n\n\nBall website: Click here
URL:https://pickleballisgreat.com/tournament/2025-nevada-amateur-pickleball-championships-powered-by-carvana-ppa-tour-pig-2/
ATTACH;FMTTYPE=image/jpeg:https://pickleballisgreat.com/wp-content/uploads/2025/01/Pickleball-State-Championship-Series.jpg
END:VEVENT
BEGIN:VEVENT
DTSTART;VALUE=DATE:20250404
DTEND;VALUE=DATE:20250407
DTSTAMP:20260421T210558
CREATED:20250205T021433Z
LAST-MODIFIED:20250302T070451Z
UID:10000172-1743724800-1743983999@pickleballisgreat.com
SUMMARY:Senior Spring Classic USSP by PIG
DESCRIPTION:Rt.12 Pickle is excited to host the USSP Senior (50+) Spring Classic Tournament by PIG\n\n\nApril 4 – April 6\, 2025\n\n\n\n\n\n\n\n\nFriday\, Apr 4 – Women’s DoublesSaturday\, Apr 5 – Mixed DoublesSunday\, Apr 6 – Men’s DoublesRegistration on the day of play will start at 7AM. Play expected to start by 8:30AM.\n\n\nRegistration open to all players 50 and older (ends March 27th): Cost: $75.00; 2nd event $25.00\n\n\n\n\nRegister\n\n\nUSSP Senior events are a Age/Skill format – no membership is required\, but if you have your USSP membership number in your profile\, you will get a $10 rebate/discount.​\n​Brackets by Age: 50-54\, 55-59\, 60-64\, 65-69\, 70-74\, 75-80\, 80+\nThen by Skill: 3.0 and under\, 3.5\, 4.0 and 4.5+ \nBrackets will be combined by age then skill if necessary \n\n\nFormat: \n\n\nALL Round Robin with playoffs for Gold/Silver/Bronze. All games/matches are win by 2. \n\n\nMost Round Robins are game to 15 but may change based on the number of players in the event. If an event has 7 or 8 teams\, round-robin matches may be 1 game to 11 and win by 2. \n\n\nTop 4 teams go to the playoff. Lead in matches are 1 game to 15 with the Gold Match with the option of 2 out of 3 games to 11 and win by 2  or 1 game to 15. Bronze Match 1 game to 15.  \n\n\nTournament Director may combine brackets as needed to ensure quality play. \n\n\nTournament may close at any time if maximum daily numbers are met (even if some events appear to have openings).
URL:https://pickleballisgreat.com/tournament/senior-spring-classic-ussp-by-pig/
ATTACH;FMTTYPE=image/jpeg:https://pickleballisgreat.com/wp-content/uploads/2025/02/Senior-Spring-Classic.jpg
END:VEVENT
END:VCALENDAR